Workbook

Sheet campaigns
A1: CAMPAIGN_NAME | B1: CAMPAIGN_CODE | C1: PLATFORM | D1: CSR_CODE | E1: CRUISE_TYPE | F1: CHIEF_SCIENTIST | G1: START_DATE | H1: END_DATE | I1: AREA_COVERED | J1: PORT_OF_DEPARTURE | K1: PORT_OF_ARRIVAL | L1: CRUISE_NARRATIVE
A2: BU2023/20 | B2: BU2023/20 | C2: BU11 | E2: Ecosystem | F2: Bruno Vlaeminck | G2: 45220 | H2: 45224 | I2: Belgian part of the North Sea | J2: Zeebrugge | K2: Zeebrugge

Sheet events
A1: CAMPAIGN | B1: TRAJECTORY_TRANSECT | L1: STATIONS | AF1: EARS - EN-ROUTE_DATA
A2: CAMPAIGN_CODE | B2: TRANSECT_NAME | C2: TRAJECTORY_ORIGIN_NAME | D2: REF_START_LATITUDE | E2: REF_START_LONGITUDE | F2: REF_END_LATITUDE | G2: REF_END_LONGITUDE | H2: GRADIENT | I2: TOTAL_LENGHT | J2: TRANSECT_END_DETERMINATION | K2: DEPTH_ADJUSTMENT | L2: STATION_CODE | M2: TRANSECT_DISTANCE FROM_ORIGIN | N2: STATION_REF_LATITUDE | O2: STATION_REF_LONGITUDE | P2: REF_BOTTOM_DEPTH | Q2: STATION_TYPE | R2: MONITORING_STATION_TYPE | S2: EVENT_NAME | T2: EVENT_LABEL | U2: EVENT_ACTION | V2: EVENT_PROCESS | W2: INSTRUMENT_TYPE_L05 | X2: ICES_SAMPLER_TYPE | Y2: INSTRUMENT_MODEL_L22 | Z2: EVENT_TIMESTAMP | AA2: EVENT_TIME_FLAG | AB2: PROCESS_DEPTH | AC2: AUTHOR | AD2: LABORATORY | AE2: PROJECT_ACRONYM | AF2: ACQUISITION_TIMESTAMP | AG2: ACTUAL_LATITUDE | AH2: ACTUAL_LONGITUDE | AI2: BOTTOM_DEPTH | AJ2: HEADING | AK2: COURSE_OVER_GROUND | AL2: SPEED_OVER_GROUND | AM2: SURFACE_WATER_TEMPERATURE | AN2: SALINITY | AO2: CONDUCTIVITY | AP2: SIGMA_T | AQ2: WIND_SPEED | AR2: WIND_DIRECTION | AS2: AIR_TEMPERATURE | AT2: HUMIDITY | AU2: AIR_PRESSURE | AV2: SOLAR_RADIATION
A3: =campaigns!$B$2 -> BU2023/20 | L3: COMOFISH_01 | N3: 51.244837 | O3: 2.722527 | P3: 17.461176 | Q3: MC | R3: B | S3: =CONCATENATE(A3,"-",L3) -> BU2023/20-COMOFISH_01 | U3: OnBottom | V3: Sample collection | W3: sediment grabs | X3: VV | Y3: Van Veen grab | Z3: 45220 | AA3: time unknown | AB3: 20.17 | AC3: Christelle Jammar | AD3: Ugent | AE3: COMOFISH | AG3: 51.244837 | AH3: 2.722527 | AI3: 20.17
A4: =campaigns!$B$2 -> BU2023/20 | L4: COMOFISH_02 | N4: 51.238612 | O4: 2.708413 | P4: 17.461176 | Q4: MC | R4: B | S4: =CONCATENATE(A4,"-",L4) -> BU2023/20-COMOFISH_02 | U4: OnBottom | V4: Sample collection | W4: sediment grabs | X4: VV | Y4: Van Veen grab | Z4: 45220 | AA4: time unknown | AB4: 19.5 | AC4: Christelle Jammar | AD4: Ugent | AE4: COMOFISH | AG4: 51.238612 | AH4: 2.708413 | AI4: 19.5
A5: =campaigns!$B$2 -> BU2023/20 | L5: COMOFISH_03 | N5: 51.244 | O5: 2.7357982 | P5: 17.461176 | Q5: MC | R5: B | S5: =CONCATENATE(A5,"-",L5) -> BU2023/20-COMOFISH_03 | U5: OnBottom | V5: Sample collection | W5: sediment grabs | X5: VV | Y5: Van Veen grab | Z5: 45220 | AA5: time unknown | AB5: 18.48 | AC5: Christelle Jammar | AD5: Ugent | AE5: COMOFISH | AG5: 51.244 | AH5: 2.7357982 | AI5: 18.48
A6: =campaigns!$B$2 -> BU2023/20 | L6: COMOFISH_04 | N6: 51.248823 | O6: 2.7458406 | P6: 17.461176 | Q6: MC | R6: B | S6: =CONCATENATE(A6,"-",L6) -> BU2023/20-COMOFISH_04 | U6: OnBottom | V6: Sample collection | W6: sediment grabs | X6: VV | Y6: Van Veen grab | Z6: 45220 | AA6: time unknown | AB6: 18.129999 | AC6: Christelle Jammar | AD6: Ugent | AE6: COMOFISH | AG6: 51.248823 | AH6: 2.7458406 | AI6: 18.129999
A7: =campaigns!$B$2 -> BU2023/20 | L7: COMOFISH_05 | N7: 51.253216 | O7: 2.7583196 | P7: 17.461176 | Q7: MC | R7: B | S7: =CONCATENATE(A7,"-",L7) -> BU2023/20-COMOFISH_05 | U7: OnBottom | V7: Sample collection | W7: sediment grabs | X7: VV | Y7: Van Veen grab | Z7: 45220 | AA7: time unknown | AC7: Christelle Jammar | AD7: Ugent | AE7: COMOFISH | AG7: 51.253216 | AH7: 2.7583196
A8: =campaigns!$B$2 -> BU2023/20 | L8: COMOFISH_06 | N8: 51.254988 | O8: 2.7477691 | P8: 17.461176 | Q8: MC | R8: B | S8: =CONCATENATE(A8,"-",L8) -> BU2023/20-COMOFISH_06 | U8: OnBottom | V8: Sample collection | W8: sediment grabs | X8: VV | Y8: Van Veen grab | Z8: 45220 | AA8: time unknown | AB8: 20.110001 | AC8: Christelle Jammar | AD8: Ugent | AE8: COMOFISH | AG8: 51.254988 | AH8: 2.7477691 | AI8: 20.110001
A9: =campaigns!$B$2 -> BU2023/20 | L9: COMOFISH_07 | N9: 51.249724 | O9: 2.734949 | P9: 17.461176 | Q9: MC | R9: B | S9: =CONCATENATE(A9,"-",L9) -> BU2023/20-COMOFISH_07 | U9: OnBottom | V9: Sample collection | W9: sediment grabs | X9: VV | Y9: Van Veen grab | Z9: 45220 | AA9: time unknown | AB9: 20.450001 | AC9: Christelle Jammar | AD9: Ugent | AE9: COMOFISH | AG9: 51.249724 | AH9: 2.734949 | AI9: 20.450001
A10: =campaigns!$B$2 -> BU2023/20 | L10: COMOFISH_08 | N10: 51.240004 | O10: 2.7250319 | P10: 17.461176 | Q10: MC | R10: B | S10: =CONCATENATE(A10,"-",L10) -> BU2023/20-COMOFISH_08 | U10: OnBottom | V10: Sample collection | W10: sediment grabs | X10: VV | Y10: Van Veen grab | Z10: 45220 | AA10: time unknown | AB10: 18.74 | AC10: Christelle Jammar | AD10: Ugent | AE10: COMOFISH | AG10: 51.240004 | AH10: 2.7250319 | AI10: 18.74
A11: =campaigns!$B$2 -> BU2023/20 | L11: COMOFISH_09 | N11: 51.236049 | O11: 2.7135975 | P11: 17.461176 | Q11: MC | R11: B | S11: =CONCATENATE(A11,"-",L11) -> BU2023/20-COMOFISH_09 | U11: OnBottom | V11: Sample collection | W11: sediment grabs | X11: VV | Y11: Van Veen grab | Z11: 45220 | AA11: time unknown | AB11: 18.719999 | AC11: Christelle Jammar | AD11: Ugent | AE11: COMOFISH | AG11: 51.236049 | AH11: 2.7135975 | AI11: 18.719999
A12: =campaigns!$B$2 -> BU2023/20 | L12: COMOFISH_10 | N12: 51.231006 | O12: 2.7035616 | P12: 17.461176 | Q12: MC | R12: B | S12: =CONCATENATE(A12,"-",L12) -> BU2023/20-COMOFISH_10 | U12: OnBottom | V12: Sample collection | W12: sediment grabs | X12: VV | Y12: Van Veen grab | Z12: 45220 | AA12: time unknown | AB12: 13 | AC12: Christelle Jammar | AD12: Ugent | AE12: COMOFISH | AG12: 51.231006 | AH12: 2.7035616 | AI12: 13
A13: =campaigns!$B$2 -> BU2023/20 | L13: COMOFISH_11 | N13: 51.296424 | O13: 2.7759962 | P13: 17.461176 | Q13: MC | R13: B | S13: =CONCATENATE(A13,"-",L13) -> BU2023/20-COMOFISH_11 | U13: OnBottom | V13: Sample collection | W13: sediment grabs | X13: VV | Y13: Van Veen grab | Z13: 45220 | AA13: time unknown | AC13: Christelle Jammar | AD13: Ugent | AE13: COMOFISH | AG13: 51.296424 | AH13: 2.7759962
A14: =campaigns!$B$2 -> BU2023/20 | L14: COMOFISH_12 | N14: 51.301688 | O14: 2.7870731 | P14: 17.461176 | Q14: MC | R14: B | S14: =CONCATENATE(A14,"-",L14) -> BU2023/20-COMOFISH_12 | U14: OnBottom | V14: Sample collection | W14: sediment grabs | X14: VV | Y14: Van Veen grab | Z14: 45220 | AA14: time unknown | AB14: 14.89 | AC14: Christelle Jammar | AD14: Ugent | AE14: COMOFISH | AG14: 51.301688 | AH14: 2.7870731 | AI14: 14.89
A15: =campaigns!$B$2 -> BU2023/20 | L15: COMOFISH_13 | N15: 51.326423 | O15: 2.8140319 | P15: 17.461176 | Q15: MC | R15: B | S15: =CONCATENATE(A15,"-",L15) -> BU2023/20-COMOFISH_13 | U15: OnBottom | V15: Sample collection | W15: sediment grabs | X15: VV | Y15: Van Veen grab | Z15: 45220 | AA15: time unknown | AC15: Christelle Jammar | AD15: Ugent | AE15: COMOFISH | AG15: 51.326423 | AH15: 2.8140319
A16: =campaigns!$B$2 -> BU2023/20 | L16: COMOFISH_14 | N16: 51.331247 | O16: 2.8240742 | P16: 17.461176 | Q16: MC | R16: B | S16: =CONCATENATE(A16,"-",L16) -> BU2023/20-COMOFISH_14 | U16: OnBottom | V16: Sample collection | W16: sediment grabs | X16: VV | Y16: Van Veen grab | Z16: 45220 | AA16: time unknown | AB16: 18.530001 | AC16: Christelle Jammar | AD16: Ugent | AE16: COMOFISH | AG16: 51.331247 | AH16: 2.8240742 | AI16: 18.530001
A17: =campaigns!$B$2 -> BU2023/20 | L17: COMOFISH_15 | N17: 51.335639 | O17: 2.8365533 | P17: 17.461176 | Q17: MC | R17: B | S17: =CONCATENATE(A17,"-",L17) -> BU2023/20-COMOFISH_15 | U17: OnBottom | V17: Sample collection | W17: sediment grabs | X17: VV | Y17: Van Veen grab | Z17: 45220 | AA17: time unknown | AB17: 17.559999 | AC17: Christelle Jammar | AD17: Ugent | AE17: COMOFISH | AG17: 51.335639 | AH17: 2.8365533 | AI17: 17.559999
A18: =campaigns!$B$2 -> BU2023/20 | L18: COMOFISH_16 | N18: 51.185277 | O18: 2.6719715 | P18: 17.461176 | Q18: MC | R18: B | S18: =CONCATENATE(A18,"-",L18) -> BU2023/20-COMOFISH_16 | U18: OnBottom | V18: Sample collection | W18: sediment grabs | X18: VV | Y18: Van Veen grab | Z18: 45220 | AA18: time unknown | AB18: 16.01 | AC18: Christelle Jammar | AD18: Ugent | AE18: COMOFISH | AG18: 51.185277 | AH18: 2.6719715 | AI18: 16.01
A19: =campaigns!$B$2 -> BU2023/20 | L19: COMOFISH_17 | N19: 51.1858 | O19: 2.6731367 | P19: 17.461176 | Q19: MC | R19: B | S19: =CONCATENATE(A19,"-",L19) -> BU2023/20-COMOFISH_17 | U19: OnBottom | V19: Sample collection | W19: sediment grabs | X19: VV | Y19: Van Veen grab | Z19: 45220 | AA19: time unknown | AB19: 16.1 | AC19: Christelle Jammar | AD19: Ugent | AE19: COMOFISH | AG19: 51.1858 | AH19: 2.6731367 | AI19: 16.1
A20: =campaigns!$B$2 -> BU2023/20 | L20: COMOFISH_18 | N20: 51.18789 | O20: 2.6777939 | P20: 17.461176 | Q20: MC | R20: B | S20: =CONCATENATE(A20,"-",L20) -> BU2023/20-COMOFISH_18 | U20: OnBottom | V20: Sample collection | W20: sediment grabs | X20: VV | Y20: Van Veen grab | Z20: 45220 | AA20: time unknown | AB20: 15.87 | AC20: Christelle Jammar | AD20: Ugent | AE20: COMOFISH | AG20: 51.18789 | AH20: 2.6777939 | AI20: 15.87
A21: =campaigns!$B$2 -> BU2023/20 | L21: COMOFISH_19 | N21: 51.19442 | O21: 2.6923527 | P21: 17.461176 | Q21: MC | R21: B | S21: =CONCATENATE(A21,"-",L21) -> BU2023/20-COMOFISH_19 | U21: OnBottom | V21: Sample collection | W21: sediment grabs | X21: VV | Y21: Van Veen grab | Z21: 45220 | AA21: time unknown | AB21: 15.63 | AC21: Christelle Jammar | AD21: Ugent | AE21: COMOFISH | AG21: 51.19442 | AH21: 2.6923527 | AI21: 15.63
A22: =campaigns!$B$2 -> BU2023/20 | L22: COMOFISH_20 | N22: 51.205909 | O22: 2.7179871 | P22: 17.461176 | Q22: MC | R22: B | S22: =CONCATENATE(A22,"-",L22) -> BU2023/20-COMOFISH_20 | U22: OnBottom | V22: Sample collection | W22: sediment grabs | X22: VV | Y22: Van Veen grab | Z22: 45220 | AA22: time unknown | AB22: 14.95 | AC22: Christelle Jammar | AD22: Ugent | AE22: COMOFISH | AG22: 51.205909 | AH22: 2.7179871 | AI22: 14.95

Sheet samples
A1: EVENT | B1: SAMPLE | T1: SAMPLING_METHOD_COMMUNITY_PLANKTON
A2: EVENT_NAME | B2: SAMPLE_CODE | C2: SAMPLE_LABEL | D2: SAMPLE_NUMBER | E2: SAMPLING_START_DATE | F2: SAMPLING_END_DATE | G2: TIME_FLAG | H2: DTYPE | I2: REALM | J2: NUNBER_OF_AGG_SAMPLES | K2: SAMPLING_DEPTH_CATEGORY | L2: ACTUAL_SAMPLING_DEPTH | M2: ACTUAL_SAMPLING_DEPTH_FLAG | N2: MIN_SAMPLING_DEPTH | O2: MAX_SAMPLING_DEPTH | P2: VOLUME | Q2: SURFACE | R2: SAMPLE_DIAMETER | S2: EXCEPTIONAL_CIRCUMSTANCES | T2: FLOW_VOLIME_OF_WATER | U2: FLOW_CALCULATION_METHOD | V2: SUBSTRAT
A3: =events!$S3 -> BU2023/20-COMOFISH_01 | B3: =CONCATENATE(A3,"-",C3) -> BU2023/20-COMOFISH_01-VV1 | C3: VV1 | D3: 1 | E3: 45220 | F3: 45220 | G3: time unknown | H3: ZB | I3: Benthos | J3: 1 | K3: bottom | L3: 20.17 | M3: acceptable | Q3: 0.1
A4: =events!$S4 -> BU2023/20-COMOFISH_02 | B4: =CONCATENATE(A4,"-",C4) -> BU2023/20-COMOFISH_02-VV1 | C4: VV1 | D4: 1 | E4: 45220 | F4: 45220 | G4: time unknown | H4: ZB | I4: Benthos | J4: 1 | K4: bottom | L4: 19.5 | M4: acceptable | Q4: 0.1
A5: =events!$S5 -> BU2023/20-COMOFISH_03 | B5: =CONCATENATE(A5,"-",C5) -> BU2023/20-COMOFISH_03-VV1 | C5: VV1 | D5: 1 | E5: 45220 | F5: 45220 | G5: time unknown | H5: ZB | I5: Benthos | J5: 1 | K5: bottom | L5: 18.48 | M5: acceptable | Q5: 0.1
A6: =events!$S6 -> BU2023/20-COMOFISH_04 | B6: =CONCATENATE(A6,"-",C6) -> BU2023/20-COMOFISH_04-VV1 | C6: VV1 | D6: 1 | E6: 45220 | F6: 45220 | G6: time unknown | H6: ZB | I6: Benthos | J6: 1 | K6: bottom | L6: 18.129999 | M6: acceptable | Q6: 0.1
A7: =events!$S7 -> BU2023/20-COMOFISH_05 | B7: =CONCATENATE(A7,"-",C7) -> BU2023/20-COMOFISH_05-VV1 | C7: VV1 | D7: 1 | E7: 45220 | F7: 45220 | G7: time unknown | H7: ZB | I7: Benthos | J7: 1 | K7: bottom | M7: acceptable | Q7: 0.1
A8: =events!$S8 -> BU2023/20-COMOFISH_06 | B8: =CONCATENATE(A8,"-",C8) -> BU2023/20-COMOFISH_06-VV1 | C8: VV1 | D8: 1 | E8: 45220 | F8: 45220 | G8: time unknown | H8: ZB | I8: Benthos | J8: 1 | K8: bottom | L8: 20.110001 | M8: acceptable | Q8: 0.1
A9: =events!$S9 -> BU2023/20-COMOFISH_07 | B9: =CONCATENATE(A9,"-",C9) -> BU2023/20-COMOFISH_07-VV1 | C9: VV1 | D9: 1 | E9: 45220 | F9: 45220 | G9: time unknown | H9: ZB | I9: Benthos | J9: 1 | K9: bottom | L9: 20.450001 | M9: acceptable | Q9: 0.1
A10: =events!$S10 -> BU2023/20-COMOFISH_08 | B10: =CONCATENATE(A10,"-",C10) -> BU2023/20-COMOFISH_08-VV1 | C10: VV1 | D10: 1 | E10: 45220 | F10: 45220 | G10: time unknown | H10: ZB | I10: Benthos | J10: 1 | K10: bottom | L10: 18.74 | M10: acceptable | Q10: 0.1
A11: =events!$S11 -> BU2023/20-COMOFISH_09 | B11: =CONCATENATE(A11,"-",C11) -> BU2023/20-COMOFISH_09-VV1 | C11: VV1 | D11: 1 | E11: 45220 | F11: 45220 | G11: time unknown | H11: ZB | I11: Benthos | J11: 1 | K11: bottom | L11: 18.719999 | M11: acceptable | Q11: 0.1
A12: =events!$S12 -> BU2023/20-COMOFISH_10 | B12: =CONCATENATE(A12,"-",C12) -> BU2023/20-COMOFISH_10-VV1 | C12: VV1 | D12: 1 | E12: 45220 | F12: 45220 | G12: time unknown | H12: ZB | I12: Benthos | J12: 1 | K12: bottom | L12: 13 | M12: acceptable | Q12: 0.1
A13: =events!$S13 -> BU2023/20-COMOFISH_11 | B13: =CONCATENATE(A13,"-",C13) -> BU2023/20-COMOFISH_11-VV1 | C13: VV1 | D13: 1 | E13: 45220 | F13: 45220 | G13: time unknown | H13: ZB | I13: Benthos | J13: 1 | K13: bottom | M13: acceptable | Q13: 0.1
A14: =events!$S14 -> BU2023/20-COMOFISH_12 | B14: =CONCATENATE(A14,"-",C14) -> BU2023/20-COMOFISH_12-VV1 | C14: VV1 | D14: 1 | E14: 45220 | F14: 45220 | G14: time unknown | H14: ZB | I14: Benthos | J14: 1 | K14: bottom | L14: 14.89 | M14: acceptable | Q14: 0.1
A15: =events!$S15 -> BU2023/20-COMOFISH_13 | B15: =CONCATENATE(A15,"-",C15) -> BU2023/20-COMOFISH_13-VV1 | C15: VV1 | D15: 1 | E15: 45220 | F15: 45220 | G15: time unknown | H15: ZB | I15: Benthos | J15: 1 | K15: bottom | M15: acceptable | Q15: 0.1
A16: =events!$S16 -> BU2023/20-COMOFISH_14 | B16: =CONCATENATE(A16,"-",C16) -> BU2023/20-COMOFISH_14-VV1 | C16: VV1 | D16: 1 | E16: 45220 | F16: 45220 | G16: time unknown | H16: ZB | I16: Benthos | J16: 1 | K16: bottom | L16: 18.530001 | M16: acceptable | Q16: 0.1
A17: =events!$S17 -> BU2023/20-COMOFISH_15 | B17: =CONCATENATE(A17,"-",C17) -> BU2023/20-COMOFISH_15-VV1 | C17: VV1 | D17: 1 | E17: 45220 | F17: 45220 | G17: time unknown | H17: ZB | I17: Benthos | J17: 1 | K17: bottom | L17: 17.559999 | M17: acceptable | Q17: 0.1
A18: =events!$S18 -> BU2023/20-COMOFISH_16 | B18: =CONCATENATE(A18,"-",C18) -> BU2023/20-COMOFISH_16-VV1 | C18: VV1 | D18: 1 | E18: 45220 | F18: 45220 | G18: time unknown | H18: ZB | I18: Benthos | J18: 1 | K18: bottom | L18: 16.01 | M18: acceptable | Q18: 0.1
A19: =events!$S19 -> BU2023/20-COMOFISH_17 | B19: =CONCATENATE(A19,"-",C19) -> BU2023/20-COMOFISH_17-VV1 | C19: VV1 | D19: 1 | E19: 45220 | F19: 45220 | G19: time unknown | H19: ZB | I19: Benthos | J19: 1 | K19: bottom | L19: 16.1 | M19: acceptable | Q19: 0.1
A20: =events!$S20 -> BU2023/20-COMOFISH_18 | B20: =CONCATENATE(A20,"-",C20) -> BU2023/20-COMOFISH_18-VV1 | C20: VV1 | D20: 1 | E20: 45220 | F20: 45220 | G20: time unknown | H20: ZB | I20: Benthos | J20: 1 | K20: bottom | L20: 15.87 | M20: acceptable | Q20: 0.1
A21: =events!$S21 -> BU2023/20-COMOFISH_19 | B21: =CONCATENATE(A21,"-",C21) -> BU2023/20-COMOFISH_19-VV1 | C21: VV1 | D21: 1 | E21: 45220 | F21: 45220 | G21: time unknown | H21: ZB | I21: Benthos | J21: 1 | K21: bottom | L21: 15.63 | M21: acceptable | Q21: 0.1
A22: =events!$S22 -> BU2023/20-COMOFISH_20 | B22: =CONCATENATE(A22,"-",C22) -> BU2023/20-COMOFISH_20-VV1 | C22: VV1 | D22: 1 | E22: 45220 | F22: 45220 | G22: time unknown | H22: ZB | I22: Benthos | J22: 1 | K22: bottom | L22: 14.95 | M22: acceptable | Q22: 0.1

Sheet density_biomass
F1: SPECIES | Q1: ABUNDANCES-BIOMASS
A2: SAMPLE_CODE | B2: SPECIMEN_CODE | C2: INCUBATION_CODE | D2: COLLECTED_SUBSAMPLE_CODE | E2: EXTRACTED_SUBSAMPLE_CODE | F2: SPECIES_LABEL | G2: SPECIES_SCIENTiFIC_NAME | H2: WORMS_APHIA_ID | I2: SCIENTIFIC_NAME_AUTHOR | J2: KINGDOM | K2: PHYLUM | L2: CLASS | M2: ORDER | N2: FAMILY | O2: GENUS | P2: SPECIES | Q2: SPECIES_FLAG | R2: DEVELOPMENT_STATUS | S2: SIZE_CLASS | T2: SEX_CODE | U2: ANIMAL_STATE | V2: PARAMAMETER_CODE | W2: VALUE | X2: UNIT | Y2: VALUE_FLAG | Z2: DETLIM_FLAG | AA2: ANALYSIS_METHOD_CODE | AB2: ANALYSIS_DATE | AC2: UNCERTAINTY | AD2: REMARK
A3: =samples!$B$3 -> BU2023/20-COMOFISH_01-VV1 | G3: Abludomelita obtusata | H3: 102788 | J3: Animalia | K3: Arthropoda | L3: Malacostraca | M3: Amphipoda | N3: Melitidae | O3: Abludomelita | P3: obtusata | R3: AD | T3: U | U3: D | V3: =analysis_methods!$B$2 -> ABUN | W3: 110 | X3: ind/m² | Y3: good | Z3: = | AA3: =analysis_methods!$M$2 -> TAXO_STE_MICROSCOPE | AB3: 45292
A4: =samples!$B$3 -> BU2023/20-COMOFISH_01-VV1 | G4: Abra alba | H4: 141433 | J4: Animalia | K4: Mollusca | L4: Bivalvia | M4: Cardiida | N4: Semelidae | O4: Abra | P4: alba | R4: AD | T4: U | U4: D | V4: =analysis_methods!$B$2 -> ABUN | W4: 90 | X4: ind/m² | Y4: good | Z4: = | AA4: =analysis_methods!$M$2 -> TAXO_STE_MICROSCOPE | AB4: 45292
A5: =samples!$B$3 -> BU2023/20-COMOFISH_01-VV1 | G5: Abra alba juv. | H5: 141433 | J5: Animalia | K5: Mollusca | L5: Bivalvia | M5: Cardiida | N5: Semelidae | O5: Abra | P5: alba | R5: JV | T5: U | U5: D | V5: =analysis_methods!$B$2 -> ABUN | W5: 60 | X5: ind/m² | Y5: good | Z5: = | AA5: =analysis_methods!$M$2 -> TAXO_STE_MICROSCOPE | AB5: 45292
A6: =samples!$B$3 -> BU2023/20-COMOFISH_01-VV1 | G6: Apolochus neapolitanus | H6: 236495 | J6: Animalia | K6: Arthropoda | L6: Malacostraca | M6: Amphipoda | N6: Amphilochidae | O6: Apolochus | P6: neapolitanus | R6: AD | T6: U | U6: D | V6: =analysis_methods!$B$2 -> ABUN | W6: 10 | X6: ind/m² | Y6: good | Z6: = | AA6: =analysis_methods!$M$2 -> TAXO_STE_MICROSCOPE | AB6: 45292
A7: =samples!$B$3 -> BU2023/20-COMOFISH_01-VV1 | G7: Bodotria sp. | H7: 110387 | J7: Animalia | K7: Arthropoda | L7: Malacostraca | M7: Cumacea | N7: Bodotriidae | O7: Bodotria | R7: AD | T7: U | U7: D | V7: =analysis_methods!$B$2 -> ABUN | W7: 30 | X7: ind/m² | Y7: good | Z7: = | AA7: =analysis_methods!$M$2 -> TAXO_STE_MICROSCOPE | AB7: 45292
A8: =samples!$B$3 -> BU2023/20-COMOFISH_01-VV1 | G8: Capitellidae juv. | H8: 921 | J8: Animalia | K8: Annelida | L8: Polychaeta | N8: Capitellidae | R8: JV | T8: U | U8: D | V8: =analysis_methods!$B$2 -> ABUN | W8: 120 | X8: ind/m² | Y8: good | Z8: = | AA8: =analysis_methods!$M$2 -> TAXO_STE_MICROSCOPE | AB8: 45292
A9: =samples!$B$3 -> BU2023/20-COMOFISH_01-VV1 | G9: Cirratulidae sp. | H9: 919 | J9: Animalia | K9: Annelida | L9: Polychaeta | M9: Terebellida | N9: Cirratulidae | R9: AD | T9: U | U9: D | V9: =analysis_methods!$B$2 -> ABUN | W9: 470 | X9: ind/m² | Y9: good | Z9: = | AA9: =analysis_methods!$M$2 -> TAXO_STE_MICROSCOPE | AB9: 45292
A10: =samples!$B$3 -> BU2023/20-COMOFISH_01-VV1 | G10: Cylista troglodytes | H10: 855674 | J10: Animalia | K10: Cnidaria | L10: Anthozoa | M10: Actiniaria | N10: Sagartiidae | O10: Cylista | P10: troglodytes | R10: AD | T10: U | U10: D | V10: =analysis_methods!$B$2 -> ABUN | W10: 260 | X10: ind/m² | Y10: good | Z10: = | AA10: =analysis_methods!$M$2 -> TAXO_STE_MICROSCOPE | AB10: 45292
A11: =samples!$B$3 -> BU2023/20-COMOFISH_01-VV1 | G11: Eteone longa | H11: 130616 | J11: Animalia | K11: Annelida | L11: Polychaeta | M11: Phyllodocida | N11: Phyllodocidae | O11: Eteone | P11: longa | R11: AD | T11: U | U11: D | V11: =analysis_methods!$B$2 -> ABUN | W11: 10 | X11: ind/m² | Y11: good | Z11: = | AA11: =analysis_methods!$M$2 -> TAXO_STE_MICROSCOPE | AB11: 45292
A12: =samples!$B$3 -> BU2023/20-COMOFISH_01-VV1 | G12: Eumida sanguinea | H12: 130644 | J12: Animalia | K12: Annelida | L12: Polychaeta | M12: Phyllodocida | N12: Phyllodocidae | O12: Eumida | P12: sanguinea | R12: AD | T12: U | U12: D | V12: =analysis_methods!$B$2 -> ABUN | W12: 10 | X12: ind/m² | Y12: good | Z12: = | AA12: =analysis_methods!$M$2 -> TAXO_STE_MICROSCOPE | AB12: 45292
A13: =samples!$B$3 -> BU2023/20-COMOFISH_01-VV1 | G13: Eunereis longissima | H13: 130375 | J13: Animalia | K13: Annelida | L13: Polychaeta | M13: Phyllodocida | N13: Nereididae | O13: Eunereis | P13: longissima | R13: AD | T13: U | U13: D | V13: =analysis_methods!$B$2 -> ABUN | W13: 10 | X13: ind/m² | Y13: good | Z13: = | AA13: =analysis_methods!$M$2 -> TAXO_STE_MICROSCOPE | AB13: 45292
A14: =samples!$B$3 -> BU2023/20-COMOFISH_01-VV1 | G14: Fabulina fabula juv. | H14: 146907 | J14: Animalia | K14: Mollusca | L14: Bivalvia | M14: Cardiida | N14: Tellinidae | O14: Fabulina | P14: fabula | R14: JV | T14: U | U14: D | V14: =analysis_methods!$B$2 -> ABUN | W14: 20 | X14: ind/m² | Y14: good | Z14: = | AA14: =analysis_methods!$M$2 -> TAXO_STE_MICROSCOPE | AB14: 45292
A15: =samples!$B$3 -> BU2023/20-COMOFISH_01-VV1 | G15: Glycera sp. | H15: 129296 | J15: Animalia | K15: Annelida | L15: Polychaeta | M15: Phyllodocida | N15: Glyceridae | O15: Glycera | R15: AD | T15: U | U15: D | V15: =analysis_methods!$B$2 -> ABUN | W15: 40 | X15: ind/m² | Y15: good | Z15: = | AA15: =analysis_methods!$M$2 -> TAXO_STE_MICROSCOPE | AB15: 45292
A16: =samples!$B$3 -> BU2023/20-COMOFISH_01-VV1 | G16: Kurtiella bidentata | H16: 345281 | J16: Animalia | K16: Mollusca | L16: Bivalvia | M16: Galeommatida | N16: Lasaeidae | O16: Kurtiella | P16: bidentata | R16: AD | T16: U | U16: D | V16: =analysis_methods!$B$2 -> ABUN | W16: 10 | X16: ind/m² | Y16: good | Z16: = | AA16: =analysis_methods!$M$2 -> TAXO_STE_MICROSCOPE | AB16: 45292
A17: =samples!$B$3 -> BU2023/20-COMOFISH_01-VV1 | G17: Myrianida sp. | H17: 129659 | J17: Animalia | K17: Annelida | L17: Polychaeta | M17: Phyllodocida | N17: Syllidae | O17: Myrianida | R17: AD | T17: U | U17: D | V17: =analysis_methods!$B$2 -> ABUN | W17: 10 | X17: ind/m² | Y17: good | Z17: = | AA17: =analysis_methods!$M$2 -> TAXO_STE_MICROSCOPE | AB17: 45292
A18: =samples!$B$3 -> BU2023/20-COMOFISH_01-VV1 | G18: Nemertea sp. | H18: 152391 | J18: Animalia | K18: Nemertea | R18: AD | T18: U | U18: D | V18: =analysis_methods!$B$2 -> ABUN | W18: 90 | X18: ind/m² | Y18: good | Z18: = | AA18: =analysis_methods!$M$2 -> TAXO_STE_MICROSCOPE | AB18: 45292
A19: =samples!$B$3 -> BU2023/20-COMOFISH_01-VV1 | G19: Nephtys cirrosa | H19: 130357 | J19: Animalia | K19: Annelida | L19: Polychaeta | M19: Phyllodocida | N19: Nephtyidae | O19: Nephtys | P19: cirrosa | R19: AD | T19: U | U19: D | V19: =analysis_methods!$B$2 -> ABUN | W19: 30 | X19: ind/m² | Y19: good | Z19: = | AA19: =analysis_methods!$M$2 -> TAXO_STE_MICROSCOPE | AB19: 45292
A20: =samples!$B$3 -> BU2023/20-COMOFISH_01-VV1 | G20: Nephtys hombergii | H20: 130359 | J20: Animalia | K20: Annelida | L20: Polychaeta | M20: Phyllodocida | N20: Nephtyidae | O20: Nephtys | P20: hombergii | R20: AD | T20: U | U20: D | V20: =analysis_methods!$B$2 -> ABUN | W20: 60 | X20: ind/m² | Y20: good | Z20: = | AA20: =analysis_methods!$M$2 -> TAXO_STE_MICROSCOPE | AB20: 45292
A21: =samples!$B$3 -> BU2023/20-COMOFISH_01-VV1 | G21: Notomastus latericeus | H21: 129898 | J21: Animalia | K21: Annelida | L21: Polychaeta | N21: Capitellidae | O21: Notomastus | P21: latericeus | R21: AD | T21: U | U21: D | V21: =analysis_methods!$B$2 -> ABUN | W21: 230 | X21: ind/m² | Y21: good | Z21: = | AA21: =analysis_methods!$M$2 -> TAXO_STE_MICROSCOPE | AB21: 45292
A22: =samples!$B$3 -> BU2023/20-COMOFISH_01-VV1 | G22: Oligochaeta sp. | H22: 2036 | J22: Animalia | K22: Annelida | L22: Clitellata | R22: AD | T22: U | U22: D | V22: =analysis_methods!$B$2 -> ABUN | W22: 270 | X22: ind/m² | Y22: good | Z22: = | AA22: =analysis_methods!$M$2 -> TAXO_STE_MICROSCOPE | AB22: 45292
A23: =samples!$B$3 -> BU2023/20-COMOFISH_01-VV1 | G23: Ophiura ophiura | H23: 124929 | J23: Animalia | K23: Echinodermata | L23: Ophiuroidea | M23: Ophiurida | N23: Ophiuridae | O23: Ophiura | P23: ophiura | R23: AD | T23: U | U23: D | V23: =analysis_methods!$B$2 -> ABUN | W23: 210 | X23: ind/m² | Y23: good | Z23: = | AA23: =analysis_methods!$M$2 -> TAXO_STE_MICROSCOPE | AB23: 45292
A24: =samples!$B$3 -> BU2023/20-COMOFISH_01-VV1 | G24: Ophiura ophiura juv. | H24: 124929 | J24: Animalia | K24: Echinodermata | L24: Ophiuroidea | M24: Ophiurida | N24: Ophiuridae | O24: Ophiura | P24: ophiura | R24: JV | T24: U | U24: D | V24: =analysis_methods!$B$2 -> ABUN | W24: 10 | X24: ind/m² | Y24: good | Z24: = | AA24: =analysis_methods!$M$2 -> TAXO_STE_MICROSCOPE | AB24: 45292
A25: =samples!$B$3 -> BU2023/20-COMOFISH_01-VV1 | G25: Owenia fusiformis | H25: 130544 | J25: Animalia | K25: Annelida | L25: Polychaeta | N25: Oweniidae | O25: Owenia | P25: fusiformis | R25: AD | T25: U | U25: D | V25: =analysis_methods!$B$2 -> ABUN | W25: 370 | X25: ind/m² | Y25: good | Z25: = | AA25: =analysis_methods!$M$2 -> TAXO_STE_MICROSCOPE | AB25: 45292
A26: =samples!$B$3 -> BU2023/20-COMOFISH_01-VV1 | G26: Pariambus typicus | H26: 101857 | J26: Animalia | K26: Arthropoda | L26: Malacostraca | M26: Amphipoda | N26: Caprellidae | O26: Pariambus | P26: typicus | R26: AD | T26: U | U26: D | V26: =analysis_methods!$B$2 -> ABUN | W26: 80 | X26: ind/m² | Y26: good | Z26: = | AA26: =analysis_methods!$M$2 -> TAXO_STE_MICROSCOPE | AB26: 45292
A27: =samples!$B$3 -> BU2023/20-COMOFISH_01-VV1 | G27: Pholoe baltica | H27: 130599 | J27: Animalia | K27: Annelida | L27: Polychaeta | M27: Phyllodocida | N27: Sigalionidae | O27: Pholoe | P27: baltica | R27: AD | T27: U | U27: D | V27: =analysis_methods!$B$2 -> ABUN | W27: 10 | X27: ind/m² | Y27: good | Z27: = | AA27: =analysis_methods!$M$2 -> TAXO_STE_MICROSCOPE | AB27: 45292
A28: =samples!$B$3 -> BU2023/20-COMOFISH_01-VV1 | G28: Poecilochaetus serpens | H28: 130711 | J28: Animalia | K28: Annelida | L28: Polychaeta | M28: Spionida | N28: Poecilochaetidae | O28: Poecilochaetus | P28: serpens | R28: AD | T28: U | U28: D | V28: =analysis_methods!$B$2 -> ABUN | W28: 10 | X28: ind/m² | Y28: good | Z28: = | AA28: =analysis_methods!$M$2 -> TAXO_STE_MICROSCOPE | AB28: 45292
A29: =samples!$B$3 -> BU2023/20-COMOFISH_01-VV1 | G29: Sipunculidae sp. | H29: 1648 | J29: Animalia | K29: Annelida | M29: Sipuncula | N29: Sipunculidae | R29: AD | T29: U | U29: D | V29: =analysis_methods!$B$2 -> ABUN | W29: 30 | X29: ind/m² | Y29: good | Z29: = | AA29: =analysis_methods!$M$2 -> TAXO_STE_MICROSCOPE | AB29: 45292
A30: =samples!$B$3 -> BU2023/20-COMOFISH_01-VV1 | G30: Spio sp. | H30: 129625 | J30: Animalia | K30: Annelida | L30: Polychaeta | M30: Spionida | N30: Spionidae | O30: Spio | R30: AD | T30: U | U30: D | V30: =analysis_methods!$B$2 -> ABUN | W30: 20 | X30: ind/m² | Y30: good | Z30: = | AA30: =analysis_methods!$M$2 -> TAXO_STE_MICROSCOPE | AB30: 45292
A31: =samples!$B$3 -> BU2023/20-COMOFISH_01-VV1 | G31: Spiophanes bombyx | H31: 131187 | J31: Animalia | K31: Annelida | L31: Polychaeta | M31: Spionida | N31: Spionidae | O31: Spiophanes | P31: bombyx | R31: AD | T31: U | U31: D | V31: =analysis_methods!$B$2 -> ABUN | W31: 80 | X31: ind/m² | Y31: good | Z31: = | AA31: =analysis_methods!$M$2 -> TAXO_STE_MICROSCOPE | AB31: 45292
A32: =samples!$B$3 -> BU2023/20-COMOFISH_01-VV1 | G32: Spirobranchus sp. | H32: 129582 | J32: Animalia | K32: Annelida | L32: Polychaeta | M32: Sabellida | N32: Serpulidae | O32: Spirobranchus | R32: AD | T32: U | U32: D | V32: =analysis_methods!$B$2 -> ABUN | W32: 10 | X32: ind/m² | Y32: good | Z32: = | AA32: =analysis_methods!$M$2 -> TAXO_STE_MICROSCOPE | AB32: 45292
A33: =samples!$B$3 -> BU2023/20-COMOFISH_01-VV1 | G33: Sthenelais boa | H33: 131074 | J33: Animalia | K33: Annelida | L33: Polychaeta | M33: Phyllodocida | N33: Sigalionidae | O33: Sthenelais | P33: boa | R33: AD | T33: U | U33: D | V33: =analysis_methods!$B$2 -> ABUN | W33: 20 | X33: ind/m² | Y33: good | Z33: = | AA33: =analysis_methods!$M$2 -> TAXO_STE_MICROSCOPE | AB33: 45292
A34: =samples!$B$3 -> BU2023/20-COMOFISH_01-VV1 | G34: Venerupis corrugata juv. | H34: 181364 | J34: Animalia | K34: Mollusca | L34: Bivalvia | M34: Venerida | N34: Veneridae | O34: Venerupis | P34: corrugata | R34: JV | T34: U | U34: D | V34: =analysis_methods!$B$2 -> ABUN | W34: 30 | X34: ind/m² | Y34: good | Z34: = | AA34: =analysis_methods!$M$2 -> TAXO_STE_MICROSCOPE | AB34: 45292
A35: =samples!$B$12 -> BU2023/20-COMOFISH_10-VV1 | G35: Abludomelita obtusata | H35: 102788 | J35: Animalia | K35: Arthropoda | L35: Malacostraca | M35: Amphipoda | N35: Melitidae | O35: Abludomelita | P35: obtusata | R35: AD | T35: U | U35: D | V35: =analysis_methods!$B$2 -> ABUN | W35: 30 | X35: ind/m² | Y35: good | Z35: = | AA35: =analysis_methods!$M$2 -> TAXO_STE_MICROSCOPE | AB35: 45292
A36: =samples!$B$12 -> BU2023/20-COMOFISH_10-VV1 | G36: Crangon crangon | H36: 107552 | J36: Animalia | K36: Arthropoda | L36: Malacostraca | M36: Decapoda | N36: Crangonidae | O36: Crangon | P36: crangon | R36: AD | T36: U | U36: D | V36: =analysis_methods!$B$2 -> ABUN | W36: 10 | X36: ind/m² | Y36: good | Z36: = | AA36: =analysis_methods!$M$2 -> TAXO_STE_MICROSCOPE | AB36: 45292
A37: =samples!$B$12 -> BU2023/20-COMOFISH_10-VV1 | G37: Diastylis rathkei | H37: 110487 | J37: Animalia | K37: Arthropoda | L37: Malacostraca | M37: Cumacea | N37: Diastylidae | O37: Diastylis | P37: rathkei | R37: AD | T37: U | U37: D | V37: =analysis_methods!$B$2 -> ABUN | W37: 10 | X37: ind/m² | Y37: good | Z37: = | AA37: =analysis_methods!$M$2 -> TAXO_STE_MICROSCOPE | AB37: 45292
A38: =samples!$B$12 -> BU2023/20-COMOFISH_10-VV1 | G38: Echinocardium cordatum | H38: 124392 | J38: Animalia | K38: Echinodermata | L38: Echinoidea | M38: Spatangoida | N38: Loveniidae | O38: Echinocardium | P38: cordatum | R38: AD | T38: U | U38: D | V38: =analysis_methods!$B$2 -> ABUN | W38: 20 | X38: ind/m² | Y38: good | Z38: = | AA38: =analysis_methods!$M$2 -> TAXO_STE_MICROSCOPE | AB38: 45292
A39: =samples!$B$12 -> BU2023/20-COMOFISH_10-VV1 | G39: Fabulina fabula | H39: 146907 | J39: Animalia | K39: Mollusca | L39: Bivalvia | M39: Cardiida | N39: Tellinidae | O39: Fabulina | P39: fabula | R39: AD | T39: U | U39: D | V39: =analysis_methods!$B$2 -> ABUN | W39: 30 | X39: ind/m² | Y39: good | Z39: = | AA39: =analysis_methods!$M$2 -> TAXO_STE_MICROSCOPE | AB39: 45292
A40: =samples!$B$12 -> BU2023/20-COMOFISH_10-VV1 | G40: Hippolyte varians | H40: 107518 | J40: Animalia | K40: Arthropoda | L40: Malacostraca | M40: Decapoda | N40: Hippolytidae | O40: Hippolyte | P40: varians | R40: AD | T40: U | U40: D | V40: =analysis_methods!$B$2 -> ABUN | W40: 10 | X40: ind/m² | Y40: good | Z40: = | AA40: =analysis_methods!$M$2 -> TAXO_STE_MICROSCOPE | AB40: 45292
...

Sheet abiotic
C1: ABIOTIC
A2: SAMPLE_CODE | B2: SUBNUMBER | C2: PARAMAMETER_CODE | D2: REPLICATE | E2: VALUE | F2: UNIT | G2: MATRIX | H2: BASIS | I2: VALUE_FLAG | J2: DETLIM_FLAG | K2: ANALYSIS_METHOD_CODE | L2: ANALYSIS_DATE | M2: UNCERTAINTY | N2: REMARK
A3: =samples!B3 -> BU2023/20-COMOFISH_01-VV1 | B3: 1 | C3: =analysis_methods!$B$4 -> MGS | D3: 1 | E3: 261.481 | F3: µm | G3: =analysis_methods!$J$4 -> SEDtot | H3: =analysis_methods!$K$4 -> D | I3: acceptable | J3: = | K3: =analysis_methods!$M$4 -> LASE DIF MEASURE | L3: 45352
A4: =samples!B4 -> BU2023/20-COMOFISH_02-VV1 | B4: 1 | C4: =analysis_methods!$B$4 -> MGS | D4: 1 | E4: 251.182 | F4: µm | G4: =analysis_methods!$J$4 -> SEDtot | H4: =analysis_methods!$K$4 -> D | I4: acceptable | J4: = | K4: =analysis_methods!$M$4 -> LASE DIF MEASURE | L4: 45352
A5: =samples!B5 -> BU2023/20-COMOFISH_03-VV1 | B5: 1 | C5: =analysis_methods!$B$4 -> MGS | D5: 1 | E5: 260.478 | F5: µm | G5: =analysis_methods!$J$4 -> SEDtot | H5: =analysis_methods!$K$4 -> D | I5: acceptable | J5: = | K5: =analysis_methods!$M$4 -> LASE DIF MEASURE | L5: 45352
A6: =samples!B6 -> BU2023/20-COMOFISH_04-VV1 | B6: 1 | C6: =analysis_methods!$B$4 -> MGS | D6: 1 | E6: 315.256 | F6: µm | G6: =analysis_methods!$J$4 -> SEDtot | H6: =analysis_methods!$K$4 -> D | I6: acceptable | J6: = | K6: =analysis_methods!$M$4 -> LASE DIF MEASURE | L6: 45352
A7: =samples!B7 -> BU2023/20-COMOFISH_05-VV1 | B7: 1 | C7: =analysis_methods!$B$4 -> MGS | D7: 1 | E7: 329.533 | F7: µm | G7: =analysis_methods!$J$4 -> SEDtot | H7: =analysis_methods!$K$4 -> D | I7: acceptable | J7: = | K7: =analysis_methods!$M$4 -> LASE DIF MEASURE | L7: 45352
A8: =samples!B8 -> BU2023/20-COMOFISH_06-VV1 | B8: 1 | C8: =analysis_methods!$B$4 -> MGS | D8: 1 | E8: 263.447 | F8: µm | G8: =analysis_methods!$J$4 -> SEDtot | H8: =analysis_methods!$K$4 -> D | I8: acceptable | J8: = | K8: =analysis_methods!$M$4 -> LASE DIF MEASURE | L8: 45352
A9: =samples!B9 -> BU2023/20-COMOFISH_07-VV1 | B9: 1 | C9: =analysis_methods!$B$4 -> MGS | D9: 1 | E9: 241.901 | F9: µm | G9: =analysis_methods!$J$4 -> SEDtot | H9: =analysis_methods!$K$4 -> D | I9: acceptable | J9: = | K9: =analysis_methods!$M$4 -> LASE DIF MEASURE | L9: 45352
A10: =samples!B10 -> BU2023/20-COMOFISH_08-VV1 | B10: 1 | C10: =analysis_methods!$B$4 -> MGS | D10: 1 | E10: 248.763 | F10: µm | G10: =analysis_methods!$J$4 -> SEDtot | H10: =analysis_methods!$K$4 -> D | I10: acceptable | J10: = | K10: =analysis_methods!$M$4 -> LASE DIF MEASURE | L10: 45352
A11: =samples!B11 -> BU2023/20-COMOFISH_09-VV1 | B11: 1 | C11: =analysis_methods!$B$4 -> MGS | D11: 1 | E11: 381.544 | F11: µm | G11: =analysis_methods!$J$4 -> SEDtot | H11: =analysis_methods!$K$4 -> D | I11: acceptable | J11: = | K11: =analysis_methods!$M$4 -> LASE DIF MEASURE | L11: 45352
A12: =samples!B12 -> BU2023/20-COMOFISH_10-VV1 | B12: 1 | C12: =analysis_methods!$B$4 -> MGS | D12: 1 | E12: 234.482 | F12: µm | G12: =analysis_methods!$J$4 -> SEDtot | H12: =analysis_methods!$K$4 -> D | I12: acceptable | J12: = | K12: =analysis_methods!$M$4 -> LASE DIF MEASURE | L12: 45352
A13: =samples!B13 -> BU2023/20-COMOFISH_11-VV1 | B13: 1 | C13: =analysis_methods!$B$4 -> MGS | D13: 1 | E13: 404.08 | F13: µm | G13: =analysis_methods!$J$4 -> SEDtot | H13: =analysis_methods!$K$4 -> D | I13: acceptable | J13: = | K13: =analysis_methods!$M$4 -> LASE DIF MEASURE | L13: 45352
A14: =samples!B14 -> BU2023/20-COMOFISH_12-VV1 | B14: 1 | C14: =analysis_methods!$B$4 -> MGS | D14: 1 | E14: 385.498 | F14: µm | G14: =analysis_methods!$J$4 -> SEDtot | H14: =analysis_methods!$K$4 -> D | I14: acceptable | J14: = | K14: =analysis_methods!$M$4 -> LASE DIF MEASURE | L14: 45352
... A22: =samples!B22 -> BU2023/20-COMOFISH_20-VV1 | B22: 1 | C22: =analysis_methods!$B$4 -> MGS | D22: 1 | E22: 340.215 | F22: µm | G22: =analysis_methods!$J$4 -> SEDtot | H22: =analysis_methods!$K$4 -> D | I22: acceptable | J22: = | K22: =analysis_methods!$M$4 -> LASE DIF MEASURE | L22: 45352
A23: =samples!B3 -> BU2023/20-COMOFISH_01-VV1 | B23: 1 | C23: =analysis_methods!$B$5 -> FINE | D23: 1 | E23: 46.348 | F23: % | G23: =analysis_methods!$J$5 -> SEDtot | H23: =analysis_methods!$K$5 -> D | I23: acceptable | J23: = | K23: =analysis_methods!$M$5 -> LASE DIF MEASURE | L23: 45352
A24: =samples!B4 -> BU2023/20-COMOFISH_02-VV1 | B24: 1 | C24: =analysis_methods!$B$5 -> FINE | D24: 1 | E24: 49.645 | F24: % | G24: =analysis_methods!$J$5 -> SEDtot | H24: =analysis_methods!$K$5 -> D | I24: acceptable | J24: = | K24: =analysis_methods!$M$5 -> LASE DIF MEASURE | L24: 45352
A25: =samples!B5 -> BU2023/20-COMOFISH_03-VV1 | B25: 1 | C25: =analysis_methods!$B$5 -> FINE | D25: 1 | E25: 46.727 | F25: % | G25: =analysis_methods!$J$5 -> SEDtot | H25: =analysis_methods!$K$5 -> D | I25: acceptable | J25: = | K25: =analysis_methods!$M$5 -> LASE DIF MEASURE | L25: 45352
A26: =samples!B6 -> BU2023/20-COMOFISH_04-VV1 | B26: 1 | C26: =analysis_methods!$B$5 -> FINE | D26: 1 | E26: 34.331 | F26: % | G26: =analysis_methods!$J$5 -> SEDtot | H26: =analysis_methods!$K$5 -> D | I26: acceptable | J26: = | K26: =analysis_methods!$M$5 -> LASE DIF MEASURE | L26: 45352
A27: =samples!B7 -> BU2023/20-COMOFISH_05-VV1 | B27: 1 | C27: =analysis_methods!$B$5 -> FINE | D27: 1 | E27: 29.602 | F27: % | G27: =analysis_methods!$J$5 -> SEDtot | H27: =analysis_methods!$K$5 -> D | I27: acceptable | J27: = | K27: =analysis_methods!$M$5 -> LASE DIF MEASURE | L27: 45352
A28: =samples!B8 -> BU2023/20-COMOFISH_06-VV1 | B28: 1 | C28: =analysis_methods!$B$5 -> FINE | D28: 1 | E28: 45.369 | F28: % | G28: =analysis_methods!$J$5 -> SEDtot | H28: =analysis_methods!$K$5 -> D | I28: acceptable | J28: = | K28: =analysis_methods!$M$5 -> LASE DIF MEASURE | L28: 45352
A29: =samples!B9 -> BU2023/20-COMOFISH_07-VV1 | B29: 1 | C29: =analysis_methods!$B$5 -> FINE | D29: 1 | E29: 52.618 | F29: % | G29: =analysis_methods!$J$5 -> SEDtot | H29: =analysis_methods!$K$5 -> D | I29: acceptable | J29: = | K29: =analysis_methods!$M$5 -> LASE DIF MEASURE | L29: 45352
A30: =samples!B10 -> BU2023/20-COMOFISH_08-VV1 | B30: 1 | C30: =analysis_methods!$B$5 -> FINE | D30: 1 | E30: 50.421 | F30: % | G30: =analysis_methods!$J$5 -> SEDtot | H30: =analysis_methods!$K$5 -> D | I30: acceptable | J30: = | K30: =analysis_methods!$M$5 -> LASE DIF MEASURE | L30: 45352
A31: =samples!B11 -> BU2023/20-COMOFISH_09-VV1 | B31: 1 | C31: =analysis_methods!$B$5 -> FINE | D31: 1 | E31: 23.871 | F31: % | G31: =analysis_methods!$J$5 -> SEDtot | H31: =analysis_methods!$K$5 -> D | I31: acceptable | J31: = | K31: =analysis_methods!$M$5 -> LASE DIF MEASURE | L31: 45352
A32: =samples!B12 -> BU2023/20-COMOFISH_10-VV1 | B32: 1 | C32: =analysis_methods!$B$5 -> FINE | D32: 1 | E32: 57.154 | F32: % | G32: =analysis_methods!$J$5 -> SEDtot | H32: =analysis_methods!$K$5 -> D | I32: acceptable | J32: = | K32: =analysis_methods!$M$5 -> LASE DIF MEASURE | L32: 45352
A33: =samples!B13 -> BU2023/20-COMOFISH_11-VV1 | B33: 1 | C33: =analysis_methods!$B$5 -> FINE | D33: 1 | E33: 18.134 | F33: % | G33: =analysis_methods!$J$5 -> SEDtot | H33: =analysis_methods!$K$5 -> D | I33: acceptable | J33: = | K33: =analysis_methods!$M$5 -> LASE DIF MEASURE | L33: 45352
A34: =samples!B14 -> BU2023/20-COMOFISH_12-VV1 | B34: 1 | C34: =analysis_methods!$B$5 -> FINE | D34: 1 | E34: 20.178 | F34: % | G34: =analysis_methods!$J$5 -> SEDtot | H34: =analysis_methods!$K$5 -> D | I34: acceptable | J34: = | K34: =analysis_methods!$M$5 -> LASE DIF MEASURE | L34: 45352
... A42: =samples!B22 -> BU2023/20-COMOFISH_20-VV1 | B42: 1 | C42: =analysis_methods!$B$5 -> FINE | D42: 1 | E42: 22.891 | F42: % | G42: =analysis_methods!$J$5 -> SEDtot | H42: =analysis_methods!$K$5 -> D | I42: acceptable | J42: = | K42: =analysis_methods!$M$5 -> LASE DIF MEASURE | L42: 45352
A43: =samples!B3 -> BU2023/20-COMOFISH_01-VV1 | B43: 1 | C43: =analysis_methods!$B$6 -> MUD | D43: 1 | E43: 0 | F43: % | G43: =analysis_methods!$J$6 -> SEDtot | H43: =analysis_methods!$K$6 -> D | I43: acceptable | J43: = | K43: =analysis_methods!$M$6 -> LASE DIF MEASURE | L43: 45352
A44: =samples!B4 -> BU2023/20-COMOFISH_02-VV1 | B44: 1 | C44: =analysis_methods!$B$6 -> MUD | D44: 1 | E44: 6.634 | F44: % | G44: =analysis_methods!$J$6 -> SEDtot | H44: =analysis_methods!$K$6 -> D | I44: acceptable | J44: = | K44: =analysis_methods!$M$6 -> LASE DIF MEASURE | L44: 45352
A45: =samples!B5 -> BU2023/20-COMOFISH_03-VV1 | B45: 1 | C45: =analysis_methods!$B$6 -> MUD | D45: 1 | E45: 0 | F45: % | G45: =analysis_methods!$J$6 -> SEDtot | H45: =analysis_methods!$K$6 -> D | I45: acceptable | J45: = | K45: =analysis_methods!$M$6 -> LASE DIF MEASURE | L45: 45352
A46: =samples!B6 -> BU2023/20-COMOFISH_04-VV1 | B46: 1 | C46: =analysis_methods!$B$6 -> MUD | D46: 1 | E46: 4.449 | F46: % | G46: =analysis_methods!$J$6 -> SEDtot | H46: =analysis_methods!$K$6 -> D | I46: acceptable | J46: = | K46: =analysis_methods!$M$6 -> LASE DIF MEASURE | L46: 45352
A47: =samples!B7 -> BU2023/20-COMOFISH_05-VV1 | B47: 1 | C47: =analysis_methods!$B$6 -> MUD | D47: 1 | E47: 0 | F47: % | G47: =analysis_methods!$J$6 -> SEDtot | H47: =analysis_methods!$K$6 -> D | I47: acceptable | J47: = | K47: =analysis_methods!$M$6 -> LASE DIF MEASURE | L47: 45352
A48: =samples!B8 -> BU2023/20-COMOFISH_06-VV1 | B48: 1 | C48: =analysis_methods!$B$6 -> MUD | D48: 1 | E48: 0 | F48: % | G48: =analysis_methods!$J$6 -> SEDtot | H48: =analysis_methods!$K$6 -> D | I48: acceptable | J48: = | K48: =analysis_methods!$M$6 -> LASE DIF MEASURE | L48: 45352
A49: =samples!B9 -> BU2023/20-COMOFISH_07-VV1 | B49: 1 | C49: =analysis_methods!$B$6 -> MUD | D49: 1 | E49: 6.587 | F49: % | G49: =analysis_methods!$J$6 -> SEDtot | H49: =analysis_methods!$K$6 -> D | I49: acceptable | J49: = | K49: =analysis_methods!$M$6 -> LASE DIF MEASURE | L49: 45352
A50: =samples!B10 -> BU2023/20-COMOFISH_08-VV1 | B50: 1 | C50: =analysis_methods!$B$6 -> MUD | D50: 1 | E50: 5.497 | F50: % | G50: =analysis_methods!$J$6 -> SEDtot | H50: =analysis_methods!$K$6 -> D | I50: acceptable | J50: = | K50: =analysis_methods!$M$6 -> LASE DIF MEASURE | L50: 45352
A51: =samples!B11 -> BU2023/20-COMOFISH_09-VV1 | B51: 1 | C51: =analysis_methods!$B$6 -> MUD | D51: 1 | E51: 0 | F51: % | G51: =analysis_methods!$J$6 -> SEDtot | H51: =analysis_methods!$K$6 -> D | I51: acceptable | J51: = | K51: =analysis_methods!$M$6 -> LASE DIF MEASURE | L51: 45352
A52: =samples!B12 -> BU2023/20-COMOFISH_10-VV1 | B52: 1 | C52: =analysis_methods!$B$6 -> MUD | D52: 1 | E52: 0 | F52: % | G52: =analysis_methods!$J$6 -> SEDtot | H52: =analysis_methods!$K$6 -> D | I52: acceptable | J52: = | K52: =analysis_methods!$M$6 -> LASE DIF MEASURE | L52: 45352
A53: =samples!B13 -> BU2023/20-COMOFISH_11-VV1 | B53: 1 | C53: =analysis_methods!$B$6 -> MUD | D53: 1 | E53: 1.875 | F53: % | G53: =analysis_methods!$J$6 -> SEDtot | H53: =analysis_methods!$K$6 -> D | I53: acceptable | J53: = | K53: =analysis_methods!$M$6 -> LASE DIF MEASURE | L53: 45352
A54: =samples!B14 -> BU2023/20-COMOFISH_12-VV1 | B54: 1 | C54: =analysis_methods!$B$6 -> MUD | D54: 1 | E54: 0.8 | F54: % | G54: =analysis_methods!$J$6 -> SEDtot | H54: =analysis_methods!$K$6 -> D | I54: acceptable | J54: = | K54: =analysis_methods!$M$6 -> LASE DIF MEASURE | L54: 45352
...

Sheet analysis_methods
A1: PARAMETER_NAME | B1: PARAMETER_CODE | C1: PARAMETER_LABEL | D1: PARAM_BIOMOLECULAR_CODE | E1: PARAM_BIOMOLECULAR_NAME | F1: PARAM_CODE_ICES | G1: PARAM_CODE_SDN_P01 | H1: PARAM_GROUP_CODE_SDN_P02 | I1: UNIT | J1: MATRIX | K1: BASIS | L1: ANALYSIS_METHOD_NAME | M1: ANALYSIS_METHOD_CODE | N1: ANALYSIS_METHOD_ICES_CODE | O1: PRESERVATION_METHOD | P1: STORAGE_METHOD | Q1: PRETREATMENT_METHOD | R1: CHEMICAL_EXTRACTION_METHOD | S1: SEPARATION_METHOD | T1: ANALYSIS_INSTRUMENT_L05 | U1: ANALYSIS_INSTRUMENT_NAME_L22 | V1: SAMPLE_HANDLING_DESCRIPTION | W1: ANALYSIS_METHOD_DESCRIPTION | X1: ANALYSIS_METHOD_START_DATE | Y1: ANALYSIS_METHOD_END_DATE | Z1: LABORATORY | AA1: AUTHOR | AB1: PROJECT_ACRONYM | AC1: DETECTION_LIMIT | AD1: QUANTIFICATION_LIMIT | AE1: LOD_LOQ_UNIT | AF1: UNCERTAINTY_FACTOR | AG1: UNCERTAINTY_METHOD | AH1: NUMBER_OF_SIGNIFICANT_DIGITS | AI1: ANALYSIS_CHARAC_START_DATE | AJ1: ANALYSIS_CHARAC_END_DATE
A2: abundance | B2: ABUN | F2: ABUNDNR | G2: SDBIOL02 | H2: BPRP | I2: ind/m² | J2: SB | K2: D | L2: taxonomy-stereo-microscope | M2: TAXO_STE_MICROSCOPE | N2: MIC_ST | O2: FOR | P2: NA | Q2: SVW | T2: LAB05 | V2: After being sieved over a 1mm mesh-siez sieve, the organisms were sorted, identified to the lowest taxonomic level possible and then counted | W2: Taxonomic identification and count of orgamisms were done under stereo-microscope. Only macrobenthic species (>1mm) were condisered for the analysis | Z2: Ugent Marbiol | AA2: Christelle Jammar | AB2: COMOFISH | AC2: 1 | AE2: ind/m² | AH2: 0 | AI2: 44166
A3: biomass | B3: BIOM | F3: BMWETWT | G3: SDBIOL05 | H3: BPRP | I3: g/m² | J3: SB | K3: D | L3: blotted-wet-weight-scale | M3: BLOT WW SCALE | N3: WA | O3: FOR | P3: NA | Q3: SVW | T3: LAB13 | V3: After being counted, organisms were weighted using the blotted wet weight | W3: The blotted wet weight was measured using an analytical balance (KERN ACJ 320-4M) | Z3: Ugent Marbiol | AA3: Christelle Jammar | AB3: COMOFISH | AC3: 0.0001 | AE3: g/m² | AH3: 3 | AI3: 44166
A4: median grain size | B4: MGS | F4: GSMED | G4: MDGSPSXX | H4: MNGS | I4: µm | J4: SEDtot | K4: D | L4: laser-difraction-measure | M4: LASE DIF MEASURE | N4: LGR | Q4: D | T4: S04:S041096 | V4: A subsample for quantification of sediment grain size distribution and the total organic carbon content (TOC) was collected from each VV grab using a plexiglass core (Ø 3.6 cm) . These samples were dried at 60°C during 48h | W4: The samples were dried at 60°C during 48h, and the grain size distribution was measured using laser diffraction with a Malvern Mastersizer. The grain size distribution was then used to determine the median grain size (d50), fine sand fraction (% <250 μm) and mud content (< 63 µm) in each sample. | Z4: Ugent Marbiol | AA4: Christelle Jammar | AB4: COMOFISH | AC4: 2 | AE4: µm | AH4: 3 | AI4: 44166
A5: fine sediment fraction | B5: FINE | F5: GSMF250 | G5: PPVSXX12 | H5: MNGS | I5: % | J5: SEDtot | K5: D | L5: laser-difraction-measure | M5: LASE DIF MEASURE | N5: LGR | Q5: D | T5: S04:S041096 | V5: A subsample for quantification of sediment grain size distribution and the total organic carbon content (TOC) was collected from each VV grab using a plexiglass core (Ø 3.6 cm) . These samples were dried at 60°C during 48h | W5: The samples were dried at 60°C during 48h, and the grain size distribution was measured using laser diffraction with a Malvern Mastersizer. The grain size distribution was then used to determine the median grain size (d50), fine sand fraction (% <250 μm) and mud content (< 63 µm) in each sample. | Z5: Ugent Marbiol | AA5: Christelle Jammar | AB5: COMOFISH | AC5: 2 | AE5: µm | AH5: 3 | AI5: 44166
A6: mud content | B6: MUD | F6: GSMF63 | G6: PPRSDX49 | H6: MNGS | I6: % | J6: SEDtot | K6: D | L6: laser-difraction-measure | M6: LASE DIF MEASURE | N6: LGR | Q6: D | T6: S04:S041096 | V6: A subsample for quantification of sediment grain size distribution and the total organic carbon content (TOC) was collected from each VV grab using a plexiglass core (Ø 3.6 cm) . These samples were dried at 60°C during 48h | W6: The samples were dried at 60°C during 48h, and the grain size distribution was measured using laser diffraction with a Malvern Mastersizer. The grain size distribution was then used to determine the median grain size (d50), fine sand fraction (% <250 μm) and mud content (< 63 µm) in each sample. | Z6: Ugent Marbiol | AA6: Christelle Jammar | AB6: COMOFISH | AC6: 2 | AE6: µm | AH6: 3 | AI6: 44166
A7: total organic carbon content | B7: TOC | F7: TOC | G7: IC000002 | H7: RMIN | I7: % | J7: SEDtot | K7: D | L7: combustion-infrared-cells | M7: COMB INF CELLS | N7: CMB | Q7: ACD-HCL | T7: SDN:S03::S0380 | V7: A subsample for quantification of sediment grain size distribution and the total organic carbon content (TOC) was collected from each VV grab using a plexiglass core (Ø 3.6 cm) . These samples were dried at 60°C during 48h | W7: The TOC content in each sample was measured by combustion using an ELTRA CS2000 with infrared cells after acidifying the samples with 10M HCl until no bubbles were observed anymore. | Z7: Ugent Marbiol | AA7: Christelle Jammar | AB7: COMOFISH | AC7: 0.033 | AD7: 0.125 | AE7: mg C | AH7: 15 | AI7: 44166

Sheet codes
A1: EVENTS - SAMPLES | E1: SAMPLES | I1: SAMPLES | M1: SAMPLES | P1: ABUNDANCES-VALUES | T1: ABUNDANCES-VALUES | X1: ABUNDANCES-VALUES
A2: TIME FLAG | E2: Reference sampling depth | I2: Reference sampling depth | M2: DTYPE | P2: Value flag | T2: Detlim flag | X2: size_class
A3: code | B3: name | C3: description | E3: Code | F3: ID | G3: Description | I3: Code | J3: ID | K3: Description | M3: Code | N3: Description | P3: Code | Q3: ID | R3: Description | T3: Code | U3: ID | V3: Description | X3: Code | Y3: Description
A4: 0 | B4: acceptable | C4: The start date and end date are expressed in UTC and acceptable | E4: surface | F4: 0 | G4: surface | I4: 0 | J4: acceptable | K4: value for actual sampling depth is acceptable | M4: AN | N4: Ancillary data | P4: none | Q4: 0 | R4: no quality control | T4: = | V4: value is the actual value | X4: <20 | Y4: <20 µm
A5: 1 | B5: reference unknown | C5: The time is suspect because the time reference system is not known | E5: 3 m | F5: 1 | G5: 3 m | I5: 1 | J5: suspect | K5: doubts about correctness of actual sampling depth | M5: BD | N5: Biodiversity - internal use only | P5: good | Q5: 1 | R5: good value | T5: < | V5: value is less than the reported value | X5: >20 | Y5: >20 µm
A6: 2 | B6: time unknown | C6: The time (hh:mm) is not known | E6: bottom | F6: 2 | G6: bottom | I6: 2 | J6: replaced | K6: sampling depth replaced by data-manager | M6: CF | N6: Contaminants and biological effects of contaminants (including fish disease) in biota data | P6: probably_good | Q6: 2 | R6: probably good value | T6: > | V6: value is greater than the reported value | X6: 20-79 | Y6: 20-79 µm
A7: 3 | B7: replaced | C7: The date/time is replaced and acceptable | E7: bottle profile | F7: 3 | G7: bottle profile | I7: 3 | J7: missing | K7: no value for actual sampling depth | M7: CS | N7: Contaminants and biological effects of contaminants in sediment data | P7: probably_bad | Q7: 3 | R7: probably bad value (=questionable or suspect) | T7: D | V7: reported value is less than the detection limit | X7: 80-99 | Y7: 80-99 µm
A8: 4 | B8: date suspect | C8: Date (dd/mm/yyyy) is suspect | E8: SCTD profile | F8: 4 | G8: SCTD profile | I8: <NEW> | M8: CW | N8: Contaminants + nutrients + biological and eutrophication effects in water data | P8: bad | Q8: 4 | R8: bad value | T8: Q | V8: reported value is less than the limit of quantification (LMQNT) | X8: 100-199 | Y8: 100-199 µm
A9: 5 | B9: time suspect | C9: Time (hh:mm) is suspect | E9: other | F9: 5 | G9: other | I9: <NEW> | M9: DF | N9: Fish disease data | P9: changed | Q9: 5 | R9: changed value | X9: 200-500 | Y9: 200-500 µm
A10: 6 | B10: missing | C10: Date and time are missing | E10: sed surface mix | F10: 6 | G10: sediment mixed surface sample 0 - 20 cm | I10: <NEW> | M10: LT | N10: Litter data | P10: BD | Q10: 6 | R10: value below detection | X10: 500-1000 | Y10: 500-1000 µm
A11: 7 | B11: YEAR | C11: Date and time missing, year known | E11: sed surface profile | F11: 7 | G11: sediment surface profile sample 0 - 40 cm | I11: <NEW> | M11: PB | N11: Phytobenthos community (macrophytes) data | P11: excess | Q11: 7 | R11: value in excess | X11: 1000-2000 | Y11: 1000-2000 µm
A12: 8 | B12: MONTH | C12: Date and time missing, month known | E12: bottom to halocline | F12: 9 | G12: bottom to halocline (included) | I12: <NEW> | M12: PP | N12: Phytoplankton community data | P12: interpolated | Q12: 8 | R12: interpolated value | X12: >2000 | Y12: >2000 µm
A13: 9 | B13: DAY | C13: Time missing, date known | E13: geological profile | F13: 8 | G13: sediment geological profile - > 40 cm | I13: <NEW> | M13: ZB | N13: Zoobenthos community data | P13: missing | Q13: 9 | R13: missing value | X13: large
A14: <NEW> | E14: halo- to thermocline | F14: 10 | G14: top of halocline to thermocline (included) | I14: <NEW> | M14: ZP | N14: Zooplankton community data | P14: ID_uncertain | Q14: A | R14: value phenomenon uncertain | X14: <NEW>
A15: <NEW> | E15: 0-10 metres | F15: 11 | G15: integrated sample from 0-10 metres | I15: <NEW> | M15: BS | N15: Nutrients + biological processes in sediment data | P15: nominal | Q15: B | R15: nominal value | X15: <NEW>
A16: <NEW> | E16: photic zone | F16: 12 | G16: integrated sample from photic zone | I16: <NEW> | M16: BB | N16: Biological processes in biota data | P16: BelowLOQ | Q16: Q | R16: value below limit of quantification | X16: <NEW>
A17: <NEW> | E17: 1,2.5,5,7.5,10 m | F17: 13 | G17: pooled sample from distinct depths (1,2.5,5,7.5,10 m) | I17: <NEW> | M17: <NEW> | X17: <NEW>
A18: <NEW> | E18: separate depths | F18: 14 | G18: separate depths | I18: <NEW> | M18: <NEW> | X18: <NEW>
A19: <NEW> | E19: thermocl. to surface | F19: 15 | G19: top of thermocline to surface | I19: <NEW> | M19: <NEW>
A20: <NEW> | E20: air - 15 m | F20: 16 | G20: air - 15 m | I20: <NEW> | M20: <NEW>
E21: air -1.5 m | F21: 17 | G21: air -1.5 m | I21: <NEW> | M21: <NEW>
E22: air other | F22: 18 | G22: air other | I22: <NEW> | M22: <NEW>
E23: subsurface | F23: 19 | G23: subsurface | I23: <NEW> | M23: <NEW>
E24: 10 m | F24: 20 | G24: 10 m | I24: <NEW> | M24: <NEW>
E25: <NEW> | I25: <NEW> | M25: <NEW>
E26: <NEW> | I26: <NEW> | M26: <NEW>
E27: <NEW> | I27: <NEW> | M27: <NEW>
E28: <NEW> | I28: <NEW> | M28: <NEW>
E29: <NEW> | I29: <NEW> | M29: <NEW>
E30: <NEW> | I30: <NEW> | M30: <NEW>
E31: <NEW> | I31: <NEW> | M31: <NEW>
E32: <NEW> | I32: <NEW> | M32: <NEW>
E33: <NEW> | I33: <NEW> | M33: <NEW>
E34: <NEW> | I34: <NEW> | M34: <NEW>
E35: <NEW>
E36: <NEW>
E37: <NEW>
E38: <NEW>
E39: <NEW>
E40: <NEW>
...
