Workbook

Sheet campaigns
A1: CAMPAIGN_NAME | B1: CAMPAIGN_CODE | C1: PLATFORM | D1: CSR_CODE | E1: CRUISE_TYPE | F1: CHIEF_SCIENTIST | G1: START_DATE | H1: END_DATE | I1: AREA_COVERED | J1: PORT_OF_DEPARTURE | K1: PORT_OF_ARRIVAL | L1: CRUISE_NARRATIVE
A2: GeoxyzX_2111 | B2: GeoxyzX_2111 | C2: Geosurveyor X | E2: Ecosystem | F2: Bruno Vlaeminck | G2: 44510 | H2: 44510 | I2: Belgian part of the North Sea | J2: Zeebrugge | K2: Zeebrugge
A3: GeoxyzXI_2112 | B3: GeoxyzXI_2112 | C3: Geosurveyor XI | E3: Ecosystem | F3: Bart Beuselinck | G3: 44547 | H3: 44547 | I3: Belgian part of the North Sea | J3: Zeebrugge | K3: Zeebrugge
A4: SS22-590-1 | B4: SS22-590-1 | C4: 11SS | E4: Ecosystem | F4: Bart Beuselinck | G4: 44841 | H4: 44841 | I4: Belgian part of the North Sea | J4: Ostende | K4: Ostende
A5: SS22-590-2 | B5: SS22-590-2 | C5: 11SS | E5: Ecosystem | F5: Bart Beuselinck | G5: 44844 | H5: 44844 | I5: Belgian part of the North Sea | J5: Ostende | K5: Ostende
A6: BU2023/20 | B6: BU2023/20 | C6: 11BU | E6: Ecosystem | F6: Bruno Vlaeminck | G6: 45220 | H6: 45224 | I6: Belgian part of the North Sea | J6: Zeebrugge | K6: Zeebrugge

Sheet events
A1: CAMPAIGN | B1: TRAJECTORY_TRANSECT | L1: STATIONS | AF1: EARS - EN-ROUTE_DATA
A2: CAMPAIGN_CODE | B2: TRANSECT_NAME | C2: TRAJECTORY_ORIGIN_NAME | D2: REF_START_LATITUDE | E2: REF_START_LONGITUDE | F2: REF_END_LATITUDE | G2: REF_END_LONGITUDE | H2: GRADIENT | I2: TOTAL_LENGHT | J2: TRANSECT_END_DETERMINATION | K2: DEPTH_ADJUSTMENT | L2: STATION_CODE | M2: TRANSECT_DISTANCE FROM_ORIGIN | N2: STATION_REF_LATITUDE | O2: STATION_REF_LONGITUDE | P2: REF_BOTTOM_DEPTH | Q2: STATION_TYPE | R2: MONITORING_STATION_TYPE | S2: EVENT_NAME | T2: EVENT_LABEL | U2: EVENT_ACTION | V2: EVENT_PROCESS | W2: INSTRUMENT_TYPE_L05 | X2: ICES_SAMPLER_TYPE | Y2: INSTRUMENT_MODEL_L22 | Z2: EVENT_TIMESTAMP | AA2: EVENT_TIME_FLAG | AB2: PROCESS_DEPTH | AC2: AUTHOR | AD2: LABORATORY | AE2: PROJECT_ACRONYM | AF2: ACQUISITION_TIMESTAMP | AG2: ACTUAL_LATITUDE | AH2: ACTUAL_LONGITUDE | AI2: BOTTOM_DEPTH | AJ2: HEADING | AK2: COURSE_OVER_GROUND | AL2: SPEED_OVER_GROUND | AM2: SURFACE_WATER_TEMPERATURE | AN2: SALINITY | AO2: CONDUCTIVITY | AP2: SIGMA_T | AQ2: WIND_SPEED | AR2: WIND_DIRECTION | AS2: AIR_TEMPERATURE | AT2: HUMIDITY | AU2: AIR_PRESSURE | AV2: SOLAR_RADIATION
A3: =campaigns!$B$2 -> GeoxyzX_2111 | B3: WestdiepSeafarm_NE | C3: WestdiepSeafarm | D3: 51.183971 | E3: 2.6690606 | F3: 51.205909 | G3: 2.7179871 | H3: NE | I3: 4275 | J3: CR | K3: N | L3: CODEVCO_A | M3: 0 | N3: 51.169512 | O3: 2.636867 | P3: 11.56 | Q3: MC | R3: B | S3: =CONCATENATE(A3,"-",C3,"-",M3,"m","-",T3) -> GeoxyzX_2111-WestdiepSeafarm-0m-1a | T3: 1a | U3: OnBottom | V3: Sample collection | W3: sediment grabs | X3: VV | Y3: Van Veen grab | Z3: 44510 | AA3: time unknown | AB3: 12.96876 | AC3: Christelle Jammar | AD3: Ugent | AE3: Westdiep Seafarm | AG3: 51.169512 | AH3: 2.636867 | AI3: -12.96876
A4: =campaigns!$B$2 -> GeoxyzX_2111 | B4: WestdiepSeafarm_NE | C4: WestdiepSeafarm | D4: 51.183971 | E4: 2.6690606 | F4: 51.205909 | G4: 2.7179871 | H4: NE | I4: 4275 | J4: CR | K4: N | L4: CODEVCO_A | M4: 0 | N4: 51.169512 | O4: 2.636867 | P4: 11.56 | Q4: MC | R4: B | S4: =CONCATENATE(A4,"-",C4,"-",M4,"m","-",T4) -> GeoxyzX_2111-WestdiepSeafarm-0m-1b | T4: 1b | U4: OnBottom | V4: Sample collection | W4: sediment grabs | X4: VV | Y4: Van Veen grab | Z4: 44510 | AA4: time unknown | AB4: 12.96876 | AC4: Christelle Jammar | AD4: Ugent | AE4: Westdiep Seafarm | AG4: 51.169512 | AH4: 2.636867 | AI4: -12.96876
A5: =campaigns!$B$2 -> GeoxyzX_2111 | B5: WestdiepSeafarm_NE | C5: WestdiepSeafarm | D5: 51.183971 | E5: 2.6690606 | F5: 51.205909 | G5: 2.7179871 | H5: NE | I5: 4275 | J5: CR | K5: N | L5: CODEVCO_A | M5: 0 | N5: 51.169512 | O5: 2.636867 | P5: 11.56 | Q5: MC | R5: B | S5: =CONCATENATE(A5,"-",C5,"-",M5,"m","-",T5) -> GeoxyzX_2111-WestdiepSeafarm-0m-1c | T5: 1c | U5: OnBottom | V5: Sample collection | W5: sediment grabs | X5: VV | Y5: Van Veen grab | Z5: 44510 | AA5: time unknown | AB5: 12.96876 | AC5: Christelle Jammar | AD5: Ugent | AE5: Westdiep Seafarm | AG5: 51.169512 | AH5: 2.636867 | AI5: -12.96876
A6: =campaigns!$B$2 -> GeoxyzX_2111 | B6: WestdiepSeafarm_NE | C6: WestdiepSeafarm | D6: 51.183971 | E6: 2.6690606 | F6: 51.205909 | G6: 2.7179871 | H6: NE | I6: 4275 | J6: CR | K6: N | L6: CODEVCO_C | M6: 0 | N6: 51.17449 | O6: 2.64811 | P6: 11.56 | Q6: MC | R6: B | S6: =CONCATENATE(A6,"-",C6,"-",M6,"m","-",T6) -> GeoxyzX_2111-WestdiepSeafarm-0m-2a | T6: 2a | U6: OnBottom | V6: Sample collection | W6: sediment grabs | X6: VV | Y6: Van Veen grab | Z6: 44510 | AA6: time unknown | AB6: 13.03113 | AC6: Christelle Jammar | AD6: Ugent | AE6: Westdiep Seafarm | AG6: 51.17449 | AH6: 2.64811 | AI6: -13.03113
A7: =campaigns!$B$2 -> GeoxyzX_2111 | B7: WestdiepSeafarm_NE | C7: WestdiepSeafarm | D7: 51.183971 | E7: 2.6690606 | F7: 51.205909 | G7: 2.7179871 | H7: NE | I7: 4275 | J7: CR | K7: N | L7: CODEVCO_C | M7: 0 | N7: 51.17449 | O7: 2.64811 | P7: 11.56 | Q7: MC | R7: B | S7: =CONCATENATE(A7,"-",C7,"-",M7,"m","-",T7) -> GeoxyzX_2111-WestdiepSeafarm-0m-2b | T7: 2b | U7: OnBottom | V7: Sample collection | W7: sediment grabs | X7: VV | Y7: Van Veen grab | Z7: 44510 | AA7: time unknown | AB7: 13.03113 | AC7: Christelle Jammar | AD7: Ugent | AE7: Westdiep Seafarm | AG7: 51.17449 | AH7: 2.64811 | AI7: -13.03113
A8: =campaigns!$B$2 -> GeoxyzX_2111 | B8: WestdiepSeafarm_NE | C8: WestdiepSeafarm | D8: 51.183971 | E8: 2.6690606 | F8: 51.205909 | G8: 2.7179871 | H8: NE | I8: 4275 | J8: CR | K8: N | L8: CODEVCO_C | M8: 0 | N8: 51.17449 | O8: 2.64811 | P8: 11.56 | Q8: MC | R8: B | S8: =CONCATENATE(A8,"-",C8,"-",M8,"m","-",T8) -> GeoxyzX_2111-WestdiepSeafarm-0m-2c | T8: 2c | U8: OnBottom | V8: Sample collection | W8: sediment grabs | X8: VV | Y8: Van Veen grab | Z8: 44510 | AA8: time unknown | AB8: 13.03113 | AC8: Christelle Jammar | AD8: Ugent | AE8: Westdiep Seafarm | AG8: 51.17449 | AH8: 2.64811 | AI8: -13.03113
A9: =campaigns!$B$2 -> GeoxyzX_2111 | B9: WestdiepSeafarm_NE | C9: WestdiepSeafarm | D9: 51.183971 | E9: 2.6690606 | F9: 51.205909 | G9: 2.7179871 | H9: NE | I9: 4275 | J9: CR | K9: N | L9: CODEVCO_75 | M9: 75 | N9: 51.183971 | O9: 2.6690606 | P9: 11.56 | Q9: MC | R9: B | S9: =CONCATENATE(A9,"-",C9,"-",M9,"m","-",T9) -> GeoxyzX_2111-WestdiepSeafarm-75m-a | T9: a | U9: OnBottom | V9: Sample collection | W9: sediment grabs | X9: VV | Y9: Van Veen grab | Z9: 44510 | AA9: time unknown | AB9: 12.13678 | AC9: Christelle Jammar | AD9: Ugent | AE9: Westdiep Seafarm | AG9: 51.183971 | AH9: 2.6690606 | AI9: -12.13678
A10: =campaigns!$B$2 -> GeoxyzX_2111 | B10: WestdiepSeafarm_NE | C10: WestdiepSeafarm | D10: 51.183971 | E10: 2.6690606 | F10: 51.205909 | G10: 2.7179871 | H10: NE | I10: 4275 | J10: CR | K10: N | L10: CODEVCO_75 | M10: 75 | N10: 51.183971 | O10: 2.6690606 | P10: 11.56 | Q10: MC | R10: B | S10: =CONCATENATE(A10,"-",C10,"-",M10,"m","-",T10) -> GeoxyzX_2111-WestdiepSeafarm-75m-b | T10: b | U10: OnBottom | V10: Sample collection | W10: sediment grabs | X10: VV | Y10: Van Veen grab | Z10: 44510 | AA10: time unknown | AB10: 12.13678 | AC10: Christelle Jammar | AD10: Ugent | AE10: Westdiep Seafarm | AG10: 51.183971 | AH10: 2.6690606 | AI10: -12.13678
A11: =campaigns!$B$2 -> GeoxyzX_2111 | B11: WestdiepSeafarm_NE | C11: WestdiepSeafarm | D11: 51.183971 | E11: 2.6690606 | F11: 51.205909 | G11: 2.7179871 | H11: NE | I11: 4275 | J11: CR | K11: N | L11: CODEVCO_75 | M11: 75 | N11: 51.183971 | O11: 2.6690606 | P11: 11.56 | Q11: MC | R11: B | S11: =CONCATENATE(A11,"-",C11,"-",M11,"m","-",T11) -> GeoxyzX_2111-WestdiepSeafarm-75m-c | T11: c | U11: OnBottom | V11: Sample collection | W11: sediment grabs | X11: VV | Y11: Van Veen grab | Z11: 44510 | AA11: time unknown | AB11: 12.13678 | AC11: Christelle Jammar | AD11: Ugent | AE11: Westdiep Seafarm | AG11: 51.183971 | AH11: 2.6690606 | AI11: -12.13678
A12: =campaigns!$B$2 -> GeoxyzX_2111 | B12: WestdiepSeafarm_NE | C12: WestdiepSeafarm | D12: 51.183971 | E12: 2.6690606 | F12: 51.205909 | G12: 2.7179871 | H12: NE | I12: 4275 | J12: CR | K12: N | L12: CODEVCO_150 | M12: 150 | N12: 51.184363 | O12: 2.669934 | P12: 11.56 | Q12: MC | R12: B | S12: =CONCATENATE(A12,"-",C12,"-",M12,"m","-",T12) -> GeoxyzX_2111-WestdiepSeafarm-150m-a | T12: a | U12: OnBottom | V12: Sample collection | W12: sediment grabs | X12: VV | Y12: Van Veen grab | Z12: 44510 | AA12: time unknown | AB12: 12.13678 | AC12: Christelle Jammar | AD12: Ugent | AE12: Westdiep Seafarm | AG12: 51.184363 | AH12: 2.669934 | AI12: -12.13678
A13: =campaigns!$B$2 -> GeoxyzX_2111 | B13: WestdiepSeafarm_NE | C13: WestdiepSeafarm | D13: 51.183971 | E13: 2.6690606 | F13: 51.205909 | G13: 2.7179871 | H13: NE | I13: 4275 | J13: CR | K13: N | L13: CODEVCO_150 | M13: 150 | N13: 51.184363 | O13: 2.669934 | P13: 11.56 | Q13: MC | R13: B | S13: =CONCATENATE(A13,"-",C13,"-",M13,"m","-",T13) -> GeoxyzX_2111-WestdiepSeafarm-150m-b | T13: b | U13: OnBottom | V13: Sample collection | W13: sediment grabs | X13: VV | Y13: Van Veen grab | Z13: 44510 | AA13: time unknown | AB13: 12.13678 | AC13: Christelle Jammar | AD13: Ugent | AE13: Westdiep Seafarm | AG13: 51.184363 | AH13: 2.669934 | AI13: -12.13678
A14: =campaigns!$B$2 -> GeoxyzX_2111 | B14: WestdiepSeafarm_NE | C14: WestdiepSeafarm | D14: 51.183971 | E14: 2.6690606 | F14: 51.205909 | G14: 2.7179871 | H14: NE | I14: 4275 | J14: CR | K14: N | L14: CODEVCO_150 | M14: 150 | N14: 51.184363 | O14: 2.669934 | P14: 11.56 | Q14: MC | R14: B | S14: =CONCATENATE(A14,"-",C14,"-",M14,"m","-",T14) -> GeoxyzX_2111-WestdiepSeafarm-150m-c | T14: c | U14: OnBottom | V14: Sample collection | W14: sediment grabs | X14: VV | Y14: Van Veen grab | Z14: 44510 | AA14: time unknown | AB14: 12.13678 | AC14: Christelle Jammar | AD14: Ugent | AE14: Westdiep Seafarm | AG14: 51.184363 | AH14: 2.669934 | AI14: -12.13678
... A38: =campaigns!$B$2 -> GeoxyzX_2111 | B38: WestdiepSeafarm_NE | C38: WestdiepSeafarm | D38: 51.183971 | E38: 2.6690606 | F38: 51.205909 | G38: 2.7179871 | H38: NE | I38: 4275 | J38: CR | K38: N | L38: CODEVCO_1225 | M38: 1225 | N38: 51.18998 | O38: 2.6824521 | P38: 11.56 | Q38: MC | R38: B | S38: =CONCATENATE(A38,"-",C38,"-",M38,"m","-",T38) -> GeoxyzX_2111-WestdiepSeafarm-1225m-c | T38: c | U38: OnBottom | V38: Sample collection | W38: sediment grabs | X38: VV | Y38: Van Veen grab | Z38: 44510 | AA38: time unknown | AB38: 10.65629 | AC38: Christelle Jammar | AD38: Ugent | AE38: Westdiep Seafarm | AG38: 51.18998 | AH38: 2.6824521 | AI38: -10.65629
A39: =campaigns!$B$3 -> GeoxyzXI_2112 | B39: WestdiepSeafarm_NE | C39: WestdiepSeafarm | D39: 51.183971 | E39: 2.6690606 | F39: 51.205909 | G39: 2.7179871 | H39: NE | I39: 4275 | J39: CR | K39: N | L39: CODEVCO_1475 | M39: 1475 | N39: 51.191286 | O39: 2.6853648 | P39: 11.56 | Q39: MC | R39: B | S39: =CONCATENATE(A39,"-",C39,"-",M39,"m","-",T39) -> GeoxyzXI_2112-WestdiepSeafarm-1475m-a | T39: a | U39: OnBottom | V39: Sample collection | W39: sediment grabs | X39: VV | Y39: Van Veen grab | Z39: 44547 | AA39: time unknown | AB39: 10.59608 | AC39: Christelle Jammar | AD39: Ugent | AE39: Westdiep Seafarm | AG39: 51.191286 | AH39: 2.6853648 | AI39: -10.59608
A40: =campaigns!$B$3 -> GeoxyzXI_2112 | B40: WestdiepSeafarm_NE | C40: WestdiepSeafarm | D40: 51.183971 | E40: 2.6690606 | F40: 51.205909 | G40: 2.7179871 | H40: NE | I40: 4275 | J40: CR | K40: N | L40: CODEVCO_1475 | M40: 1475 | N40: 51.191286 | O40: 2.6853648 | P40: 11.56 | Q40: MC | R40: B | S40: =CONCATENATE(A40,"-",C40,"-",M40,"m","-",T40) -> GeoxyzXI_2112-WestdiepSeafarm-1475m-b | T40: b | U40: OnBottom | V40: Sample collection | W40: sediment grabs | X40: VV | Y40: Van Veen grab | Z40: 44547 | AA40: time unknown | AB40: 10.59608 | AC40: Christelle Jammar | AD40: Ugent | AE40: Westdiep Seafarm | AG40: 51.191286 | AH40: 2.6853648 | AI40: -10.59608
A41: =campaigns!$B$3 -> GeoxyzXI_2112 | B41: WestdiepSeafarm_NE | C41: WestdiepSeafarm | D41: 51.183971 | E41: 2.6690606 | F41: 51.205909 | G41: 2.7179871 | H41: NE | I41: 4275 | J41: CR | K41: N | L41: CODEVCO_1475 | M41: 1475 | N41: 51.191286 | O41: 2.6853648 | P41: 11.56 | Q41: MC | R41: B | S41: =CONCATENATE(A41,"-",C41,"-",M41,"m","-",T41) -> GeoxyzXI_2112-WestdiepSeafarm-1475m-c | T41: c | U41: OnBottom | V41: Sample collection | W41: sediment grabs | X41: VV | Y41: Van Veen grab | Z41: 44547 | AA41: time unknown | AB41: 10.59608 | AC41: Christelle Jammar | AD41: Ugent | AE41: Westdiep Seafarm | AG41: 51.191286 | AH41: 2.6853648 | AI41: -10.59608
A42: =campaigns!$B$3 -> GeoxyzXI_2112 | B42: WestdiepSeafarm_NE | C42: WestdiepSeafarm | D42: 51.183971 | E42: 2.6690606 | F42: 51.205909 | G42: 2.7179871 | H42: NE | I42: 4275 | J42: CR | K42: N | L42: CODEVCO_1725 | M42: 1725 | N42: 51.192592 | O42: 2.6882757 | P42: 11.56 | Q42: MC | R42: B | S42: =CONCATENATE(A42,"-",C42,"-",M42,"m","-",T42) -> GeoxyzXI_2112-WestdiepSeafarm-1725m-a | T42: a | U42: OnBottom | V42: Sample collection | W42: sediment grabs | X42: VV | Y42: Van Veen grab | Z42: 44547 | AA42: time unknown | AB42: 10.38481 | AC42: Christelle Jammar | AD42: Ugent | AE42: Westdiep Seafarm | AG42: 51.192592 | AH42: 2.6882757 | AI42: -10.38481
A43: =campaigns!$B$3 -> GeoxyzXI_2112 | B43: WestdiepSeafarm_NE | C43: WestdiepSeafarm | D43: 51.183971 | E43: 2.6690606 | F43: 51.205909 | G43: 2.7179871 | H43: NE | I43: 4275 | J43: CR | K43: N | L43: CODEVCO_1725 | M43: 1725 | N43: 51.192592 | O43: 2.6882757 | P43: 11.56 | Q43: MC | R43: B | S43: =CONCATENATE(A43,"-",C43,"-",M43,"m","-",T43) -> GeoxyzXI_2112-WestdiepSeafarm-1725m-b | T43: b | U43: OnBottom | V43: Sample collection | W43: sediment grabs | X43: VV | Y43: Van Veen grab | Z43: 44547 | AA43: time unknown | AB43: 10.38481 | AC43: Christelle Jammar | AD43: Ugent | AE43: Westdiep Seafarm | AG43: 51.192592 | AH43: 2.6882757 | AI43: -10.38481
A44: =campaigns!$B$3 -> GeoxyzXI_2112 | B44: WestdiepSeafarm_NE | C44: WestdiepSeafarm | D44: 51.183971 | E44: 2.6690606 | F44: 51.205909 | G44: 2.7179871 | H44: NE | I44: 4275 | J44: CR | K44: N | L44: CODEVCO_1725 | M44: 1725 | N44: 51.192592 | O44: 2.6882757 | P44: 11.56 | Q44: MC | R44: B | S44: =CONCATENATE(A44,"-",C44,"-",M44,"m","-",T44) -> GeoxyzXI_2112-WestdiepSeafarm-1725m-c | T44: c | U44: OnBottom | V44: Sample collection | W44: sediment grabs | X44: VV | Y44: Van Veen grab | Z44: 44547 | AA44: time unknown | AB44: 10.38481 | AC44: Christelle Jammar | AD44: Ugent | AE44: Westdiep Seafarm | AG44: 51.192592 | AH44: 2.6882757 | AI44: -10.38481
A45: =campaigns!$B$2 -> GeoxyzX_2111 | B45: WestdiepSeafarm_NE | C45: WestdiepSeafarm | D45: 51.183971 | E45: 2.6690606 | F45: 51.205909 | G45: 2.7179871 | H45: NE | I45: 4275 | J45: CR | K45: N | L45: CODEVCO_2075 | M45: 2075 | N45: 51.19442 | O45: 2.6923527 | P45: 11.56 | Q45: MC | R45: B | S45: =CONCATENATE(A45,"-",C45,"-",M45,"m","-",T45) -> GeoxyzX_2111-WestdiepSeafarm-2075m-a | T45: a | U45: OnBottom | V45: Sample collection | W45: sediment grabs | X45: VV | Y45: Van Veen grab | Z45: 44510 | AA45: time unknown | AB45: 11.27445 | AC45: Christelle Jammar | AD45: Ugent | AE45: Westdiep Seafarm | AG45: 51.19442 | AH45: 2.6923527 | AI45: -11.27445
A46: =campaigns!$B$2 -> GeoxyzX_2111 | B46: WestdiepSeafarm_NE | C46: WestdiepSeafarm | D46: 51.183971 | E46: 2.6690606 | F46: 51.205909 | G46: 2.7179871 | H46: NE | I46: 4275 | J46: CR | K46: N | L46: CODEVCO_2075 | M46: 2075 | N46: 51.19442 | O46: 2.6923527 | P46: 11.56 | Q46: MC | R46: B | S46: =CONCATENATE(A46,"-",C46,"-",M46,"m","-",T46) -> GeoxyzX_2111-WestdiepSeafarm-2075m-b | T46: b | U46: OnBottom | V46: Sample collection | W46: sediment grabs | X46: VV | Y46: Van Veen grab | Z46: 44510 | AA46: time unknown | AB46: 11.27445 | AC46: Christelle Jammar | AD46: Ugent | AE46: Westdiep Seafarm | AG46: 51.19442 | AH46: 2.6923527 | AI46: -11.27445
A47: =campaigns!$B$2 -> GeoxyzX_2111 | B47: WestdiepSeafarm_NE | C47: WestdiepSeafarm | D47: 51.183971 | E47: 2.6690606 | F47: 51.205909 | G47: 2.7179871 | H47: NE | I47: 4275 | J47: CR | K47: N | L47: CODEVCO_2075 | M47: 2075 | N47: 51.19442 | O47: 2.6923527 | P47: 11.56 | Q47: MC | R47: B | S47: =CONCATENATE(A47,"-",C47,"-",M47,"m","-",T47) -> GeoxyzX_2111-WestdiepSeafarm-2075m-c | T47: c | U47: OnBottom | V47: Sample collection | W47: sediment grabs | X47: VV | Y47: Van Veen grab | Z47: 44510 | AA47: time unknown | AB47: 11.27445 | AC47: Christelle Jammar | AD47: Ugent | AE47: Westdiep Seafarm | AG47: 51.19442 | AH47: 2.6923527 | AI47: -11.27445
A48: =campaigns!$B$2 -> GeoxyzX_2111 | B48: WestdiepSeafarm_NE | C48: WestdiepSeafarm | D48: 51.183971 | E48: 2.6690606 | F48: 51.205909 | G48: 2.7179871 | H48: NE | I48: 4275 | J48: CR | K48: N | L48: CODEVCO_2425 | M48: 2425 | N48: 51.196248 | O48: 2.6964299 | P48: 11.56 | Q48: MC | R48: B | S48: =CONCATENATE(A48,"-",C48,"-",M48,"m","-",T48) -> GeoxyzX_2111-WestdiepSeafarm-2425m-a | T48: a | U48: OnBottom | V48: Sample collection | W48: sediment grabs | X48: VV | Y48: Van Veen grab | Z48: 44510 | AA48: time unknown | AB48: 11.2741 | AC48: Christelle Jammar | AD48: Ugent | AE48: Westdiep Seafarm | AG48: 51.196248 | AH48: 2.6964299 | AI48: -11.2741
A49: =campaigns!$B$2 -> GeoxyzX_2111 | B49: WestdiepSeafarm_NE | C49: WestdiepSeafarm | D49: 51.183971 | E49: 2.6690606 | F49: 51.205909 | G49: 2.7179871 | H49: NE | I49: 4275 | J49: CR | K49: N | L49: CODEVCO_2425 | M49: 2425 | N49: 51.196248 | O49: 2.6964299 | P49: 11.56 | Q49: MC | R49: B | S49: =CONCATENATE(A49,"-",C49,"-",M49,"m","-",T49) -> GeoxyzX_2111-WestdiepSeafarm-2425m-b | T49: b | U49: OnBottom | V49: Sample collection | W49: sediment grabs | X49: VV | Y49: Van Veen grab | Z49: 44510 | AA49: time unknown | AB49: 11.2741 | AC49: Christelle Jammar | AD49: Ugent | AE49: Westdiep Seafarm | AG49: 51.196248 | AH49: 2.6964299 | AI49: -11.2741
A50: =campaigns!$B$2 -> GeoxyzX_2111 | B50: WestdiepSeafarm_NE | C50: WestdiepSeafarm | D50: 51.183971 | E50: 2.6690606 | F50: 51.205909 | G50: 2.7179871 | H50: NE | I50: 4275 | J50: CR | K50: N | L50: CODEVCO_2425 | M50: 2425 | N50: 51.196248 | O50: 2.6964299 | P50: 11.56 | Q50: MC | R50: B | S50: =CONCATENATE(A50,"-",C50,"-",M50,"m","-",T50) -> GeoxyzX_2111-WestdiepSeafarm-2425m-c | T50: c | U50: OnBottom | V50: Sample collection | W50: sediment grabs | X50: VV | Y50: Van Veen grab | Z50: 44510 | AA50: time unknown | AB50: 11.2741 | AC50: Christelle Jammar | AD50: Ugent | AE50: Westdiep Seafarm | AG50: 51.196248 | AH50: 2.6964299 | AI50: -11.2741
A51: =campaigns!$B$2 -> GeoxyzX_2111 | B51: WestdiepSeafarm_NE | C51: WestdiepSeafarm | D51: 51.183971 | E51: 2.6690606 | F51: 51.205909 | G51: 2.7179871 | H51: NE | I51: 4275 | J51: CR | K51: N | L51: CODEVCO_2775 | M51: 2775 | N51: 51.198076 | O51: 2.7005074 | P51: 11.56 | Q51: MC | R51: B | S51: =CONCATENATE(A51,"-",C51,"-",M51,"m","-",T51) -> GeoxyzX_2111-WestdiepSeafarm-2775m-a | T51: a | U51: OnBottom | V51: Sample collection | W51: sediment grabs | X51: VV | Y51: Van Veen grab | Z51: 44510 | AA51: time unknown | AB51: 11.01664 | AC51: Christelle Jammar | AD51: Ugent | AE51: Westdiep Seafarm | AG51: 51.198076 | AH51: 2.7005074 | AI51: -11.01664
A52: =campaigns!$B$2 -> GeoxyzX_2111 | B52: WestdiepSeafarm_NE | C52: WestdiepSeafarm | D52: 51.183971 | E52: 2.6690606 | F52: 51.205909 | G52: 2.7179871 | H52: NE | I52: 4275 | J52: CR | K52: N | L52: CODEVCO_2775 | M52: 2775 | N52: 51.198076 | O52: 2.7005074 | P52: 11.56 | Q52: MC | R52: B | S52: =CONCATENATE(A52,"-",C52,"-",M52,"m","-",T52) -> GeoxyzX_2111-WestdiepSeafarm-2775m-b | T52: b | U52: OnBottom | V52: Sample collection | W52: sediment grabs | X52: VV | Y52: Van Veen grab | Z52: 44510 | AA52: time unknown | AB52: 11.01664 | AC52: Christelle Jammar | AD52: Ugent | AE52: Westdiep Seafarm | AG52: 51.198076 | AH52: 2.7005074 | AI52: -11.01664
A53: =campaigns!$B$2 -> GeoxyzX_2111 | B53: WestdiepSeafarm_NE | C53: WestdiepSeafarm | D53: 51.183971 | E53: 2.6690606 | F53: 51.205909 | G53: 2.7179871 | H53: NE | I53: 4275 | J53: CR | K53: N | L53: CODEVCO_2775 | M53: 2775 | N53: 51.198076 | O53: 2.7005074 | P53: 11.56 | Q53: MC | R53: B | S53: =CONCATENATE(A53,"-",C53,"-",M53,"m","-",T53) -> GeoxyzX_2111-WestdiepSeafarm-2775m-c | T53: c | U53: OnBottom | V53: Sample collection | W53: sediment grabs | X53: VV | Y53: Van Veen grab | Z53: 44510 | AA53: time unknown | AB53: 11.01664 | AC53: Christelle Jammar | AD53: Ugent | AE53: Westdiep Seafarm | AG53: 51.198076 | AH53: 2.7005074 | AI53: -11.01664
A54: =campaigns!$B$2 -> GeoxyzX_2111 | B54: WestdiepSeafarm_NE | C54: WestdiepSeafarm | D54: 51.183971 | E54: 2.6690606 | F54: 51.205909 | G54: 2.7179871 | H54: NE | I54: 4275 | J54: CR | K54: N | L54: CODEVCO_3275 | M54: 3275 | N54: 51.200688 | O54: 2.7063333 | P54: 11.56 | Q54: MC | R54: B | S54: =CONCATENATE(A54,"-",C54,"-",M54,"m","-",T54) -> GeoxyzX_2111-WestdiepSeafarm-3275m-a | T54: a | U54: OnBottom | V54: Sample collection | W54: sediment grabs | X54: VV | Y54: Van Veen grab | Z54: 44510 | AA54: time unknown | AB54: 10.0681 | AC54: Christelle Jammar | AD54: Ugent | AE54: Westdiep Seafarm | AG54: 51.200688 | AH54: 2.7063333 | AI54: -10.0681
A55: =campaigns!$B$2 -> GeoxyzX_2111 | B55: WestdiepSeafarm_NE | C55: WestdiepSeafarm | D55: 51.183971 | E55: 2.6690606 | F55: 51.205909 | G55: 2.7179871 | H55: NE | I55: 4275 | J55: CR | K55: N | L55: CODEVCO_3275 | M55: 3275 | N55: 51.200688 | O55: 2.7063333 | P55: 11.56 | Q55: MC | R55: B | S55: =CONCATENATE(A55,"-",C55,"-",M55,"m","-",T55) -> GeoxyzX_2111-WestdiepSeafarm-3275m-b | T55: b | U55: OnBottom | V55: Sample collection | W55: sediment grabs | X55: VV | Y55: Van Veen grab | Z55: 44510 | AA55: time unknown | AB55: 10.0681 | AC55: Christelle Jammar | AD55: Ugent | AE55: Westdiep Seafarm | AG55: 51.200688 | AH55: 2.7063333 | AI55: -10.0681
A56: =campaigns!$B$2 -> GeoxyzX_2111 | B56: WestdiepSeafarm_NE | C56: WestdiepSeafarm | D56: 51.183971 | E56: 2.6690606 | F56: 51.205909 | G56: 2.7179871 | H56: NE | I56: 4275 | J56: CR | K56: N | L56: CODEVCO_3275 | M56: 3275 | N56: 51.200688 | O56: 2.7063333 | P56: 11.56 | Q56: MC | R56: B | S56: =CONCATENATE(A56,"-",C56,"-",M56,"m","-",T56) -> GeoxyzX_2111-WestdiepSeafarm-3275m-c | T56: c | U56: OnBottom | V56: Sample collection | W56: sediment grabs | X56: VV | Y56: Van Veen grab | Z56: 44510 | AA56: time unknown | AB56: 10.0681 | AC56: Christelle Jammar | AD56: Ugent | AE56: Westdiep Seafarm | AG56: 51.200688 | AH56: 2.7063333 | AI56: -10.0681
... A62: =campaigns!$B$2 -> GeoxyzX_2111 | B62: WestdiepSeafarm_NE | C62: WestdiepSeafarm | D62: 51.183971 | E62: 2.6690606 | F62: 51.205909 | G62: 2.7179871 | H62: NE | I62: 4275 | J62: CR | K62: N | L62: CODEVCO_4275 | M62: 4275 | N62: 51.205909 | O62: 2.7179871 | P62: 11.56 | Q62: MC | R62: B | S62: =CONCATENATE(A62,"-",C62,"-",M62,"m","-",T62) -> GeoxyzX_2111-WestdiepSeafarm-4275m-c | T62: c | U62: OnBottom | V62: Sample collection | W62: sediment grabs | X62: VV | Y62: Van Veen grab | Z62: 44510 | AA62: time unknown | AB62: 9.83939 | AC62: Christelle Jammar | AD62: Ugent | AE62: Westdiep Seafarm | AG62: 51.205909 | AH62: 2.7179871 | AI62: -9.83939
A63: =campaigns!$B$4 -> SS22-590-1 | B63: WestdiepSeafarm_NE | C63: WestdiepSeafarm | D63: 51.183713 | E63: 2.6686862 | F63: 51.183716 | G63: 2.668672 | H63: NE | I63: 4275 | J63: CR | K63: N | L63: CODEVCO_75 | M63: 75 | N63: 51.183971 | O63: 2.6690606 | P63: 10.64 | Q63: MC | S63: =CONCATENATE(A63,"-",C63,"-",M63,"m","-",T63) -> SS22-590-1-WestdiepSeafarm-75m-a | T63: a | U63: OnBottom | V63: Sample collection | W63: sediment grabs | X63: VV | Y63: Van Veen grab | Z63: 44841 | AA63: time unknown | AB63: 10.64 | AC63: Christelle Jammar | AD63: Ugent | AE63: Westdiep Seafarm | AG63: 51.183971 | AH63: 2.6690606 | AI63: 10.64
A64: =campaigns!$B$4 -> SS22-590-1 | B64: WestdiepSeafarm_NE | C64: WestdiepSeafarm | D64: 51.183723 | E64: 2.6687085 | F64: 51.183725 | G64: 2.6687205 | H64: NE | I64: 4275 | J64: CR | K64: N | L64: CODEVCO_75 | M64: 75 | N64: 51.183971 | O64: 2.6690606 | P64: 10.64 | Q64: MC | S64: =CONCATENATE(A64,"-",C64,"-",M64,"m","-",T64) -> SS22-590-1-WestdiepSeafarm-75m-b | T64: b | U64: OnBottom | V64: Sample collection | W64: sediment grabs | X64: VV | Y64: Van Veen grab | Z64: 44841 | AA64: time unknown | AB64: 10.64 | AC64: Christelle Jammar | AD64: Ugent | AE64: Westdiep Seafarm | AG64: 51.183971 | AH64: 2.6690606 | AI64: 10.64
A65: =campaigns!$B$4 -> SS22-590-1 | B65: WestdiepSeafarm_NE | C65: WestdiepSeafarm | D65: 51.183701 | E65: 2.6687083 | F65: 51.183701 | G65: 2.6687083 | H65: NE | I65: 4275 | J65: CR | K65: N | L65: CODEVCO_75 | M65: 75 | N65: 51.183971 | O65: 2.6690606 | P65: 10.64 | Q65: MC | S65: =CONCATENATE(A65,"-",C65,"-",M65,"m","-",T65) -> SS22-590-1-WestdiepSeafarm-75m-c | T65: c | U65: OnBottom | V65: Sample collection | W65: sediment grabs | X65: VV | Y65: Van Veen grab | Z65: 44841 | AA65: time unknown | AB65: 10.64 | AC65: Christelle Jammar | AD65: Ugent | AE65: Westdiep Seafarm | AG65: 51.183971 | AH65: 2.6690606 | AI65: 10.64
A66: =campaigns!$B$4 -> SS22-590-1 | B66: WestdiepSeafarm_NE | C66: WestdiepSeafarm | D66: 51.18435 | E66: 2.6697432 | F66: 51.184324 | G66: 2.6696963 | H66: NE | I66: 4275 | J66: CR | K66: N | L66: CODEVCO_150 | M66: 150 | N66: 51.184363 | O66: 2.669934 | P66: 10.64 | Q66: MC | S66: =CONCATENATE(A66,"-",C66,"-",M66,"m","-",T66) -> SS22-590-1-WestdiepSeafarm-150m-a | T66: a | U66: OnBottom | V66: Sample collection | W66: sediment grabs | X66: VV | Y66: Van Veen grab | Z66: 44841 | AA66: time unknown | AB66: 10.64 | AC66: Christelle Jammar | AD66: Ugent | AE66: Westdiep Seafarm | AG66: 51.184363 | AH66: 2.669934 | AI66: 10.64
A67: =campaigns!$B$4 -> SS22-590-1 | B67: WestdiepSeafarm_NE | C67: WestdiepSeafarm | D67: 51.184321 | E67: 2.6696247 | F67: 51.184321 | G67: 2.6696247 | H67: NE | I67: 4275 | J67: CR | K67: N | L67: CODEVCO_150 | M67: 150 | N67: 51.184363 | O67: 2.669934 | P67: 10.64 | Q67: MC | S67: =CONCATENATE(A67,"-",C67,"-",M67,"m","-",T67) -> SS22-590-1-WestdiepSeafarm-150m-b | T67: b | U67: OnBottom | V67: Sample collection | W67: sediment grabs | X67: VV | Y67: Van Veen grab | Z67: 44841 | AA67: time unknown | AB67: 10.64 | AC67: Christelle Jammar | AD67: Ugent | AE67: Westdiep Seafarm | AG67: 51.184363 | AH67: 2.669934 | AI67: 10.64
A68: =campaigns!$B$4 -> SS22-590-1 | B68: WestdiepSeafarm_NE | C68: WestdiepSeafarm | D68: 51.184322 | E68: 2.6696637 | F68: 51.184321 | G68: 2.6696698 | H68: NE | I68: 4275 | J68: CR | K68: N | L68: CODEVCO_150 | M68: 150 | N68: 51.184363 | O68: 2.669934 | P68: 10.64 | Q68: MC | S68: =CONCATENATE(A68,"-",C68,"-",M68,"m","-",T68) -> SS22-590-1-WestdiepSeafarm-150m-c | T68: c | U68: OnBottom | V68: Sample collection | W68: sediment grabs | X68: VV | Y68: Van Veen grab | Z68: 44841 | AA68: time unknown | AB68: 10.64 | AC68: Christelle Jammar | AD68: Ugent | AE68: Westdiep Seafarm | AG68: 51.184363 | AH68: 2.669934 | AI68: 10.64
...

Sheet samples
A1: EVENT | B1: EVENT | C1: SAMPLE | V1: SAMPLING_METHOD_COMMUNITY_PLANKTON
A2: EVENT_NAME | B2: EVENT_NAME | C2: SAMPLE_CODE | D2: SAMPLE_CODE | E2: SAMPLE_LABEL | F2: SAMPLE_NUMBER | G2: SAMPLING_START_DATE | H2: SAMPLING_END_DATE | I2: TIME_FLAG | J2: DTYPE | K2: REALM | L2: NUNBER_OF_AGG_SAMPLES | M2: SAMPLING_DEPTH_CATEGORY | N2: ACTUAL_SAMPLING_DEPTH | O2: ACTUAL_SAMPLING_DEPTH_FLAG | P2: MIN_SAMPLING_DEPTH | Q2: MAX_SAMPLING_DEPTH | R2: VOLUME | S2: SURFACE | T2: SAMPLE_DIAMETER | U2: EXCEPTIONAL_CIRCUMSTANCES | V2: FLOW_VOLIME_OF_WATER | W2: FLOW_CALCULATION_METHOD | X2: SUBSTRAT
A3: =events!#REF! -> #REF! | B3: =events!$S3 -> GeoxyzX_2111-WestdiepSeafarm-0m-1a | C3: =CONCATENATE(B3,"-",E3) -> GeoxyzX_2111-WestdiepSeafarm-0m-1a-VV1 | D3: =CONCATENATE(A3,"-",E3) -> #REF! | E3: VV1 | F3: 1 | G3: 44510 | H3: 44510 | I3: time unknown | J3: ZB | K3: Benthos | L3: 1 | M3: bottom | N3: 12.96876 | O3: acceptable | S3: 0.1
A4: =events!#REF! -> #REF! | B4: =events!$S4 -> GeoxyzX_2111-WestdiepSeafarm-0m-1b | C4: =CONCATENATE(B4,"-",E4) -> GeoxyzX_2111-WestdiepSeafarm-0m-1b-VV2 | D4: =CONCATENATE(A4,"-",E4) -> #REF! | E4: VV2 | F4: 1 | G4: 44510 | H4: 44510 | I4: time unknown | J4: ZB | K4: Benthos | L4: 1 | M4: bottom | N4: 12.96876 | O4: acceptable | S4: 0.1
A5: =events!#REF! -> #REF! | B5: =events!$S5 -> GeoxyzX_2111-WestdiepSeafarm-0m-1c | C5: =CONCATENATE(B5,"-",E5) -> GeoxyzX_2111-WestdiepSeafarm-0m-1c-VV3 | D5: =CONCATENATE(A5,"-",E5) -> #REF! | E5: VV3 | F5: 1 | G5: 44510 | H5: 44510 | I5: time unknown | J5: ZB | K5: Benthos | L5: 1 | M5: bottom | N5: 12.96876 | O5: acceptable | S5: 0.1
A6: =events!#REF! -> #REF! | B6: =events!$S6 -> GeoxyzX_2111-WestdiepSeafarm-0m-2a | C6: =CONCATENATE(B6,"-",E6) -> GeoxyzX_2111-WestdiepSeafarm-0m-2a-VV1 | D6: =CONCATENATE(A6,"-",E6) -> #REF! | E6: VV1 | F6: 1 | G6: 44510 | H6: 44510 | I6: time unknown | J6: ZB | K6: Benthos | L6: 1 | M6: bottom | N6: 13.03113 | O6: acceptable | S6: 0.1
A7: =events!#REF! -> #REF! | B7: =events!$S7 -> GeoxyzX_2111-WestdiepSeafarm-0m-2b | C7: =CONCATENATE(B7,"-",E7) -> GeoxyzX_2111-WestdiepSeafarm-0m-2b-VV2 | D7: =CONCATENATE(A7,"-",E7) -> #REF! | E7: VV2 | F7: 1 | G7: 44510 | H7: 44510 | I7: time unknown | J7: ZB | K7: Benthos | L7: 1 | M7: bottom | N7: 13.03113 | O7: acceptable | S7: 0.1
A8: =events!#REF! -> #REF! | B8: =events!$S8 -> GeoxyzX_2111-WestdiepSeafarm-0m-2c | C8: =CONCATENATE(B8,"-",E8) -> GeoxyzX_2111-WestdiepSeafarm-0m-2c-VV3 | D8: =CONCATENATE(A8,"-",E8) -> #REF! | E8: VV3 | F8: 1 | G8: 44510 | H8: 44510 | I8: time unknown | J8: ZB | K8: Benthos | L8: 1 | M8: bottom | N8: 13.03113 | O8: acceptable | S8: 0.1
A9: =events!#REF! -> #REF! | B9: =events!$S9 -> GeoxyzX_2111-WestdiepSeafarm-75m-a | C9: =CONCATENATE(B9,"-",E9) -> GeoxyzX_2111-WestdiepSeafarm-75m-a-VV1 | D9: =CONCATENATE(A9,"-",E9) -> #REF! | E9: VV1 | F9: 1 | G9: 44510 | H9: 44510 | I9: time unknown | J9: ZB | K9: Benthos | L9: 1 | M9: bottom | N9: 12.13678 | O9: acceptable | S9: 0.1
A10: =events!#REF! -> #REF! | B10: =events!$S10 -> GeoxyzX_2111-WestdiepSeafarm-75m-b | C10: =CONCATENATE(B10,"-",E10) -> GeoxyzX_2111-WestdiepSeafarm-75m-b-VV2 | D10: =CONCATENATE(A10,"-",E10) -> #REF! | E10: VV2 | F10: 1 | G10: 44510 | H10: 44510 | I10: time unknown | J10: ZB | K10: Benthos | L10: 1 | M10: bottom | N10: 12.13678 | O10: acceptable | S10: 0.1
A11: =events!#REF! -> #REF! | B11: =events!$S11 -> GeoxyzX_2111-WestdiepSeafarm-75m-c | C11: =CONCATENATE(B11,"-",E11) -> GeoxyzX_2111-WestdiepSeafarm-75m-c-VV3 | D11: =CONCATENATE(A11,"-",E11) -> #REF! | E11: VV3 | F11: 1 | G11: 44510 | H11: 44510 | I11: time unknown | J11: ZB | K11: Benthos | L11: 1 | M11: bottom | N11: 12.13678 | O11: acceptable | S11: 0.1
A12: =events!#REF! -> #REF! | B12: =events!$S12 -> GeoxyzX_2111-WestdiepSeafarm-150m-a | C12: =CONCATENATE(B12,"-",E12) -> GeoxyzX_2111-WestdiepSeafarm-150m-a-VV1 | D12: =CONCATENATE(A12,"-",E12) -> #REF! | E12: VV1 | F12: 1 | G12: 44510 | H12: 44510 | I12: time unknown | J12: ZB | K12: Benthos | L12: 1 | M12: bottom | N12: 12.13678 | O12: acceptable | S12: 0.1
A13: =events!#REF! -> #REF! | B13: =events!$S13 -> GeoxyzX_2111-WestdiepSeafarm-150m-b | C13: =CONCATENATE(B13,"-",E13) -> GeoxyzX_2111-WestdiepSeafarm-150m-b-VV2 | D13: =CONCATENATE(A13,"-",E13) -> #REF! | E13: VV2 | F13: 1 | G13: 44510 | H13: 44510 | I13: time unknown | J13: ZB | K13: Benthos | L13: 1 | M13: bottom | N13: 12.13678 | O13: acceptable | S13: 0.1
A14: =events!#REF! -> #REF! | B14: =events!$S14 -> GeoxyzX_2111-WestdiepSeafarm-150m-c | C14: =CONCATENATE(B14,"-",E14) -> GeoxyzX_2111-WestdiepSeafarm-150m-c-VV3 | D14: =CONCATENATE(A14,"-",E14) -> #REF! | E14: VV3 | F14: 1 | G14: 44510 | H14: 44510 | I14: time unknown | J14: ZB | K14: Benthos | L14: 1 | M14: bottom | N14: 12.13678 | O14: acceptable | S14: 0.1
... A62: =events!#REF! -> #REF! | B62: =events!$S62 -> GeoxyzX_2111-WestdiepSeafarm-4275m-c | C62: =CONCATENATE(B62,"-",E62) -> GeoxyzX_2111-WestdiepSeafarm-4275m-c-VV3 | D62: =CONCATENATE(A62,"-",E62) -> #REF! | E62: VV3 | F62: 1 | G62: 44510 | H62: 44510 | I62: time unknown | J62: ZB | K62: Benthos | L62: 1 | M62: bottom | N62: 9.83939 | O62: acceptable | S62: 0.1
B63: =events!$S63 -> SS22-590-1-WestdiepSeafarm-75m-a | C63: =CONCATENATE(B63,"-",E63) -> SS22-590-1-WestdiepSeafarm-75m-a-VV1 | E63: VV1 | F63: 1 | G63: 44841 | H63: 44841 | I63: time unknown | J63: ZB | K63: Benthos | L63: 1 | M63: bottom | N63: 10.64 | O63: acceptable | S63: 0.1
B64: =events!$S64 -> SS22-590-1-WestdiepSeafarm-75m-b | C64: =CONCATENATE(B64,"-",E64) -> SS22-590-1-WestdiepSeafarm-75m-b-VV2 | E64: VV2 | F64: 1 | G64: 44841 | H64: 44841 | I64: time unknown | J64: ZB | K64: Benthos | L64: 1 | M64: bottom | N64: 10.64 | O64: acceptable | S64: 0.1
B65: =events!$S65 -> SS22-590-1-WestdiepSeafarm-75m-c | C65: =CONCATENATE(B65,"-",E65) -> SS22-590-1-WestdiepSeafarm-75m-c-VV3 | E65: VV3 | F65: 1 | G65: 44841 | H65: 44841 | I65: time unknown | J65: ZB | K65: Benthos | L65: 1 | M65: bottom | N65: 10.64 | O65: acceptable | S65: 0.1
B66: =events!$S66 -> SS22-590-1-WestdiepSeafarm-150m-a | C66: =CONCATENATE(B66,"-",E66) -> SS22-590-1-WestdiepSeafarm-150m-a-VV1 | E66: VV1 | F66: 1 | G66: 44841 | H66: 44841 | I66: time unknown | J66: ZB | K66: Benthos | L66: 1 | M66: bottom | N66: 10.64 | O66: acceptable | S66: 0.1
B67: =events!$S67 -> SS22-590-1-WestdiepSeafarm-150m-b | C67: =CONCATENATE(B67,"-",E67) -> SS22-590-1-WestdiepSeafarm-150m-b-VV2 | E67: VV2 | F67: 1 | G67: 44841 | H67: 44841 | I67: time unknown | J67: ZB | K67: Benthos | L67: 1 | M67: bottom | N67: 10.64 | O67: acceptable | S67: 0.1
B68: =events!$S68 -> SS22-590-1-WestdiepSeafarm-150m-c | C68: =CONCATENATE(B68,"-",E68) -> SS22-590-1-WestdiepSeafarm-150m-c-VV3 | E68: VV3 | F68: 1 | G68: 44841 | H68: 44841 | I68: time unknown | J68: ZB | K68: Benthos | L68: 1 | M68: bottom | N68: 10.64 | O68: acceptable | S68: 0.1
B69: =events!$S69 -> SS22-590-1-WestdiepSeafarm-225m-a | C69: =CONCATENATE(B69,"-",E69) -> SS22-590-1-WestdiepSeafarm-225m-a-VV1 | E69: VV1 | F69: 1 | G69: 44841 | H69: 44841 | I69: time unknown | J69: ZB | K69: Benthos | L69: 1 | M69: bottom | N69: 10.64 | O69: acceptable | S69: 0.1
B70: =events!$S70 -> SS22-590-1-WestdiepSeafarm-225m-b | C70: =CONCATENATE(B70,"-",E70) -> SS22-590-1-WestdiepSeafarm-225m-b-VV2 | E70: VV2 | F70: 1 | G70: 44841 | H70: 44841 | I70: time unknown | J70: ZB | K70: Benthos | L70: 1 | M70: bottom | N70: 10.64 | O70: acceptable | S70: 0.1
B71: =events!$S71 -> SS22-590-1-WestdiepSeafarm-225m-c | C71: =CONCATENATE(B71,"-",E71) -> SS22-590-1-WestdiepSeafarm-225m-c-VV3 | E71: VV3 | F71: 1 | G71: 44841 | H71: 44841 | I71: time unknown | J71: ZB | K71: Benthos | L71: 1 | M71: bottom | N71: 10.64 | O71: acceptable | S71: 0.1
B72: =events!$S72 -> SS22-590-1-WestdiepSeafarm-325m-a | C72: =CONCATENATE(B72,"-",E72) -> SS22-590-1-WestdiepSeafarm-325m-a-VV1 | E72: VV1 | F72: 1 | G72: 44841 | H72: 44841 | I72: time unknown | J72: ZB | K72: Benthos | L72: 1 | M72: bottom | N72: 10.64 | O72: acceptable | S72: 0.1
B73: =events!$S73 -> SS22-590-1-WestdiepSeafarm-325m-b | C73: =CONCATENATE(B73,"-",E73) -> SS22-590-1-WestdiepSeafarm-325m-b-VV2 | E73: VV2 | F73: 1 | G73: 44841 | H73: 44841 | I73: time unknown | J73: ZB | K73: Benthos | L73: 1 | M73: bottom | N73: 10.64 | O73: acceptable | S73: 0.1
B74: =events!$S74 -> SS22-590-1-WestdiepSeafarm-325m-c | C74: =CONCATENATE(B74,"-",E74) -> SS22-590-1-WestdiepSeafarm-325m-c-VV3 | E74: VV3 | F74: 1 | G74: 44841 | H74: 44841 | I74: time unknown | J74: ZB | K74: Benthos | L74: 1 | M74: bottom | N74: 10.64 | O74: acceptable | S74: 0.1
... B113: =events!$S113 -> BU2023/20-WestdiepSeafarm-4275m-c | C113: =CONCATENATE(B113,"-",E113) -> BU2023/20-WestdiepSeafarm-4275m-c-VV3 | E113: VV3 | F113: 1 | G113: 45221 | H113: 45221 | I113: time unknown | J113: ZB | K113: Benthos | L113: 1 | M113: bottom | N113: 14.9 | O113: acceptable | S113: 0.1

Sheet density_biomass
G1: SPECIES | R1: ABUNDANCES-BIOMASS
A2: SAMPLE_CODE | B2: SAMPLE_CODE | C2: SPECIMEN_CODE | D2: INCUBATION_CODE | E2: COLLECTED_SUBSAMPLE_CODE | F2: EXTRACTED_SUBSAMPLE_CODE | G2: SPECIES_LABEL | H2: SPECIES_SCIENTiFIC_NAME | I2: WORMS_APHIA_ID | J2: SCIENTIFIC_NAME_AUTHOR | K2: KINGDOM | L2: PHYLUM | M2: CLASS | N2: ORDER | O2: FAMILY | P2: GENUS | Q2: SPECIES | R2: SPECIES_FLAG | S2: DEVELOPMENT_STATUS | T2: SIZE_CLASS | U2: SEX_CODE | V2: ANIMAL_STATE | W2: PARAMAMETER_CODE | X2: VALUE | Y2: UNIT | Z2: VALUE_FLAG | AA2: DETLIM_FLAG | AB2: ANALYSIS_METHOD_CODE | AC2: ANALYSIS_DATE | AD2: UNCERTAINTY | AE2: REMARK
A3: =samples!$C$3 -> GeoxyzX_2111-WestdiepSeafarm-0m-1a-VV1 | B3: =samples!$C3 -> GeoxyzX_2111-WestdiepSeafarm-0m-1a-VV1 | H3: Echinocardium cordatum | I3: 124392 | K3: Animalia | L3: Echinodermata | M3: Echinoidea | N3: Spatangoida | O3: Loveniidae | P3: Echinocardium | Q3: cordatum | S3: AD | U3: U | V3: D | W3: =analysis_methods!$B$2 -> ABUN | X3: 60 | Y3: ind/m² | Z3: good | AA3: = | AB3: =analysis_methods!$M$2 -> TAXO_STE_MICROSCOPE | AC3: 45139
A4: =samples!$C$3 -> GeoxyzX_2111-WestdiepSeafarm-0m-1a-VV1 | B4: Geoxyz21-WestdiepSeafarm-0m-VV-VV1 | H4: Cylista troglodytes | I4: 855674 | K4: Animalia | L4: Cnidaria | M4: Hexacorallia | N4: Actiniaria | O4: Sagartiidae | P4: Cylista | Q4: troglodytes | S4: AD | U4: U | V4: D | W4: =analysis_methods!$B$2 -> ABUN | X4: 50 | Y4: ind/m² | Z4: good | AA4: = | AB4: =analysis_methods!$M$2 -> TAXO_STE_MICROSCOPE | AC4: 45139
A5: =samples!$C$3 -> GeoxyzX_2111-WestdiepSeafarm-0m-1a-VV1 | B5: Geoxyz21-WestdiepSeafarm-0m-VV-VV1 | H5: Ophiura ophiura | I5: 124929 | K5: Animalia | L5: Echinodermata | M5: Ophiuroidea | N5: Ophiurida | O5: Ophiuridae | P5: Ophiura | Q5: ophiura | S5: AD | U5: U | V5: D | W5: =analysis_methods!$B$2 -> ABUN | X5: 190 | Y5: ind/m² | Z5: good | AA5: = | AB5: =analysis_methods!$M$2 -> TAXO_STE_MICROSCOPE | AC5: 45139
A6: =samples!$C$3 -> GeoxyzX_2111-WestdiepSeafarm-0m-1a-VV1 | B6: Geoxyz21-WestdiepSeafarm-0m-VV-VV1 | H6: Spisula solida | I6: 140301 | K6: Animalia | L6: Mollusca | M6: Bivalvia | N6: Venerida | O6: Mactridae | P6: Spisula | Q6: solida | S6: AD | U6: U | V6: D | W6: =analysis_methods!$B$2 -> ABUN | X6: 50 | Y6: ind/m² | Z6: good | AA6: = | AB6: =analysis_methods!$M$2 -> TAXO_STE_MICROSCOPE | AC6: 45139
A7: =samples!$C$3 -> GeoxyzX_2111-WestdiepSeafarm-0m-1a-VV1 | B7: Geoxyz21-WestdiepSeafarm-0m-VV-VV1 | H7: Abra alba | I7: 141433 | K7: Animalia | L7: Mollusca | M7: Bivalvia | N7: Cardiida | O7: Semelidae | P7: Abra | Q7: alba | S7: AD | U7: U | V7: D | W7: =analysis_methods!$B$2 -> ABUN | X7: 80 | Y7: ind/m² | Z7: good | AA7: = | AB7: =analysis_methods!$M$2 -> TAXO_STE_MICROSCOPE | AC7: 45139
A8: =samples!$C$3 -> GeoxyzX_2111-WestdiepSeafarm-0m-1a-VV1 | B8: Geoxyz21-WestdiepSeafarm-0m-VV-VV1 | H8: Notomastus latericeus | I8: 129898 | K8: Animalia | L8: Annelida | M8: Polychaeta | O8: Capitellidae | P8: Notomastus | Q8: latericeus | S8: AD | U8: U | V8: D | W8: =analysis_methods!$B$2 -> ABUN | X8: 90 | Y8: ind/m² | Z8: good | AA8: = | AB8: =analysis_methods!$M$2 -> TAXO_STE_MICROSCOPE | AC8: 45139
A9: =samples!$C$3 -> GeoxyzX_2111-WestdiepSeafarm-0m-1a-VV1 | B9: Geoxyz21-WestdiepSeafarm-0m-VV-VV1 | H9: Nephtys hombergii | I9: 130359 | K9: Animalia | L9: Annelida | M9: Polychaeta | N9: Phyllodocida | O9: Nephtyidae | P9: Nephtys | Q9: hombergii | S9: AD | U9: U | V9: D | W9: =analysis_methods!$B$2 -> ABUN | X9: 90 | Y9: ind/m² | Z9: good | AA9: = | AB9: =analysis_methods!$M$2 -> TAXO_STE_MICROSCOPE | AC9: 45139
A10: =samples!$C$3 -> GeoxyzX_2111-WestdiepSeafarm-0m-1a-VV1 | B10: Geoxyz21-WestdiepSeafarm-0m-VV-VV1 | H10: Lagis koreni | I10: 152367 | K10: Animalia | L10: Annelida | M10: Polychaeta | N10: Terebellida | O10: Pectinariidae | P10: Lagis | Q10: koreni | S10: AD | U10: U | V10: D | W10: =analysis_methods!$B$2 -> ABUN | X10: 30 | Y10: ind/m² | Z10: good | AA10: = | AB10: =analysis_methods!$M$2 -> TAXO_STE_MICROSCOPE | AC10: 45139
A11: =samples!$C$3 -> GeoxyzX_2111-WestdiepSeafarm-0m-1a-VV1 | B11: Geoxyz21-WestdiepSeafarm-0m-VV-VV1 | H11: Kurtiella bidentata | I11: 345281 | K11: Animalia | L11: Mollusca | M11: Bivalvia | N11: Galeommatida | O11: Lasaeidae | P11: Kurtiella | Q11: bidentata | S11: AD | U11: U | V11: D | W11: =analysis_methods!$B$2 -> ABUN | X11: 700 | Y11: ind/m² | Z11: good | AA11: = | AB11: =analysis_methods!$M$2 -> TAXO_STE_MICROSCOPE | AC11: 45139
A12: =samples!$C$3 -> GeoxyzX_2111-WestdiepSeafarm-0m-1a-VV1 | B12: Geoxyz21-WestdiepSeafarm-0m-VV-VV1 | H12: Fabulina fabula | I12: 146907 | K12: Animalia | L12: Mollusca | M12: Bivalvia | N12: Cardiida | O12: Tellinidae | P12: Fabulina | Q12: fabula | S12: AD | U12: U | V12: D | W12: =analysis_methods!$B$2 -> ABUN | X12: 20 | Y12: ind/m² | Z12: good | AA12: = | AB12: =analysis_methods!$M$2 -> TAXO_STE_MICROSCOPE | AC12: 45139
A13: =samples!$C$3 -> GeoxyzX_2111-WestdiepSeafarm-0m-1a-VV1 | B13: Geoxyz21-WestdiepSeafarm-0m-VV-VV1 | H13: Ophiura ophiura juv. | I13: 124929 | K13: Animalia | L13: Echinodermata | M13: Ophiuroidea | N13: Ophiurida | O13: Ophiuridae | P13: Ophiura | Q13: ophiura | S13: JV | U13: U | V13: D | W13: =analysis_methods!$B$2 -> ABUN | X13: 40 | Y13: ind/m² | Z13: good | AA13: = | AB13: =analysis_methods!$M$2 -> TAXO_STE_MICROSCOPE | AC13: 45139
A14: =samples!$C$3 -> GeoxyzX_2111-WestdiepSeafarm-0m-1a-VV1 | B14: Geoxyz21-WestdiepSeafarm-0m-VV-VV1 | H14: Owenia fusiformis | I14: 130544 | K14: Animalia | L14: Annelida | M14: Polychaeta | O14: Oweniidae | P14: Owenia | Q14: fusiformis | S14: AD | U14: U | V14: D | W14: =analysis_methods!$B$2 -> ABUN | X14: 150 | Y14: ind/m² | Z14: good | AA14: = | AB14: =analysis_methods!$M$2 -> TAXO_STE_MICROSCOPE | AC14: 45139
A15: =samples!$C$3 -> GeoxyzX_2111-WestdiepSeafarm-0m-1a-VV1 | B15: Geoxyz21-WestdiepSeafarm-0m-VV-VV1 | H15: Abra alba juv. | I15: 141433 | K15: Animalia | L15: Mollusca | M15: Bivalvia | N15: Cardiida | O15: Semelidae | P15: Abra | Q15: alba | S15: JV | U15: U | V15: D | W15: =analysis_methods!$B$2 -> ABUN | X15: 130 | Y15: ind/m² | Z15: good | AA15: = | AB15: =analysis_methods!$M$2 -> TAXO_STE_MICROSCOPE | AC15: 45139
A16: =samples!$C$3 -> GeoxyzX_2111-WestdiepSeafarm-0m-1a-VV1 | B16: Geoxyz21-WestdiepSeafarm-0m-VV-VV1 | H16: Magelona johnstoni | I16: 130269 | K16: Animalia | L16: Annelida | M16: Polychaeta | O16: Magelonidae | P16: Magelona | Q16: johnstoni | S16: AD | U16: U | V16: D | W16: =analysis_methods!$B$2 -> ABUN | X16: 220 | Y16: ind/m² | Z16: good | AA16: = | AB16: =analysis_methods!$M$2 -> TAXO_STE_MICROSCOPE | AC16: 45139
A17: =samples!$C$3 -> GeoxyzX_2111-WestdiepSeafarm-0m-1a-VV1 | B17: Geoxyz21-WestdiepSeafarm-0m-VV-VV1 | H17: Spiophanes bombyx | I17: 131187 | K17: Animalia | L17: Annelida | M17: Polychaeta | N17: Spionida | O17: Spionidae | P17: Spiophanes | Q17: bombyx | S17: AD | U17: U | V17: D | W17: =analysis_methods!$B$2 -> ABUN | X17: 90 | Y17: ind/m² | Z17: good | AA17: = | AB17: =analysis_methods!$M$2 -> TAXO_STE_MICROSCOPE | AC17: 45139
A18: =samples!$C$3 -> GeoxyzX_2111-WestdiepSeafarm-0m-1a-VV1 | B18: Geoxyz21-WestdiepSeafarm-0m-VV-VV1 | H18: Nephtys cirrosa | I18: 130357 | K18: Animalia | L18: Annelida | M18: Polychaeta | N18: Phyllodocida | O18: Nephtyidae | P18: Nephtys | Q18: cirrosa | S18: AD | U18: U | V18: D | W18: =analysis_methods!$B$2 -> ABUN | X18: 80 | Y18: ind/m² | Z18: good | AA18: = | AB18: =analysis_methods!$M$2 -> TAXO_STE_MICROSCOPE | AC18: 45139
A19: =samples!$C$3 -> GeoxyzX_2111-WestdiepSeafarm-0m-1a-VV1 | B19: Geoxyz21-WestdiepSeafarm-0m-VV-VV1 | H19: Fabulina fabula juv. | I19: 146907 | K19: Animalia | L19: Mollusca | M19: Bivalvia | N19: Cardiida | O19: Tellinidae | P19: Fabulina | Q19: fabula | S19: JV | U19: U | V19: D | W19: =analysis_methods!$B$2 -> ABUN | X19: 20 | Y19: ind/m² | Z19: good | AA19: = | AB19: =analysis_methods!$M$2 -> TAXO_STE_MICROSCOPE | AC19: 45139
A20: =samples!$C$3 -> GeoxyzX_2111-WestdiepSeafarm-0m-1a-VV1 | B20: Geoxyz21-WestdiepSeafarm-0m-VV-VV1 | H20: Sigalion mathildae | I20: 131072 | K20: Animalia | L20: Annelida | M20: Polychaeta | N20: Phyllodocida | O20: Sigalionidae | P20: Sigalion | Q20: mathildae | S20: AD | U20: U | V20: D | W20: =analysis_methods!$B$2 -> ABUN | X20: 10 | Y20: ind/m² | Z20: good | AA20: = | AB20: =analysis_methods!$M$2 -> TAXO_STE_MICROSCOPE | AC20: 45139
A21: =samples!$C$3 -> GeoxyzX_2111-WestdiepSeafarm-0m-1a-VV1 | B21: Geoxyz21-WestdiepSeafarm-0m-VV-VV1 | H21: Glycera alba | I21: 130116 | K21: Animalia | L21: Annelida | M21: Polychaeta | N21: Phyllodocida | O21: Glyceridae | P21: Glycera | Q21: alba | S21: AD | U21: U | V21: D | W21: =analysis_methods!$B$2 -> ABUN | X21: 20 | Y21: ind/m² | Z21: good | AA21: = | AB21: =analysis_methods!$M$2 -> TAXO_STE_MICROSCOPE | AC21: 45139
A22: =samples!$C$3 -> GeoxyzX_2111-WestdiepSeafarm-0m-1a-VV1 | B22: Geoxyz21-WestdiepSeafarm-0m-VV-VV1 | H22: Cirratulidae | I22: 919 | K22: Animalia | L22: Annelida | M22: Polychaeta | N22: Terebellida | O22: Cirratulidae | S22: AD | U22: U | V22: D | W22: =analysis_methods!$B$2 -> ABUN | X22: 60 | Y22: ind/m² | Z22: good | AA22: = | AB22: =analysis_methods!$M$2 -> TAXO_STE_MICROSCOPE | AC22: 45139
A23: =samples!$C$3 -> GeoxyzX_2111-WestdiepSeafarm-0m-1a-VV1 | B23: Geoxyz21-WestdiepSeafarm-0m-VV-VV1 | H23: Capitella capitata | I23: 129876 | K23: Animalia | L23: Annelida | M23: Polychaeta | O23: Capitellidae | P23: Capitella | Q23: capitata | S23: AD | U23: U | V23: D | W23: =analysis_methods!$B$2 -> ABUN | X23: 60 | Y23: ind/m² | Z23: good | AA23: = | AB23: =analysis_methods!$M$2 -> TAXO_STE_MICROSCOPE | AC23: 45139
A24: =samples!$C$3 -> GeoxyzX_2111-WestdiepSeafarm-0m-1a-VV1 | B24: Geoxyz21-WestdiepSeafarm-0m-VV-VV1 | H24: Pariambus typicus | I24: 101857 | K24: Animalia | L24: Arthropoda | M24: Malacostraca | N24: Amphipoda | O24: Caprellidae | P24: Pariambus | Q24: typicus | S24: AD | U24: U | V24: D | W24: =analysis_methods!$B$2 -> ABUN | X24: 40 | Y24: ind/m² | Z24: good | AA24: = | AB24: =analysis_methods!$M$2 -> TAXO_STE_MICROSCOPE | AC24: 45139
A25: =samples!$C$3 -> GeoxyzX_2111-WestdiepSeafarm-0m-1a-VV1 | B25: Geoxyz21-WestdiepSeafarm-0m-VV-VV1 | H25: Sipunculidae | I25: 1648 | K25: Animalia | L25: Annelida | N25: Sipuncula | O25: Sipunculidae | S25: AD | U25: U | V25: D | W25: =analysis_methods!$B$2 -> ABUN | X25: 10 | Y25: ind/m² | Z25: good | AA25: = | AB25: =analysis_methods!$M$2 -> TAXO_STE_MICROSCOPE | AC25: 45139
A26: =samples!$C$3 -> GeoxyzX_2111-WestdiepSeafarm-0m-1a-VV1 | B26: Geoxyz21-WestdiepSeafarm-0m-VV-VV1 | H26: Oligochaeta | I26: 2036 | K26: Animalia | L26: Annelida | M26: Clitellata | S26: AD | U26: U | V26: D | W26: =analysis_methods!$B$2 -> ABUN | X26: 210 | Y26: ind/m² | Z26: good | AA26: = | AB26: =analysis_methods!$M$2 -> TAXO_STE_MICROSCOPE | AC26: 45139
A27: =samples!$C$3 -> GeoxyzX_2111-WestdiepSeafarm-0m-1a-VV1 | B27: Geoxyz21-WestdiepSeafarm-0m-VV-VV1 | H27: Abludomelita obtusata | I27: 102788 | K27: Animalia | L27: Arthropoda | M27: Malacostraca | N27: Amphipoda | O27: Melitidae | P27: Abludomelita | Q27: obtusata | S27: AD | U27: U | V27: D | W27: =analysis_methods!$B$2 -> ABUN | X27: 30 | Y27: ind/m² | Z27: good | AA27: = | AB27: =analysis_methods!$M$2 -> TAXO_STE_MICROSCOPE | AC27: 45139
A28: =samples!$C$3 -> GeoxyzX_2111-WestdiepSeafarm-0m-1a-VV1 | B28: Geoxyz21-WestdiepSeafarm-0m-VV-VV1 | H28: Pholoe baltica | I28: 130599 | K28: Animalia | L28: Annelida | M28: Polychaeta | N28: Phyllodocida | O28: Sigalionidae | P28: Pholoe | Q28: baltica | S28: AD | U28: U | V28: D | W28: =analysis_methods!$B$2 -> ABUN | X28: 20 | Y28: ind/m² | Z28: good | AA28: = | AB28: =analysis_methods!$M$2 -> TAXO_STE_MICROSCOPE | AC28: 45139
A29: =samples!$C$3 -> GeoxyzX_2111-WestdiepSeafarm-0m-1a-VV1 | B29: Geoxyz21-WestdiepSeafarm-0m-VV-VV1 | H29: Pontocrates altamarinus | I29: 102916 | K29: Animalia | L29: Arthropoda | M29: Malacostraca | N29: Amphipoda | O29: Oedicerotidae | P29: Pontocrates | Q29: altamarinus | S29: AD | U29: U | V29: D | W29: =analysis_methods!$B$2 -> ABUN | X29: 30 | Y29: ind/m² | Z29: good | AA29: = | AB29: =analysis_methods!$M$2 -> TAXO_STE_MICROSCOPE | AC29: 45139
A30: =samples!$C$3 -> GeoxyzX_2111-WestdiepSeafarm-0m-1a-VV1 | B30: Geoxyz21-WestdiepSeafarm-0m-VV-VV1 | H30: Myrianida | I30: 129659 | K30: Animalia | L30: Annelida | M30: Polychaeta | N30: Phyllodocida | O30: Syllidae | P30: Myrianida | S30: AD | U30: U | V30: D | W30: =analysis_methods!$B$2 -> ABUN | X30: 20 | Y30: ind/m² | Z30: good | AA30: = | AB30: =analysis_methods!$M$2 -> TAXO_STE_MICROSCOPE | AC30: 45139
A31: =samples!$C$3 -> GeoxyzX_2111-WestdiepSeafarm-0m-1a-VV1 | B31: Geoxyz21-WestdiepSeafarm-0m-VV-VV1 | H31: Nematoda | I31: 799 | K31: Animalia | L31: Nematoda | S31: AD | U31: U | V31: D | W31: =analysis_methods!$B$2 -> ABUN | X31: 10 | Y31: ind/m² | Z31: good | AA31: = | AB31: =analysis_methods!$M$2 -> TAXO_STE_MICROSCOPE | AC31: 45139
A32: =samples!$C$3 -> GeoxyzX_2111-WestdiepSeafarm-0m-1a-VV1 | B32: Geoxyz21-WestdiepSeafarm-0m-VV-VV1 | H32: Nototropis swammerdamei | I32: 488966 | K32: Animalia | L32: Arthropoda | M32: Malacostraca | N32: Amphipoda | O32: Atylidae | P32: Nototropis | Q32: swammerdamei | S32: AD | U32: U | V32: D | W32: =analysis_methods!$B$2 -> ABUN | X32: 10 | Y32: ind/m² | Z32: good | AA32: = | AB32: =analysis_methods!$M$2 -> TAXO_STE_MICROSCOPE | AC32: 45139
A33: =samples!C$4 -> GeoxyzX_2111-WestdiepSeafarm-0m-1b-VV2 | B33: Geoxyz21-WestdiepSeafarm-0m-VV-VV2 | H33: Echinocardium cordatum | I33: 124392 | K33: Animalia | L33: Echinodermata | M33: Echinoidea | N33: Spatangoida | O33: Loveniidae | P33: Echinocardium | Q33: cordatum | S33: AD | U33: U | V33: D | W33: =analysis_methods!$B$2 -> ABUN | X33: 90 | Y33: ind/m² | Z33: good | AA33: = | AB33: =analysis_methods!$M$2 -> TAXO_STE_MICROSCOPE | AC33: 45139
A34: =samples!C$4 -> GeoxyzX_2111-WestdiepSeafarm-0m-1b-VV2 | B34: Geoxyz21-WestdiepSeafarm-0m-VV-VV2 | H34: Cylista troglodytes | I34: 855674 | K34: Animalia | L34: Cnidaria | M34: Hexacorallia | N34: Actiniaria | O34: Sagartiidae | P34: Cylista | Q34: troglodytes | S34: AD | U34: U | V34: D | W34: =analysis_methods!$B$2 -> ABUN | X34: 100 | Y34: ind/m² | Z34: good | AA34: = | AB34: =analysis_methods!$M$2 -> TAXO_STE_MICROSCOPE | AC34: 45139
A35: =samples!C$4 -> GeoxyzX_2111-WestdiepSeafarm-0m-1b-VV2 | B35: Geoxyz21-WestdiepSeafarm-0m-VV-VV2 | H35: Spisula solida | I35: 140301 | K35: Animalia | L35: Mollusca | M35: Bivalvia | N35: Venerida | O35: Mactridae | P35: Spisula | Q35: solida | S35: AD | U35: U | V35: D | W35: =analysis_methods!$B$2 -> ABUN | X35: 100 | Y35: ind/m² | Z35: good | AA35: = | AB35: =analysis_methods!$M$2 -> TAXO_STE_MICROSCOPE | AC35: 45139
A36: =samples!C$4 -> GeoxyzX_2111-WestdiepSeafarm-0m-1b-VV2 | B36: Geoxyz21-WestdiepSeafarm-0m-VV-VV2 | H36: Venerupis corrugata | I36: 181364 | K36: Animalia | L36: Mollusca | M36: Bivalvia | N36: Venerida | O36: Veneridae | P36: Venerupis | Q36: corrugata | S36: AD | U36: U | V36: D | W36: =analysis_methods!$B$2 -> ABUN | X36: 10 | Y36: ind/m² | Z36: good | AA36: = | AB36: =analysis_methods!$M$2 -> TAXO_STE_MICROSCOPE | AC36: 45139
A37: =samples!C$4 -> GeoxyzX_2111-WestdiepSeafarm-0m-1b-VV2 | B37: Geoxyz21-WestdiepSeafarm-0m-VV-VV2 | H37: Ophiura ophiura | I37: 124929 | K37: Animalia | L37: Echinodermata | M37: Ophiuroidea | N37: Ophiurida | O37: Ophiuridae | P37: Ophiura | Q37: ophiura | S37: AD | U37: U | V37: D | W37: =analysis_methods!$B$2 -> ABUN | X37: 140 | Y37: ind/m² | Z37: good | AA37: = | AB37: =analysis_methods!$M$2 -> TAXO_STE_MICROSCOPE | AC37: 45139
A38: =samples!C$4 -> GeoxyzX_2111-WestdiepSeafarm-0m-1b-VV2 | B38: Geoxyz21-WestdiepSeafarm-0m-VV-VV2 | H38: Abra alba | I38: 141433 | K38: Animalia | L38: Mollusca | M38: Bivalvia | N38: Cardiida | O38: Semelidae | P38: Abra | Q38: alba | S38: AD | U38: U | V38: D | W38: =analysis_methods!$B$2 -> ABUN | X38: 100 | Y38: ind/m² | Z38: good | AA38: = | AB38: =analysis_methods!$M$2 -> TAXO_STE_MICROSCOPE | AC38: 45139
A39: =samples!C$4 -> GeoxyzX_2111-WestdiepSeafarm-0m-1b-VV2 | B39: Geoxyz21-WestdiepSeafarm-0m-VV-VV2 | H39: Lagis koreni | I39: 152367 | K39: Animalia | L39: Annelida | M39: Polychaeta | N39: Terebellida | O39: Pectinariidae | P39: Lagis | Q39: koreni | S39: AD | U39: U | V39: D | W39: =analysis_methods!$B$2 -> ABUN | X39: 90 | Y39: ind/m² | Z39: good | AA39: = | AB39: =analysis_methods!$M$2 -> TAXO_STE_MICROSCOPE | AC39: 45139
A40: =samples!C$4 -> GeoxyzX_2111-WestdiepSeafarm-0m-1b-VV2 | B40: Geoxyz21-WestdiepSeafarm-0m-VV-VV2 | H40: Fabulina fabula | I40: 146907 | K40: Animalia | L40: Mollusca | M40: Bivalvia | N40: Cardiida | O40: Tellinidae | P40: Fabulina | Q40: fabula | S40: AD | U40: U | V40: D | W40: =analysis_methods!$B$2 -> ABUN | X40: 60 | Y40: ind/m² | Z40: good | AA40: = | AB40: =analysis_methods!$M$2 -> TAXO_STE_MICROSCOPE | AC40: 45139
...

Sheet abiotic
C1: ABIOTIC
A2: SAMPLE_CODE | B2: SUBNUMBER | C2: PARAMAMETER_CODE | D2: REPLICATE | E2: VALUE | F2: UNIT | G2: MATRIX | H2: BASIS | I2: VALUE_FLAG | J2: DETLIM_FLAG | K2: ANALYSIS_METHOD_CODE | L2: ANALYSIS_DATE | M2: UNCERTAINTY | N2: REMARK
A3: =samples!C$3 -> GeoxyzX_2111-WestdiepSeafarm-0m-1a-VV1 | B3: 1 | C3: =analysis_methods!$B$4 -> MGS | D3: 1 | E3: 231.671 | F3: µm | G3: =analysis_methods!$J$4 -> SEDtot | H3: =analysis_methods!$K$4 -> D | I3: acceptable | J3: = | K3: =analysis_methods!$M$4 -> LASE DIF MEASURE | L3: 44896
A4: =samples!C$4 -> GeoxyzX_2111-WestdiepSeafarm-0m-1b-VV2 | B4: 1 | C4: =analysis_methods!$B$4 -> MGS | D4: 1 | E4: 236.638 | F4: µm | G4: =analysis_methods!$J$4 -> SEDtot | H4: =analysis_methods!$K$4 -> D | I4: acceptable | J4: = | K4: =analysis_methods!$M$4 -> LASE DIF MEASURE | L4: 44896
A5: =samples!C$5 -> GeoxyzX_2111-WestdiepSeafarm-0m-1c-VV3 | B5: 1 | C5: =analysis_methods!$B$4 -> MGS | D5: 1 | E5: 240.053 | F5: µm | G5: =analysis_methods!$J$4 -> SEDtot | H5: =analysis_methods!$K$4 -> D | I5: acceptable | J5: = | K5: =analysis_methods!$M$4 -> LASE DIF MEASURE | L5: 44896
A6: =samples!C$6 -> GeoxyzX_2111-WestdiepSeafarm-0m-2a-VV1 | B6: 1 | C6: =analysis_methods!$B$4 -> MGS | D6: 1 | E6: 240.422 | F6: µm | G6: =analysis_methods!$J$4 -> SEDtot | H6: =analysis_methods!$K$4 -> D | I6: acceptable | J6: = | K6: =analysis_methods!$M$4 -> LASE DIF MEASURE | L6: 44896
A7: =samples!C$7 -> GeoxyzX_2111-WestdiepSeafarm-0m-2b-VV2 | B7: 1 | C7: =analysis_methods!$B$4 -> MGS | D7: 1 | E7: 232.3 | F7: µm | G7: =analysis_methods!$J$4 -> SEDtot | H7: =analysis_methods!$K$4 -> D | I7: acceptable | J7: = | K7: =analysis_methods!$M$4 -> LASE DIF MEASURE | L7: 44896
A8: =samples!C$8 -> GeoxyzX_2111-WestdiepSeafarm-0m-2c-VV3 | B8: 1 | C8: =analysis_methods!$B$4 -> MGS | D8: 1 | E8: 221.258 | F8: µm | G8: =analysis_methods!$J$4 -> SEDtot | H8: =analysis_methods!$K$4 -> D | I8: acceptable | J8: = | K8: =analysis_methods!$M$4 -> LASE DIF MEASURE | L8: 44896
A9: =samples!C$9 -> GeoxyzX_2111-WestdiepSeafarm-75m-a-VV1 | B9: 1 | C9: =analysis_methods!$B$4 -> MGS | D9: 1 | E9: 359.796 | F9: µm | G9: =analysis_methods!$J$4 -> SEDtot | H9: =analysis_methods!$K$4 -> D | I9: acceptable | J9: = | K9: =analysis_methods!$M$4 -> LASE DIF MEASURE | L9: 44896
A10: =samples!C$10 -> GeoxyzX_2111-WestdiepSeafarm-75m-b-VV2 | B10: 1 | C10: =analysis_methods!$B$4 -> MGS | D10: 1 | E10: 404.675 | F10: µm | G10: =analysis_methods!$J$4 -> SEDtot | H10: =analysis_methods!$K$4 -> D | I10: acceptable | J10: = | K10: =analysis_methods!$M$4 -> LASE DIF MEASURE | L10: 44896
A11: =samples!C$11 -> GeoxyzX_2111-WestdiepSeafarm-75m-c-VV3 | B11: 1 | C11: =analysis_methods!$B$4 -> MGS | D11: 1 | E11: 357.337 | F11: µm | G11: =analysis_methods!$J$4 -> SEDtot | H11: =analysis_methods!$K$4 -> D | I11: acceptable | J11: = | K11: =analysis_methods!$M$4 -> LASE DIF MEASURE | L11: 44896
A12: =samples!C$12 -> GeoxyzX_2111-WestdiepSeafarm-150m-a-VV1 | B12: 1 | C12: =analysis_methods!$B$4 -> MGS | D12: 1 | E12: 348.539 | F12: µm | G12: =analysis_methods!$J$4 -> SEDtot | H12: =analysis_methods!$K$4 -> D | I12: acceptable | J12: = | K12: =analysis_methods!$M$4 -> LASE DIF MEASURE | L12: 44896
A13: =samples!C$13 -> GeoxyzX_2111-WestdiepSeafarm-150m-b-VV2 | B13: 1 | C13: =analysis_methods!$B$4 -> MGS | D13: 1 | E13: 392.047 | F13: µm | G13: =analysis_methods!$J$4 -> SEDtot | H13: =analysis_methods!$K$4 -> D | I13: acceptable | J13: = | K13: =analysis_methods!$M$4 -> LASE DIF MEASURE | L13: 44896
A14: =samples!C$14 -> GeoxyzX_2111-WestdiepSeafarm-150m-c-VV3 | B14: 1 | C14: =analysis_methods!$B$4 -> MGS | D14: 1 | E14: 384.541 | F14: µm | G14: =analysis_methods!$J$4 -> SEDtot | H14: =analysis_methods!$K$4 -> D | I14: acceptable | J14: = | K14: =analysis_methods!$M$4 -> LASE DIF MEASURE | L14: 44896
A15: =samples!C$15 -> GeoxyzX_2111-WestdiepSeafarm-225m-a-VV1 | B15: 1 | C15: =analysis_methods!$B$4 -> MGS | D15: 1 | E15: 337.522 | F15: µm | G15: =analysis_methods!$J$4 -> SEDtot | H15: =analysis_methods!$K$4 -> D | I15: acceptable | J15: = | K15: =analysis_methods!$M$4 -> LASE DIF MEASURE | L15: 44896
A16: =samples!C$16 -> GeoxyzX_2111-WestdiepSeafarm-225m-b-VV2 | B16: 1 | C16: =analysis_methods!$B$4 -> MGS | D16: 1 | E16: 347.868 | F16: µm | G16: =analysis_methods!$J$4 -> SEDtot | H16: =analysis_methods!$K$4 -> D | I16: acceptable | J16: = | K16: =analysis_methods!$M$4 -> LASE DIF MEASURE | L16: 44896
A17: =samples!C$17 -> GeoxyzX_2111-WestdiepSeafarm-225m-c-VV3 | B17: 1 | C17: =analysis_methods!$B$4 -> MGS | D17: 1 | E17: 363.62 | F17: µm | G17: =analysis_methods!$J$4 -> SEDtot | H17: =analysis_methods!$K$4 -> D | I17: acceptable | J17: = | K17: =analysis_methods!$M$4 -> LASE DIF MEASURE | L17: 44896
A18: =samples!C$18 -> GeoxyzX_2111-WestdiepSeafarm-325m-a-VV1 | B18: 1 | C18: =analysis_methods!$B$4 -> MGS | D18: 1 | E18: 351.337 | F18: µm | G18: =analysis_methods!$J$4 -> SEDtot | H18: =analysis_methods!$K$4 -> D | I18: acceptable | J18: = | K18: =analysis_methods!$M$4 -> LASE DIF MEASURE | L18: 44896
A19: =samples!C$19 -> GeoxyzX_2111-WestdiepSeafarm-325m-b-VV2 | B19: 1 | C19: =analysis_methods!$B$4 -> MGS | D19: 1 | E19: 353.208 | F19: µm | G19: =analysis_methods!$J$4 -> SEDtot | H19: =analysis_methods!$K$4 -> D | I19: acceptable | J19: = | K19: =analysis_methods!$M$4 -> LASE DIF MEASURE | L19: 44896
A20: =samples!C$20 -> GeoxyzX_2111-WestdiepSeafarm-325m-c-VV3 | B20: 1 | C20: =analysis_methods!$B$4 -> MGS | D20: 1 | E20: 352.259 | F20: µm | G20: =analysis_methods!$J$4 -> SEDtot | H20: =analysis_methods!$K$4 -> D | I20: acceptable | J20: = | K20: =analysis_methods!$M$4 -> LASE DIF MEASURE | L20: 44896
A21: =samples!C$21 -> GeoxyzX_2111-WestdiepSeafarm-425m-a-VV1 | B21: 1 | C21: =analysis_methods!$B$4 -> MGS | D21: 1 | E21: 363.774 | F21: µm | G21: =analysis_methods!$J$4 -> SEDtot | H21: =analysis_methods!$K$4 -> D | I21: acceptable | J21: = | K21: =analysis_methods!$M$4 -> LASE DIF MEASURE | L21: 44896
A22: =samples!C$22 -> GeoxyzX_2111-WestdiepSeafarm-425m-b-VV2 | B22: 1 | C22: =analysis_methods!$B$4 -> MGS | D22: 1 | E22: 385.828 | F22: µm | G22: =analysis_methods!$J$4 -> SEDtot | H22: =analysis_methods!$K$4 -> D | I22: acceptable | J22: = | K22: =analysis_methods!$M$4 -> LASE DIF MEASURE | L22: 44896
A23: =samples!C$23 -> GeoxyzX_2111-WestdiepSeafarm-425m-c-VV3 | B23: 1 | C23: =analysis_methods!$B$4 -> MGS | D23: 1 | E23: 385.177 | F23: µm | G23: =analysis_methods!$J$4 -> SEDtot | H23: =analysis_methods!$K$4 -> D | I23: acceptable | J23: = | K23: =analysis_methods!$M$4 -> LASE DIF MEASURE | L23: 44896
A24: =samples!C$24 -> GeoxyzX_2111-WestdiepSeafarm-525m-a-VV1 | B24: 1 | C24: =analysis_methods!$B$4 -> MGS | D24: 1 | E24: 365.883 | F24: µm | G24: =analysis_methods!$J$4 -> SEDtot | H24: =analysis_methods!$K$4 -> D | I24: acceptable | J24: = | K24: =analysis_methods!$M$4 -> LASE DIF MEASURE | L24: 44896
A25: =samples!C$25 -> GeoxyzX_2111-WestdiepSeafarm-525m-b-VV2 | B25: 1 | C25: =analysis_methods!$B$4 -> MGS | D25: 1 | E25: 333.457 | F25: µm | G25: =analysis_methods!$J$4 -> SEDtot | H25: =analysis_methods!$K$4 -> D | I25: acceptable | J25: = | K25: =analysis_methods!$M$4 -> LASE DIF MEASURE | L25: 44896
