Workbook

Sheet campaigns
A1: CAMPAIGN_NAME | B1: CAMPAIGN_CODE | C1: PLATFORM | D1: CSR_CODE | E1: CRUISE_TYPE | F1: CHIEF_SCIENTIST | G1: START_DATE | H1: END_DATE | I1: AREA_COVERED | J1: PORT_OF_DEPARTURE | K1: PORT_OF_ARRIVAL | L1: CRUISE_NARRATIVE
A2: GeoxyzX_2111 | B2: GeoxyzX_2111 | C2: Geosurveyor X | E2: Ecosystem | F2: Bruno Vlaeminck | G2: 44510 | H2: 44510 | I2: Belgian part of the North Sea | J2: Zeebrugge | K2: Zeebrugge
A3: GeoxyzXI_2112 | B3: GeoxyzXI_2112 | C3: Geosurveyor XI | E3: Ecosystem | F3: Bart Beuselinck | G3: 44547 | H3: 44547 | I3: Belgian part of the North Sea | J3: Zeebrugge | K3: Zeebrugge
A4: SS22-590-1 | B4: SS22-590-1 | C4: 11SS | E4: Ecosystem | F4: Bart Beuselinck | G4: 44841 | H4: 44841 | I4: Belgian part of the North Sea | J4: Ostende | K4: Ostende
A5: SS22-590-2 | B5: SS22-590-2 | C5: 11SS | E5: Ecosystem | F5: Bart Beuselinck | G5: 44844 | H5: 44844 | I5: Belgian part of the North Sea | J5: Ostende | K5: Ostende
A6: BU2023/20 | B6: BU2023/20 | C6: 11BU | E6: Ecosystem | F6: Bruno Vlaeminck | G6: 45220 | H6: 45224 | I6: Belgian part of the North Sea | J6: Zeebrugge | K6: Zeebrugge

Sheet events
A1: CAMPAIGN | B1: TRAJECTORY_TRANSECT | L1: STATIONS | AF1: EARS - EN-ROUTE_DATA
A2: CAMPAIGN_CODE | B2: TRANSECT_NAME | C2: TRAJECTORY_ORIGIN_NAME | D2: REF_START_LATITUDE | E2: REF_START_LONGITUDE | F2: REF_END_LATITUDE | G2: REF_END_LONGITUDE | H2: GRADIENT | I2: TOTAL_LENGHT | J2: TRANSECT_END_DETERMINATION | K2: DEPTH_ADJUSTMENT | L2: STATION_CODE | M2: TRANSECT_DISTANCE FROM_ORIGIN | N2: STATION_REF_LATITUDE | O2: STATION_REF_LONGITUDE | P2: REF_BOTTOM_DEPTH | Q2: STATION_TYPE | R2: MONITORING_STATION_TYPE | S2: EVENT_NAME | T2: EVENT_LABEL | U2: EVENT_ACTION | V2: EVENT_PROCESS | W2: INSTRUMENT_TYPE_L05 | X2: ICES_SAMPLER_TYPE | Y2: INSTRUMENT_MODEL_L22 | Z2: EVENT_TIMESTAMP | AA2: EVENT_TIME_FLAG | AB2: PROCESS_DEPTH | AC2: AUTHOR | AD2: LABORATORY | AE2: PROJECT_ACRONYM | AF2: ACQUISITION_TIMESTAMP | AG2: ACTUAL_LATITUDE | AH2: ACTUAL_LONGITUDE | AI2: BOTTOM_DEPTH | AJ2: HEADING | AK2: COURSE_OVER_GROUND | AL2: SPEED_OVER_GROUND | AM2: SURFACE_WATER_TEMPERATURE | AN2: SALINITY | AO2: CONDUCTIVITY | AP2: SIGMA_T | AQ2: WIND_SPEED | AR2: WIND_DIRECTION | AS2: AIR_TEMPERATURE | AT2: HUMIDITY | AU2: AIR_PRESSURE | AV2: SOLAR_RADIATION
A3: =campaigns!$B$2 -> GeoxyzX_2111 | B3: WestdiepSeafarm_NE | C3: WestdiepSeafarm | D3: 51.183971 | E3: 2.6690606 | F3: 51.205909 | G3: 2.7179871 | H3: NE | I3: 4275 | J3: CR | K3: N | L3: CODEVCO_A | M3: 0 | N3: 51.169512 | O3: 2.636867 | P3: 11.56 | Q3: MC | R3: B | S3: =CONCATENATE(A3,"-",C3,"-",M3,"m","-",T3) -> GeoxyzX_2111-WestdiepSeafarm-0m-1a | T3: 1a | U3: OnBottom | V3: Sample collection | W3: sediment grabs | X3: VV | Y3: Van Veen grab | Z3: 44510 | AA3: time unknown | AB3: 12.96876 | AC3: Christelle Jammar | AD3: Ugent | AE3: Westdiep Seafarm | AG3: 51.169512 | AH3: 2.636867 | AI3: -12.96876
A4: =campaigns!$B$2 -> GeoxyzX_2111 | B4: WestdiepSeafarm_NE | C4: WestdiepSeafarm | D4: 51.183971 | E4: 2.6690606 | F4: 51.205909 | G4: 2.7179871 | H4: NE | I4: 4275 | J4: CR | K4: N | L4: CODEVCO_A | M4: 0 | N4: 51.169512 | O4: 2.636867 | P4: 11.56 | Q4: MC | R4: B | S4: =CONCATENATE(A4,"-",C4,"-",M4,"m","-",T4) -> GeoxyzX_2111-WestdiepSeafarm-0m-1b | T4: 1b | U4: OnBottom | V4: Sample collection | W4: sediment grabs | X4: VV | Y4: Van Veen grab | Z4: 44510 | AA4: time unknown | AB4: 12.96876 | AC4: Christelle Jammar | AD4: Ugent | AE4: Westdiep Seafarm | AG4: 51.169512 | AH4: 2.636867 | AI4: -12.96876
A5: =campaigns!$B$2 -> GeoxyzX_2111 | B5: WestdiepSeafarm_NE | C5: WestdiepSeafarm | D5: 51.183971 | E5: 2.6690606 | F5: 51.205909 | G5: 2.7179871 | H5: NE | I5: 4275 | J5: CR | K5: N | L5: CODEVCO_A | M5: 0 | N5: 51.169512 | O5: 2.636867 | P5: 11.56 | Q5: MC | R5: B | S5: =CONCATENATE(A5,"-",C5,"-",M5,"m","-",T5) -> GeoxyzX_2111-WestdiepSeafarm-0m-1c | T5: 1c | U5: OnBottom | V5: Sample collection | W5: sediment grabs | X5: VV | Y5: Van Veen grab | Z5: 44510 | AA5: time unknown | AB5: 12.96876 | AC5: Christelle Jammar | AD5: Ugent | AE5: Westdiep Seafarm | AG5: 51.169512 | AH5: 2.636867 | AI5: -12.96876
A6: =campaigns!$B$2 -> GeoxyzX_2111 | B6: WestdiepSeafarm_NE | C6: WestdiepSeafarm | D6: 51.183971 | E6: 2.6690606 | F6: 51.205909 | G6: 2.7179871 | H6: NE | I6: 4275 | J6: CR | K6: N | L6: CODEVCO_C | M6: 0 | N6: 51.17449 | O6: 2.64811 | P6: 11.56 | Q6: MC | R6: B | S6: =CONCATENATE(A6,"-",C6,"-",M6,"m","-",T6) -> GeoxyzX_2111-WestdiepSeafarm-0m-2a | T6: 2a | U6: OnBottom | V6: Sample collection | W6: sediment grabs | X6: VV | Y6: Van Veen grab | Z6: 44510 | AA6: time unknown | AB6: 13.03113 | AC6: Christelle Jammar | AD6: Ugent | AE6: Westdiep Seafarm | AG6: 51.17449 | AH6: 2.64811 | AI6: -13.03113
A7: =campaigns!$B$2 -> GeoxyzX_2111 | B7: WestdiepSeafarm_NE | C7: WestdiepSeafarm | D7: 51.183971 | E7: 2.6690606 | F7: 51.205909 | G7: 2.7179871 | H7: NE | I7: 4275 | J7: CR | K7: N | L7: CODEVCO_C | M7: 0 | N7: 51.17449 | O7: 2.64811 | P7: 11.56 | Q7: MC | R7: B | S7: =CONCATENATE(A7,"-",C7,"-",M7,"m","-",T7) -> GeoxyzX_2111-WestdiepSeafarm-0m-2b | T7: 2b | U7: OnBottom | V7: Sample collection | W7: sediment grabs | X7: VV | Y7: Van Veen grab | Z7: 44510 | AA7: time unknown | AB7: 13.03113 | AC7: Christelle Jammar | AD7: Ugent | AE7: Westdiep Seafarm | AG7: 51.17449 | AH7: 2.64811 | AI7: -13.03113
A8: =campaigns!$B$2 -> GeoxyzX_2111 | B8: WestdiepSeafarm_NE | C8: WestdiepSeafarm | D8: 51.183971 | E8: 2.6690606 | F8: 51.205909 | G8: 2.7179871 | H8: NE | I8: 4275 | J8: CR | K8: N | L8: CODEVCO_C | M8: 0 | N8: 51.17449 | O8: 2.64811 | P8: 11.56 | Q8: MC | R8: B | S8: =CONCATENATE(A8,"-",C8,"-",M8,"m","-",T8) -> GeoxyzX_2111-WestdiepSeafarm-0m-2c | T8: 2c | U8: OnBottom | V8: Sample collection | W8: sediment grabs | X8: VV | Y8: Van Veen grab | Z8: 44510 | AA8: time unknown | AB8: 13.03113 | AC8: Christelle Jammar | AD8: Ugent | AE8: Westdiep Seafarm | AG8: 51.17449 | AH8: 2.64811 | AI8: -13.03113
A9: =campaigns!$B$2 -> GeoxyzX_2111 | B9: WestdiepSeafarm_NE | C9: WestdiepSeafarm | D9: 51.183971 | E9: 2.6690606 | F9: 51.205909 | G9: 2.7179871 | H9: NE | I9: 4275 | J9: CR | K9: N | L9: CODEVCO_75 | M9: 75 | N9: 51.183971 | O9: 2.6690606 | P9: 11.56 | Q9: MC | R9: B | S9: =CONCATENATE(A9,"-",C9,"-",M9,"m","-",T9) -> GeoxyzX_2111-WestdiepSeafarm-75m-a | T9: a | U9: OnBottom | V9: Sample collection | W9: sediment grabs | X9: VV | Y9: Van Veen grab | Z9: 44510 | AA9: time unknown | AB9: 12.13678 | AC9: Christelle Jammar | AD9: Ugent | AE9: Westdiep Seafarm | AG9: 51.183971 | AH9: 2.6690606 | AI9: -12.13678
A10: =campaigns!$B$2 -> GeoxyzX_2111 | B10: WestdiepSeafarm_NE | C10: WestdiepSeafarm | D10: 51.183971 | E10: 2.6690606 | F10: 51.205909 | G10: 2.7179871 | H10: NE | I10: 4275 | J10: CR | K10: N | L10: CODEVCO_75 | M10: 75 | N10: 51.183971 | O10: 2.6690606 | P10: 11.56 | Q10: MC | R10: B | S10: =CONCATENATE(A10,"-",C10,"-",M10,"m","-",T10) -> GeoxyzX_2111-WestdiepSeafarm-75m-b | T10: b | U10: OnBottom | V10: Sample collection | W10: sediment grabs | X10: VV | Y10: Van Veen grab | Z10: 44510 | AA10: time unknown | AB10: 12.13678 | AC10: Christelle Jammar | AD10: Ugent | AE10: Westdiep Seafarm | AG10: 51.183971 | AH10: 2.6690606 | AI10: -12.13678
A11: =campaigns!$B$2 -> GeoxyzX_2111 | B11: WestdiepSeafarm_NE | C11: WestdiepSeafarm | D11: 51.183971 | E11: 2.6690606 | F11: 51.205909 | G11: 2.7179871 | H11: NE | I11: 4275 | J11: CR | K11: N | L11: CODEVCO_75 | M11: 75 | N11: 51.183971 | O11: 2.6690606 | P11: 11.56 | Q11: MC | R11: B | S11: =CONCATENATE(A11,"-",C11,"-",M11,"m","-",T11) -> GeoxyzX_2111-WestdiepSeafarm-75m-c | T11: c | U11: OnBottom | V11: Sample collection | W11: sediment grabs | X11: VV | Y11: Van Veen grab | Z11: 44510 | AA11: time unknown | AB11: 12.13678 | AC11: Christelle Jammar | AD11: Ugent | AE11: Westdiep Seafarm | AG11: 51.183971 | AH11: 2.6690606 | AI11: -12.13678
A12: =campaigns!$B$2 -> GeoxyzX_2111 | B12: WestdiepSeafarm_NE | C12: WestdiepSeafarm | D12: 51.183971 | E12: 2.6690606 | F12: 51.205909 | G12: 2.7179871 | H12: NE | I12: 4275 | J12: CR | K12: N | L12: CODEVCO_150 | M12: 150 | N12: 51.184363 | O12: 2.669934 | P12: 11.56 | Q12: MC | R12: B | S12: =CONCATENATE(A12,"-",C12,"-",M12,"m","-",T12) -> GeoxyzX_2111-WestdiepSeafarm-150m-a | T12: a | U12: OnBottom | V12: Sample collection | W12: sediment grabs | X12: VV | Y12: Van Veen grab | Z12: 44510 | AA12: time unknown | AB12: 12.13678 | AC12: Christelle Jammar | AD12: Ugent | AE12: Westdiep Seafarm | AG12: 51.184363 | AH12: 2.669934 | AI12: -12.13678
A13: =campaigns!$B$2 -> GeoxyzX_2111 | B13: WestdiepSeafarm_NE | C13: WestdiepSeafarm | D13: 51.183971 | E13: 2.6690606 | F13: 51.205909 | G13: 2.7179871 | H13: NE | I13: 4275 | J13: CR | K13: N | L13: CODEVCO_150 | M13: 150 | N13: 51.184363 | O13: 2.669934 | P13: 11.56 | Q13: MC | R13: B | S13: =CONCATENATE(A13,"-",C13,"-",M13,"m","-",T13) -> GeoxyzX_2111-WestdiepSeafarm-150m-b | T13: b | U13: OnBottom | V13: Sample collection | W13: sediment grabs | X13: VV | Y13: Van Veen grab | Z13: 44510 | AA13: time unknown | AB13: 12.13678 | AC13: Christelle Jammar | AD13: Ugent | AE13: Westdiep Seafarm | AG13: 51.184363 | AH13: 2.669934 | AI13: -12.13678
A14: =campaigns!$B$2 -> GeoxyzX_2111 | B14: WestdiepSeafarm_NE | C14: WestdiepSeafarm | D14: 51.183971 | E14: 2.6690606 | F14: 51.205909 | G14: 2.7179871 | H14: NE | I14: 4275 | J14: CR | K14: N | L14: CODEVCO_150 | M14: 150 | N14: 51.184363 | O14: 2.669934 | P14: 11.56 | Q14: MC | R14: B | S14: =CONCATENATE(A14,"-",C14,"-",M14,"m","-",T14) -> GeoxyzX_2111-WestdiepSeafarm-150m-c | T14: c | U14: OnBottom | V14: Sample collection | W14: sediment grabs | X14: VV | Y14: Van Veen grab | Z14: 44510 | AA14: time unknown | AB14: 12.13678 | AC14: Christelle Jammar | AD14: Ugent | AE14: Westdiep Seafarm | AG14: 51.184363 | AH14: 2.669934 | AI14: -12.13678
... A38: =campaigns!$B$2 -> GeoxyzX_2111 | B38: WestdiepSeafarm_NE | C38: WestdiepSeafarm | D38: 51.183971 | E38: 2.6690606 | F38: 51.205909 | G38: 2.7179871 | H38: NE | I38: 4275 | J38: CR | K38: N | L38: CODEVCO_1225 | M38: 1225 | N38: 51.18998 | O38: 2.6824521 | P38: 11.56 | Q38: MC | R38: B | S38: =CONCATENATE(A38,"-",C38,"-",M38,"m","-",T38) -> GeoxyzX_2111-WestdiepSeafarm-1225m-c | T38: c | U38: OnBottom | V38: Sample collection | W38: sediment grabs | X38: VV | Y38: Van Veen grab | Z38: 44510 | AA38: time unknown | AB38: 10.65629 | AC38: Christelle Jammar | AD38: Ugent | AE38: Westdiep Seafarm | AG38: 51.18998 | AH38: 2.6824521 | AI38: -10.65629
A39: =campaigns!$B$3 -> GeoxyzXI_2112 | B39: WestdiepSeafarm_NE | C39: WestdiepSeafarm | D39: 51.183971 | E39: 2.6690606 | F39: 51.205909 | G39: 2.7179871 | H39: NE | I39: 4275 | J39: CR | K39: N | L39: CODEVCO_1475 | M39: 1475 | N39: 51.191286 | O39: 2.6853648 | P39: 11.56 | Q39: MC | R39: B | S39: =CONCATENATE(A39,"-",C39,"-",M39,"m","-",T39) -> GeoxyzXI_2112-WestdiepSeafarm-1475m-a | T39: a | U39: OnBottom | V39: Sample collection | W39: sediment grabs | X39: VV | Y39: Van Veen grab | Z39: 44547 | AA39: time unknown | AB39: 10.59608 | AC39: Christelle Jammar | AD39: Ugent | AE39: Westdiep Seafarm | AG39: 51.191286 | AH39: 2.6853648 | AI39: -10.59608
A40: =campaigns!$B$3 -> GeoxyzXI_2112 | B40: WestdiepSeafarm_NE | C40: WestdiepSeafarm | D40: 51.183971 | E40: 2.6690606 | F40: 51.205909 | G40: 2.7179871 | H40: NE | I40: 4275 | J40: CR | K40: N | L40: CODEVCO_1475 | M40: 1475 | N40: 51.191286 | O40: 2.6853648 | P40: 11.56 | Q40: MC | R40: B | S40: =CONCATENATE(A40,"-",C40,"-",M40,"m","-",T40) -> GeoxyzXI_2112-WestdiepSeafarm-1475m-b | T40: b | U40: OnBottom | V40: Sample collection | W40: sediment grabs | X40: VV | Y40: Van Veen grab | Z40: 44547 | AA40: time unknown | AB40: 10.59608 | AC40: Christelle Jammar | AD40: Ugent | AE40: Westdiep Seafarm | AG40: 51.191286 | AH40: 2.6853648 | AI40: -10.59608
A41: =campaigns!$B$3 -> GeoxyzXI_2112 | B41: WestdiepSeafarm_NE | C41: WestdiepSeafarm | D41: 51.183971 | E41: 2.6690606 | F41: 51.205909 | G41: 2.7179871 | H41: NE | I41: 4275 | J41: CR | K41: N | L41: CODEVCO_1475 | M41: 1475 | N41: 51.191286 | O41: 2.6853648 | P41: 11.56 | Q41: MC | R41: B | S41: =CONCATENATE(A41,"-",C41,"-",M41,"m","-",T41) -> GeoxyzXI_2112-WestdiepSeafarm-1475m-c | T41: c | U41: OnBottom | V41: Sample collection | W41: sediment grabs | X41: VV | Y41: Van Veen grab | Z41: 44547 | AA41: time unknown | AB41: 10.59608 | AC41: Christelle Jammar | AD41: Ugent | AE41: Westdiep Seafarm | AG41: 51.191286 | AH41: 2.6853648 | AI41: -10.59608
A42: =campaigns!$B$3 -> GeoxyzXI_2112 | B42: WestdiepSeafarm_NE | C42: WestdiepSeafarm | D42: 51.183971 | E42: 2.6690606 | F42: 51.205909 | G42: 2.7179871 | H42: NE | I42: 4275 | J42: CR | K42: N | L42: CODEVCO_1725 | M42: 1725 | N42: 51.192592 | O42: 2.6882757 | P42: 11.56 | Q42: MC | R42: B | S42: =CONCATENATE(A42,"-",C42,"-",M42,"m","-",T42) -> GeoxyzXI_2112-WestdiepSeafarm-1725m-a | T42: a | U42: OnBottom | V42: Sample collection | W42: sediment grabs | X42: VV | Y42: Van Veen grab | Z42: 44547 | AA42: time unknown | AB42: 10.38481 | AC42: Christelle Jammar | AD42: Ugent | AE42: Westdiep Seafarm | AG42: 51.192592 | AH42: 2.6882757 | AI42: -10.38481
A43: =campaigns!$B$3 -> GeoxyzXI_2112 | B43: WestdiepSeafarm_NE | C43: WestdiepSeafarm | D43: 51.183971 | E43: 2.6690606 | F43: 51.205909 | G43: 2.7179871 | H43: NE | I43: 4275 | J43: CR | K43: N | L43: CODEVCO_1725 | M43: 1725 | N43: 51.192592 | O43: 2.6882757 | P43: 11.56 | Q43: MC | R43: B | S43: =CONCATENATE(A43,"-",C43,"-",M43,"m","-",T43) -> GeoxyzXI_2112-WestdiepSeafarm-1725m-b | T43: b | U43: OnBottom | V43: Sample collection | W43: sediment grabs | X43: VV | Y43: Van Veen grab | Z43: 44547 | AA43: time unknown | AB43: 10.38481 | AC43: Christelle Jammar | AD43: Ugent | AE43: Westdiep Seafarm | AG43: 51.192592 | AH43: 2.6882757 | AI43: -10.38481
A44: =campaigns!$B$3 -> GeoxyzXI_2112 | B44: WestdiepSeafarm_NE | C44: WestdiepSeafarm | D44: 51.183971 | E44: 2.6690606 | F44: 51.205909 | G44: 2.7179871 | H44: NE | I44: 4275 | J44: CR | K44: N | L44: CODEVCO_1725 | M44: 1725 | N44: 51.192592 | O44: 2.6882757 | P44: 11.56 | Q44: MC | R44: B | S44: =CONCATENATE(A44,"-",C44,"-",M44,"m","-",T44) -> GeoxyzXI_2112-WestdiepSeafarm-1725m-c | T44: c | U44: OnBottom | V44: Sample collection | W44: sediment grabs | X44: VV | Y44: Van Veen grab | Z44: 44547 | AA44: time unknown | AB44: 10.38481 | AC44: Christelle Jammar | AD44: Ugent | AE44: Westdiep Seafarm | AG44: 51.192592 | AH44: 2.6882757 | AI44: -10.38481
A45: =campaigns!$B$2 -> GeoxyzX_2111 | B45: WestdiepSeafarm_NE | C45: WestdiepSeafarm | D45: 51.183971 | E45: 2.6690606 | F45: 51.205909 | G45: 2.7179871 | H45: NE | I45: 4275 | J45: CR | K45: N | L45: CODEVCO_2075 | M45: 2075 | N45: 51.19442 | O45: 2.6923527 | P45: 11.56 | Q45: MC | R45: B | S45: =CONCATENATE(A45,"-",C45,"-",M45,"m","-",T45) -> GeoxyzX_2111-WestdiepSeafarm-2075m-a | T45: a | U45: OnBottom | V45: Sample collection | W45: sediment grabs | X45: VV | Y45: Van Veen grab | Z45: 44510 | AA45: time unknown | AB45: 11.27445 | AC45: Christelle Jammar | AD45: Ugent | AE45: Westdiep Seafarm | AG45: 51.19442 | AH45: 2.6923527 | AI45: -11.27445
A46: =campaigns!$B$2 -> GeoxyzX_2111 | B46: WestdiepSeafarm_NE | C46: WestdiepSeafarm | D46: 51.183971 | E46: 2.6690606 | F46: 51.205909 | G46: 2.7179871 | H46: NE | I46: 4275 | J46: CR | K46: N | L46: CODEVCO_2075 | M46: 2075 | N46: 51.19442 | O46: 2.6923527 | P46: 11.56 | Q46: MC | R46: B | S46: =CONCATENATE(A46,"-",C46,"-",M46,"m","-",T46) -> GeoxyzX_2111-WestdiepSeafarm-2075m-b | T46: b | U46: OnBottom | V46: Sample collection | W46: sediment grabs | X46: VV | Y46: Van Veen grab | Z46: 44510 | AA46: time unknown | AB46: 11.27445 | AC46: Christelle Jammar | AD46: Ugent | AE46: Westdiep Seafarm | AG46: 51.19442 | AH46: 2.6923527 | AI46: -11.27445
A47: =campaigns!$B$2 -> GeoxyzX_2111 | B47: WestdiepSeafarm_NE | C47: WestdiepSeafarm | D47: 51.183971 | E47: 2.6690606 | F47: 51.205909 | G47: 2.7179871 | H47: NE | I47: 4275 | J47: CR | K47: N | L47: CODEVCO_2075 | M47: 2075 | N47: 51.19442 | O47: 2.6923527 | P47: 11.56 | Q47: MC | R47: B | S47: =CONCATENATE(A47,"-",C47,"-",M47,"m","-",T47) -> GeoxyzX_2111-WestdiepSeafarm-2075m-c | T47: c | U47: OnBottom | V47: Sample collection | W47: sediment grabs | X47: VV | Y47: Van Veen grab | Z47: 44510 | AA47: time unknown | AB47: 11.27445 | AC47: Christelle Jammar | AD47: Ugent | AE47: Westdiep Seafarm | AG47: 51.19442 | AH47: 2.6923527 | AI47: -11.27445
A48: =campaigns!$B$2 -> GeoxyzX_2111 | B48: WestdiepSeafarm_NE | C48: WestdiepSeafarm | D48: 51.183971 | E48: 2.6690606 | F48: 51.205909 | G48: 2.7179871 | H48: NE | I48: 4275 | J48: CR | K48: N | L48: CODEVCO_2425 | M48: 2425 | N48: 51.196248 | O48: 2.6964299 | P48: 11.56 | Q48: MC | R48: B | S48: =CONCATENATE(A48,"-",C48,"-",M48,"m","-",T48) -> GeoxyzX_2111-WestdiepSeafarm-2425m-a | T48: a | U48: OnBottom | V48: Sample collection | W48: sediment grabs | X48: VV | Y48: Van Veen grab | Z48: 44510 | AA48: time unknown | AB48: 11.2741 | AC48: Christelle Jammar | AD48: Ugent | AE48: Westdiep Seafarm | AG48: 51.196248 | AH48: 2.6964299 | AI48: -11.2741
A49: =campaigns!$B$2 -> GeoxyzX_2111 | B49: WestdiepSeafarm_NE | C49: WestdiepSeafarm | D49: 51.183971 | E49: 2.6690606 | F49: 51.205909 | G49: 2.7179871 | H49: NE | I49: 4275 | J49: CR | K49: N | L49: CODEVCO_2425 | M49: 2425 | N49: 51.196248 | O49: 2.6964299 | P49: 11.56 | Q49: MC | R49: B | S49: =CONCATENATE(A49,"-",C49,"-",M49,"m","-",T49) -> GeoxyzX_2111-WestdiepSeafarm-2425m-b | T49: b | U49: OnBottom | V49: Sample collection | W49: sediment grabs | X49: VV | Y49: Van Veen grab | Z49: 44510 | AA49: time unknown | AB49: 11.2741 | AC49: Christelle Jammar | AD49: Ugent | AE49: Westdiep Seafarm | AG49: 51.196248 | AH49: 2.6964299 | AI49: -11.2741
A50: =campaigns!$B$2 -> GeoxyzX_2111 | B50: WestdiepSeafarm_NE | C50: WestdiepSeafarm | D50: 51.183971 | E50: 2.6690606 | F50: 51.205909 | G50: 2.7179871 | H50: NE | I50: 4275 | J50: CR | K50: N | L50: CODEVCO_2425 | M50: 2425 | N50: 51.196248 | O50: 2.6964299 | P50: 11.56 | Q50: MC | R50: B | S50: =CONCATENATE(A50,"-",C50,"-",M50,"m","-",T50) -> GeoxyzX_2111-WestdiepSeafarm-2425m-c | T50: c | U50: OnBottom | V50: Sample collection | W50: sediment grabs | X50: VV | Y50: Van Veen grab | Z50: 44510 | AA50: time unknown | AB50: 11.2741 | AC50: Christelle Jammar | AD50: Ugent | AE50: Westdiep Seafarm | AG50: 51.196248 | AH50: 2.6964299 | AI50: -11.2741
A51: =campaigns!$B$2 -> GeoxyzX_2111 | B51: WestdiepSeafarm_NE | C51: WestdiepSeafarm | D51: 51.183971 | E51: 2.6690606 | F51: 51.205909 | G51: 2.7179871 | H51: NE | I51: 4275 | J51: CR | K51: N | L51: CODEVCO_2775 | M51: 2775 | N51: 51.198076 | O51: 2.7005074 | P51: 11.56 | Q51: MC | R51: B | S51: =CONCATENATE(A51,"-",C51,"-",M51,"m","-",T51) -> GeoxyzX_2111-WestdiepSeafarm-2775m-a | T51: a | U51: OnBottom | V51: Sample collection | W51: sediment grabs | X51: VV | Y51: Van Veen grab | Z51: 44510 | AA51: time unknown | AB51: 11.01664 | AC51: Christelle Jammar | AD51: Ugent | AE51: Westdiep Seafarm | AG51: 51.198076 | AH51: 2.7005074 | AI51: -11.01664
A52: =campaigns!$B$2 -> GeoxyzX_2111 | B52: WestdiepSeafarm_NE | C52: WestdiepSeafarm | D52: 51.183971 | E52: 2.6690606 | F52: 51.205909 | G52: 2.7179871 | H52: NE | I52: 4275 | J52: CR | K52: N | L52: CODEVCO_2775 | M52: 2775 | N52: 51.198076 | O52: 2.7005074 | P52: 11.56 | Q52: MC | R52: B | S52: =CONCATENATE(A52,"-",C52,"-",M52,"m","-",T52) -> GeoxyzX_2111-WestdiepSeafarm-2775m-b | T52: b | U52: OnBottom | V52: Sample collection | W52: sediment grabs | X52: VV | Y52: Van Veen grab | Z52: 44510 | AA52: time unknown | AB52: 11.01664 | AC52: Christelle Jammar | AD52: Ugent | AE52: Westdiep Seafarm | AG52: 51.198076 | AH52: 2.7005074 | AI52: -11.01664
A53: =campaigns!$B$2 -> GeoxyzX_2111 | B53: WestdiepSeafarm_NE | C53: WestdiepSeafarm | D53: 51.183971 | E53: 2.6690606 | F53: 51.205909 | G53: 2.7179871 | H53: NE | I53: 4275 | J53: CR | K53: N | L53: CODEVCO_2775 | M53: 2775 | N53: 51.198076 | O53: 2.7005074 | P53: 11.56 | Q53: MC | R53: B | S53: =CONCATENATE(A53,"-",C53,"-",M53,"m","-",T53) -> GeoxyzX_2111-WestdiepSeafarm-2775m-c | T53: c | U53: OnBottom | V53: Sample collection | W53: sediment grabs | X53: VV | Y53: Van Veen grab | Z53: 44510 | AA53: time unknown | AB53: 11.01664 | AC53: Christelle Jammar | AD53: Ugent | AE53: Westdiep Seafarm | AG53: 51.198076 | AH53: 2.7005074 | AI53: -11.01664
A54: =campaigns!$B$2 -> GeoxyzX_2111 | B54: WestdiepSeafarm_NE | C54: WestdiepSeafarm | D54: 51.183971 | E54: 2.6690606 | F54: 51.205909 | G54: 2.7179871 | H54: NE | I54: 4275 | J54: CR | K54: N | L54: CODEVCO_3275 | M54: 3275 | N54: 51.200688 | O54: 2.7063333 | P54: 11.56 | Q54: MC | R54: B | S54: =CONCATENATE(A54,"-",C54,"-",M54,"m","-",T54) -> GeoxyzX_2111-WestdiepSeafarm-3275m-a | T54: a | U54: OnBottom | V54: Sample collection | W54: sediment grabs | X54: VV | Y54: Van Veen grab | Z54: 44510 | AA54: time unknown | AB54: 10.0681 | AC54: Christelle Jammar | AD54: Ugent | AE54: Westdiep Seafarm | AG54: 51.200688 | AH54: 2.7063333 | AI54: -10.0681
A55: =campaigns!$B$2 -> GeoxyzX_2111 | B55: WestdiepSeafarm_NE | C55: WestdiepSeafarm | D55: 51.183971 | E55: 2.6690606 | F55: 51.205909 | G55: 2.7179871 | H55: NE | I55: 4275 | J55: CR | K55: N | L55: CODEVCO_3275 | M55: 3275 | N55: 51.200688 | O55: 2.7063333 | P55: 11.56 | Q55: MC | R55: B | S55: =CONCATENATE(A55,"-",C55,"-",M55,"m","-",T55) -> GeoxyzX_2111-WestdiepSeafarm-3275m-b | T55: b | U55: OnBottom | V55: Sample collection | W55: sediment grabs | X55: VV | Y55: Van Veen grab | Z55: 44510 | AA55: time unknown | AB55: 10.0681 | AC55: Christelle Jammar | AD55: Ugent | AE55: Westdiep Seafarm | AG55: 51.200688 | AH55: 2.7063333 | AI55: -10.0681
A56: =campaigns!$B$2 -> GeoxyzX_2111 | B56: WestdiepSeafarm_NE | C56: WestdiepSeafarm | D56: 51.183971 | E56: 2.6690606 | F56: 51.205909 | G56: 2.7179871 | H56: NE | I56: 4275 | J56: CR | K56: N | L56: CODEVCO_3275 | M56: 3275 | N56: 51.200688 | O56: 2.7063333 | P56: 11.56 | Q56: MC | R56: B | S56: =CONCATENATE(A56,"-",C56,"-",M56,"m","-",T56) -> GeoxyzX_2111-WestdiepSeafarm-3275m-c | T56: c | U56: OnBottom | V56: Sample collection | W56: sediment grabs | X56: VV | Y56: Van Veen grab | Z56: 44510 | AA56: time unknown | AB56: 10.0681 | AC56: Christelle Jammar | AD56: Ugent | AE56: Westdiep Seafarm | AG56: 51.200688 | AH56: 2.7063333 | AI56: -10.0681
... A62: =campaigns!$B$2 -> GeoxyzX_2111 | B62: WestdiepSeafarm_NE | C62: WestdiepSeafarm | D62: 51.183971 | E62: 2.6690606 | F62: 51.205909 | G62: 2.7179871 | H62: NE | I62: 4275 | J62: CR | K62: N | L62: CODEVCO_4275 | M62: 4275 | N62: 51.205909 | O62: 2.7179871 | P62: 11.56 | Q62: MC | R62: B | S62: =CONCATENATE(A62,"-",C62,"-",M62,"m","-",T62) -> GeoxyzX_2111-WestdiepSeafarm-4275m-c | T62: c | U62: OnBottom | V62: Sample collection | W62: sediment grabs | X62: VV | Y62: Van Veen grab | Z62: 44510 | AA62: time unknown | AB62: 9.83939 | AC62: Christelle Jammar | AD62: Ugent | AE62: Westdiep Seafarm | AG62: 51.205909 | AH62: 2.7179871 | AI62: -9.83939
A63: =campaigns!$B$4 -> SS22-590-1 | B63: WestdiepSeafarm_NE | C63: WestdiepSeafarm | D63: 51.183713 | E63: 2.6686862 | F63: 51.183716 | G63: 2.668672 | H63: NE | I63: 4275 | J63: CR | K63: N | L63: CODEVCO_75 | M63: 75 | N63: 51.183971 | O63: 2.6690606 | P63: 10.64 | Q63: MC | S63: =CONCATENATE(A63,"-",C63,"-",M63,"m","-",T63) -> SS22-590-1-WestdiepSeafarm-75m-a | T63: a | U63: OnBottom | V63: Sample collection | W63: sediment grabs | X63: VV | Y63: Van Veen grab | Z63: 44841 | AA63: time unknown | AB63: 10.64 | AC63: Christelle Jammar | AD63: Ugent | AE63: Westdiep Seafarm | AG63: 51.183971 | AH63: 2.6690606 | AI63: 10.64
A64: =campaigns!$B$4 -> SS22-590-1 | B64: WestdiepSeafarm_NE | C64: WestdiepSeafarm | D64: 51.183723 | E64: 2.6687085 | F64: 51.183725 | G64: 2.6687205 | H64: NE | I64: 4275 | J64: CR | K64: N | L64: CODEVCO_75 | M64: 75 | N64: 51.183971 | O64: 2.6690606 | P64: 10.64 | Q64: MC | S64: =CONCATENATE(A64,"-",C64,"-",M64,"m","-",T64) -> SS22-590-1-WestdiepSeafarm-75m-b | T64: b | U64: OnBottom | V64: Sample collection | W64: sediment grabs | X64: VV | Y64: Van Veen grab | Z64: 44841 | AA64: time unknown | AB64: 10.64 | AC64: Christelle Jammar | AD64: Ugent | AE64: Westdiep Seafarm | AG64: 51.183971 | AH64: 2.6690606 | AI64: 10.64
A65: =campaigns!$B$4 -> SS22-590-1 | B65: WestdiepSeafarm_NE | C65: WestdiepSeafarm | D65: 51.183701 | E65: 2.6687083 | F65: 51.183701 | G65: 2.6687083 | H65: NE | I65: 4275 | J65: CR | K65: N | L65: CODEVCO_75 | M65: 75 | N65: 51.183971 | O65: 2.6690606 | P65: 10.64 | Q65: MC | S65: =CONCATENATE(A65,"-",C65,"-",M65,"m","-",T65) -> SS22-590-1-WestdiepSeafarm-75m-c | T65: c | U65: OnBottom | V65: Sample collection | W65: sediment grabs | X65: VV | Y65: Van Veen grab | Z65: 44841 | AA65: time unknown | AB65: 10.64 | AC65: Christelle Jammar | AD65: Ugent | AE65: Westdiep Seafarm | AG65: 51.183971 | AH65: 2.6690606 | AI65: 10.64
A66: =campaigns!$B$4 -> SS22-590-1 | B66: WestdiepSeafarm_NE | C66: WestdiepSeafarm | D66: 51.18435 | E66: 2.6697432 | F66: 51.184324 | G66: 2.6696963 | H66: NE | I66: 4275 | J66: CR | K66: N | L66: CODEVCO_150 | M66: 150 | N66: 51.184363 | O66: 2.669934 | P66: 10.64 | Q66: MC | S66: =CONCATENATE(A66,"-",C66,"-",M66,"m","-",T66) -> SS22-590-1-WestdiepSeafarm-150m-a | T66: a | U66: OnBottom | V66: Sample collection | W66: sediment grabs | X66: VV | Y66: Van Veen grab | Z66: 44841 | AA66: time unknown | AB66: 10.64 | AC66: Christelle Jammar | AD66: Ugent | AE66: Westdiep Seafarm | AG66: 51.184363 | AH66: 2.669934 | AI66: 10.64
A67: =campaigns!$B$4 -> SS22-590-1 | B67: WestdiepSeafarm_NE | C67: WestdiepSeafarm | D67: 51.184321 | E67: 2.6696247 | F67: 51.184321 | G67: 2.6696247 | H67: NE | I67: 4275 | J67: CR | K67: N | L67: CODEVCO_150 | M67: 150 | N67: 51.184363 | O67: 2.669934 | P67: 10.64 | Q67: MC | S67: =CONCATENATE(A67,"-",C67,"-",M67,"m","-",T67) -> SS22-590-1-WestdiepSeafarm-150m-b | T67: b | U67: OnBottom | V67: Sample collection | W67: sediment grabs | X67: VV | Y67: Van Veen grab | Z67: 44841 | AA67: time unknown | AB67: 10.64 | AC67: Christelle Jammar | AD67: Ugent | AE67: Westdiep Seafarm | AG67: 51.184363 | AH67: 2.669934 | AI67: 10.64
A68: =campaigns!$B$4 -> SS22-590-1 | B68: WestdiepSeafarm_NE | C68: WestdiepSeafarm | D68: 51.184322 | E68: 2.6696637 | F68: 51.184321 | G68: 2.6696698 | H68: NE | I68: 4275 | J68: CR | K68: N | L68: CODEVCO_150 | M68: 150 | N68: 51.184363 | O68: 2.669934 | P68: 10.64 | Q68: MC | S68: =CONCATENATE(A68,"-",C68,"-",M68,"m","-",T68) -> SS22-590-1-WestdiepSeafarm-150m-c | T68: c | U68: OnBottom | V68: Sample collection | W68: sediment grabs | X68: VV | Y68: Van Veen grab | Z68: 44841 | AA68: time unknown | AB68: 10.64 | AC68: Christelle Jammar | AD68: Ugent | AE68: Westdiep Seafarm | AG68: 51.184363 | AH68: 2.669934 | AI68: 10.64
A69: =campaigns!$B$4 -> SS22-590-1 | B69: WestdiepSeafarm_NE | C69: WestdiepSeafarm | D69: 51.184587 | E69: 2.6703957 | F69: 51.184578 | G69: 2.6703932 | H69: NE | I69: 4275 | J69: CR | K69: N | L69: CODEVCO_225 | M69: 225 | N69: 51.184755 | O69: 2.6708076 | P69: 10.64 | Q69: MC | S69: =CONCATENATE(A69,"-",C69,"-",M69,"m","-",T69) -> SS22-590-1-WestdiepSeafarm-225m-a | T69: a | U69: OnBottom | V69: Sample collection | W69: sediment grabs | X69: VV | Y69: Van Veen grab | Z69: 44841 | AA69: time unknown | AB69: 10.64 | AC69: Christelle Jammar | AD69: Ugent | AE69: Westdiep Seafarm | AG69: 51.184755 | AH69: 2.6708076 | AI69: 10.64
A70: =campaigns!$B$4 -> SS22-590-1 | B70: WestdiepSeafarm_NE | C70: WestdiepSeafarm | D70: 51.184563 | E70: 2.6703297 | F70: 51.184571 | G70: 2.67033 | H70: NE | I70: 4275 | J70: CR | K70: N | L70: CODEVCO_225 | M70: 225 | N70: 51.184755 | O70: 2.6708076 | P70: 10.64 | Q70: MC | S70: =CONCATENATE(A70,"-",C70,"-",M70,"m","-",T70) -> SS22-590-1-WestdiepSeafarm-225m-b | T70: b | U70: OnBottom | V70: Sample collection | W70: sediment grabs | X70: VV | Y70: Van Veen grab | Z70: 44841 | AA70: time unknown | AB70: 10.64 | AC70: Christelle Jammar | AD70: Ugent | AE70: Westdiep Seafarm | AG70: 51.184755 | AH70: 2.6708076 | AI70: 10.64
A71: =campaigns!$B$4 -> SS22-590-1 | B71: WestdiepSeafarm_NE | C71: WestdiepSeafarm | D71: 51.184582 | E71: 2.6703407 | F71: 51.18458 | G71: 2.6703408 | H71: NE | I71: 4275 | J71: CR | K71: N | L71: CODEVCO_225 | M71: 225 | N71: 51.184755 | O71: 2.6708076 | P71: 10.64 | Q71: MC | S71: =CONCATENATE(A71,"-",C71,"-",M71,"m","-",T71) -> SS22-590-1-WestdiepSeafarm-225m-c | T71: c | U71: OnBottom | V71: Sample collection | W71: sediment grabs | X71: VV | Y71: Van Veen grab | Z71: 44841 | AA71: time unknown | AB71: 10.64 | AC71: Christelle Jammar | AD71: Ugent | AE71: Westdiep Seafarm | AG71: 51.184755 | AH71: 2.6708076 | AI71: 10.64
A72: =campaigns!$B$4 -> SS22-590-1 | B72: WestdiepSeafarm_NE | C72: WestdiepSeafarm | D72: 51.185327 | E72: 2.6718632 | F72: 51.185298 | G72: 2.6718563 | H72: NE | I72: 4275 | J72: CR | K72: N | L72: CODEVCO_325 | M72: 325 | N72: 51.185277 | O72: 2.6719715 | P72: 10.64 | Q72: MC | S72: =CONCATENATE(A72,"-",C72,"-",M72,"m","-",T72) -> SS22-590-1-WestdiepSeafarm-325m-a | T72: a | U72: OnBottom | V72: Sample collection | W72: sediment grabs | X72: VV | Y72: Van Veen grab | Z72: 44841 | AA72: time unknown | AB72: 10.64 | AC72: Christelle Jammar | AD72: Ugent | AE72: Westdiep Seafarm | AG72: 51.185277 | AH72: 2.6719715 | AI72: 10.64
A73: =campaigns!$B$4 -> SS22-590-1 | B73: WestdiepSeafarm_NE | C73: WestdiepSeafarm | D73: 51.185265 | E73: 2.6718482 | F73: 51.185258 | G73: 2.6718447 | H73: NE | I73: 4275 | J73: CR | K73: N | L73: CODEVCO_325 | M73: 325 | N73: 51.185277 | O73: 2.6719715 | P73: 10.64 | Q73: MC | S73: =CONCATENATE(A73,"-",C73,"-",M73,"m","-",T73) -> SS22-590-1-WestdiepSeafarm-325m-b | T73: b | U73: OnBottom | V73: Sample collection | W73: sediment grabs | X73: VV | Y73: Van Veen grab | Z73: 44841 | AA73: time unknown | AB73: 10.64 | AC73: Christelle Jammar | AD73: Ugent | AE73: Westdiep Seafarm | AG73: 51.185277 | AH73: 2.6719715 | AI73: 10.64
A74: =campaigns!$B$4 -> SS22-590-1 | B74: WestdiepSeafarm_NE | C74: WestdiepSeafarm | D74: 51.185261 | E74: 2.67183 | F74: 51.185265 | G74: 2.6718387 | H74: NE | I74: 4275 | J74: CR | K74: N | L74: CODEVCO_325 | M74: 325 | N74: 51.185277 | O74: 2.6719715 | P74: 10.64 | Q74: MC | S74: =CONCATENATE(A74,"-",C74,"-",M74,"m","-",T74) -> SS22-590-1-WestdiepSeafarm-325m-c | T74: c | U74: OnBottom | V74: Sample collection | W74: sediment grabs | X74: VV | Y74: Van Veen grab | Z74: 44841 | AA74: time unknown | AB74: 10.64 | AC74: Christelle Jammar | AD74: Ugent | AE74: Westdiep Seafarm | AG74: 51.185277 | AH74: 2.6719715 | AI74: 10.64
A75: =campaigns!$B$5 -> SS22-590-2 | B75: WestdiepSeafarm_NE | C75: WestdiepSeafarm | D75: 51.186074 | E75: 2.6733755 | F75: 51.186074 | G75: 2.6733755 | H75: NE | I75: 4275 | J75: CR | K75: N | L75: CODEVCO_425 | M75: 425 | N75: 51.1858 | O75: 2.6731367 | P75: 9.57 | Q75: MC | S75: =CONCATENATE(A75,"-",C75,"-",M75,"m","-",T75) -> SS22-590-2-WestdiepSeafarm-425m-a | T75: a | U75: OnBottom | V75: Sample collection | W75: sediment grabs | X75: VV | Y75: Van Veen grab | Z75: 44844 | AA75: time unknown | AB75: 9.57 | AC75: Christelle Jammar | AD75: Ugent | AE75: Westdiep Seafarm | AG75: 51.1858 | AH75: 2.6731367 | AI75: 9.57
A76: =campaigns!$B$5 -> SS22-590-2 | B76: WestdiepSeafarm_NE | C76: WestdiepSeafarm | D76: 51.186045 | E76: 2.673428 | F76: 51.186045 | G76: 2.6734283 | H76: NE | I76: 4275 | J76: CR | K76: N | L76: CODEVCO_425 | M76: 425 | N76: 51.1858 | O76: 2.6731367 | P76: 9.57 | Q76: MC | S76: =CONCATENATE(A76,"-",C76,"-",M76,"m","-",T76) -> SS22-590-2-WestdiepSeafarm-425m-b | T76: b | U76: OnBottom | V76: Sample collection | W76: sediment grabs | X76: VV | Y76: Van Veen grab | Z76: 44844 | AA76: time unknown | AB76: 9.57 | AC76: Christelle Jammar | AD76: Ugent | AE76: Westdiep Seafarm | AG76: 51.1858 | AH76: 2.6731367 | AI76: 9.57
A77: =campaigns!$B$5 -> SS22-590-2 | B77: WestdiepSeafarm_NE | C77: WestdiepSeafarm | D77: 51.186043 | E77: 2.6734227 | F77: 51.186043 | G77: 2.6734227 | H77: NE | I77: 4275 | J77: CR | K77: N | L77: CODEVCO_425 | M77: 425 | N77: 51.1858 | O77: 2.6731367 | P77: 9.57 | Q77: MC | S77: =CONCATENATE(A77,"-",C77,"-",M77,"m","-",T77) -> SS22-590-2-WestdiepSeafarm-425m-c | T77: c | U77: OnBottom | V77: Sample collection | W77: sediment grabs | X77: VV | Y77: Van Veen grab | Z77: 44844 | AA77: time unknown | AB77: 9.57 | AC77: Christelle Jammar | AD77: Ugent | AE77: Westdiep Seafarm | AG77: 51.1858 | AH77: 2.6731367 | AI77: 9.57
A78: =campaigns!$B$4 -> SS22-590-1 | B78: WestdiepSeafarm_NE | C78: WestdiepSeafarm | D78: 51.187718 | E78: 2.67768 | F78: 51.1877 | G78: 2.6776585 | H78: NE | I78: 4275 | J78: CR | K78: N | L78: CODEVCO_825 | M78: 825 | N78: 51.18789 | O78: 2.6777939 | P78: 10.64 | Q78: MC | S78: =CONCATENATE(A78,"-",C78,"-",M78,"m","-",T78) -> SS22-590-1-WestdiepSeafarm-825m-a | T78: a | U78: OnBottom | V78: Sample collection | W78: sediment grabs | X78: VV | Y78: Van Veen grab | Z78: 44841 | AA78: time unknown | AB78: 10.64 | AC78: Christelle Jammar | AD78: Ugent | AE78: Westdiep Seafarm | AG78: 51.18789 | AH78: 2.6777939 | AI78: 10.64
A79: =campaigns!$B$4 -> SS22-590-1 | B79: WestdiepSeafarm_NE | C79: WestdiepSeafarm | D79: 51.18766 | E79: 2.6776707 | F79: 51.187661 | G79: 2.6776767 | H79: NE | I79: 4275 | J79: CR | K79: N | L79: CODEVCO_825 | M79: 825 | N79: 51.18789 | O79: 2.6777939 | P79: 10.64 | Q79: MC | S79: =CONCATENATE(A79,"-",C79,"-",M79,"m","-",T79) -> SS22-590-1-WestdiepSeafarm-825m-b | T79: b | U79: OnBottom | V79: Sample collection | W79: sediment grabs | X79: VV | Y79: Van Veen grab | Z79: 44841 | AA79: time unknown | AB79: 10.64 | AC79: Christelle Jammar | AD79: Ugent | AE79: Westdiep Seafarm | AG79: 51.18789 | AH79: 2.6777939 | AI79: 10.64
A80: =campaigns!$B$4 -> SS22-590-1 | B80: WestdiepSeafarm_NE | C80: WestdiepSeafarm | D80: 51.187671 | E80: 2.6776717 | F80: 51.18767 | G80: 2.6776697 | H80: NE | I80: 4275 | J80: CR | K80: N | L80: CODEVCO_825 | M80: 825 | N80: 51.18789 | O80: 2.6777939 | P80: 10.64 | Q80: MC | S80: =CONCATENATE(A80,"-",C80,"-",M80,"m","-",T80) -> SS22-590-1-WestdiepSeafarm-825m-c | T80: c | U80: OnBottom | V80: Sample collection | W80: sediment grabs | X80: VV | Y80: Van Veen grab | Z80: 44841 | AA80: time unknown | AB80: 10.64 | AC80: Christelle Jammar | AD80: Ugent | AE80: Westdiep Seafarm | AG80: 51.18789 | AH80: 2.6777939 | AI80: 10.64
A81: =campaigns!$B$4 -> SS22-590-1 | B81: WestdiepSeafarm_NE | C81: WestdiepSeafarm | D81: 51.194433 | E81: 2.6921263 | F81: 51.194435 | G81: 2.6920802 | H81: NE | I81: 4275 | J81: CR | K81: N | L81: CODEVCO_2075 | M81: 2075 | N81: 51.19442 | O81: 2.6923527 | P81: 10.64 | Q81: MC | S81: =CONCATENATE(A81,"-",C81,"-",M81,"m","-",T81) -> SS22-590-1-WestdiepSeafarm-2075m-a | T81: a | U81: OnBottom | V81: Sample collection | W81: sediment grabs | X81: VV | Y81: Van Veen grab | Z81: 44841 | AA81: time unknown | AB81: 10.64 | AC81: Christelle Jammar | AD81: Ugent | AE81: Westdiep Seafarm | AG81: 51.19442 | AH81: 2.6923527 | AI81: 10.64
A82: =campaigns!$B$4 -> SS22-590-1 | B82: WestdiepSeafarm_NE | C82: WestdiepSeafarm | D82: 51.194446 | E82: 2.69205 | F82: 51.194452 | G82: 2.6920535 | H82: NE | I82: 4275 | J82: CR | K82: N | L82: CODEVCO_2075 | M82: 2075 | N82: 51.19442 | O82: 2.6923527 | P82: 10.64 | Q82: MC | S82: =CONCATENATE(A82,"-",C82,"-",M82,"m","-",T82) -> SS22-590-1-WestdiepSeafarm-2075m-b | T82: b | U82: OnBottom | V82: Sample collection | W82: sediment grabs | X82: VV | Y82: Van Veen grab | Z82: 44841 | AA82: time unknown | AB82: 10.64 | AC82: Christelle Jammar | AD82: Ugent | AE82: Westdiep Seafarm | AG82: 51.19442 | AH82: 2.6923527 | AI82: 10.64
A83: =campaigns!$B$4 -> SS22-590-1 | B83: WestdiepSeafarm_NE | C83: WestdiepSeafarm | D83: 51.194448 | E83: 2.6920542 | F83: 51.194447 | G83: 2.6920538 | H83: NE | I83: 4275 | J83: CR | K83: N | L83: CODEVCO_2075 | M83: 2075 | N83: 51.19442 | O83: 2.6923527 | P83: 10.64 | Q83: MC | S83: =CONCATENATE(A83,"-",C83,"-",M83,"m","-",T83) -> SS22-590-1-WestdiepSeafarm-2075m-c | T83: c | U83: OnBottom | V83: Sample collection | W83: sediment grabs | X83: VV | Y83: Van Veen grab | Z83: 44841 | AA83: time unknown | AB83: 10.64 | AC83: Christelle Jammar | AD83: Ugent | AE83: Westdiep Seafarm | AG83: 51.19442 | AH83: 2.6923527 | AI83: 10.64
A84: =campaigns!$B$4 -> SS22-590-1 | B84: WestdiepSeafarm_NE | C84: WestdiepSeafarm | D84: 51.20577 | E84: 2.7181852 | F84: 51.205874 | G84: 2.718603 | H84: NE | I84: 4275 | J84: CR | K84: N | L84: CODEVCO_4275 | M84: 4275 | N84: 51.205909 | O84: 2.7179871 | P84: 10.64 | Q84: MC | S84: =CONCATENATE(A84,"-",C84,"-",M84,"m","-",T84) -> SS22-590-1-WestdiepSeafarm-4275m-a | T84: a | U84: OnBottom | V84: Sample collection | W84: sediment grabs | X84: VV | Y84: Van Veen grab | Z84: 44841 | AA84: time unknown | AB84: 10.64 | AC84: Christelle Jammar | AD84: Ugent | AE84: Westdiep Seafarm | AG84: 51.205909 | AH84: 2.7179871 | AI84: 10.64
A85: =campaigns!$B$4 -> SS22-590-1 | B85: WestdiepSeafarm_NE | C85: WestdiepSeafarm | D85: 51.205954 | E85: 2.7187365 | F85: 51.205904 | G85: 2.7184405 | H85: NE | I85: 4275 | J85: CR | K85: N | L85: CODEVCO_4275 | M85: 4275 | N85: 51.205909 | O85: 2.7179871 | P85: 10.64 | Q85: MC | S85: =CONCATENATE(A85,"-",C85,"-",M85,"m","-",T85) -> SS22-590-1-WestdiepSeafarm-4275m-b | T85: b | U85: OnBottom | V85: Sample collection | W85: sediment grabs | X85: VV | Y85: Van Veen grab | Z85: 44841 | AA85: time unknown | AB85: 10.64 | AC85: Christelle Jammar | AD85: Ugent | AE85: Westdiep Seafarm | AG85: 51.205909 | AH85: 2.7179871 | AI85: 10.64
A86: =campaigns!$B$4 -> SS22-590-1 | B86: WestdiepSeafarm_NE | C86: WestdiepSeafarm | D86: 51.206151 | E86: 2.7186043 | F86: 51.206224 | G86: 2.7186868 | H86: NE | I86: 4275 | J86: CR | K86: N | L86: CODEVCO_4275 | M86: 4275 | N86: 51.205909 | O86: 2.7179871 | P86: 10.64 | Q86: MC | S86: =CONCATENATE(A86,"-",C86,"-",M86,"m","-",T86) -> SS22-590-1-WestdiepSeafarm-4275m-c | T86: c | U86: OnBottom | V86: Sample collection | W86: sediment grabs | X86: VV | Y86: Van Veen grab | Z86: 44841 | AA86: time unknown | AB86: 10.64 | AC86: Christelle Jammar | AD86: Ugent | AE86: Westdiep Seafarm | AG86: 51.205909 | AH86: 2.7179871 | AI86: 10.64
A87: =campaigns!$B$6 -> BU2023/20 | B87: WestdiepSeafarm_NE | C87: WestdiepSeafarm | D87: 51.174365 | E87: 2.6478297 | F87: 51.174365 | G87: 2.6478297 | H87: NE | I87: 4275 | J87: CR | K87: N | L87: CODEVCO_C | M87: 0 | N87: 51.174365 | O87: 2.6478297 | P87: 15.75 | Q87: MC | S87: =CONCATENATE(A87,"-",C87,"-",M87,"m","-",T87) -> BU2023/20-WestdiepSeafarm-0m-a | T87: a | U87: OnBottom | V87: Sample collection | W87: sediment grabs | X87: VV | Y87: Van Veen grab | Z87: 45221 | AA87: time unknown | AB87: 16.01 | AC87: Christelle Jammar | AD87: Ugent | AE87: Westdiep Seafarm | AG87: 51.174365 | AH87: 2.6478297 | AI87: 16.01
A88: =campaigns!$B$6 -> BU2023/20 | B88: WestdiepSeafarm_NE | C88: WestdiepSeafarm | D88: 51.174365 | E88: 2.6478297 | F88: 51.174365 | G88: 2.6478297 | H88: NE | I88: 4275 | J88: CR | K88: N | L88: CODEVCO_C | M88: 0 | N88: 51.174365 | O88: 2.6478297 | P88: 15.75 | Q88: MC | S88: =CONCATENATE(A88,"-",C88,"-",M88,"m","-",T88) -> BU2023/20-WestdiepSeafarm-0m-b | T88: b | U88: OnBottom | V88: Sample collection | W88: sediment grabs | X88: VV | Y88: Van Veen grab | Z88: 45221 | AA88: time unknown | AB88: 16.01 | AC88: Christelle Jammar | AD88: Ugent | AE88: Westdiep Seafarm | AG88: 51.174365 | AH88: 2.6478297 | AI88: 16.01
A89: =campaigns!$B$6 -> BU2023/20 | B89: WestdiepSeafarm_NE | C89: WestdiepSeafarm | D89: 51.174365 | E89: 2.6478297 | F89: 51.174365 | G89: 2.6478297 | H89: NE | I89: 4275 | J89: CR | K89: N | L89: CODEVCO_C | M89: 0 | N89: 51.174365 | O89: 2.6478297 | P89: 15.75 | Q89: MC | S89: =CONCATENATE(A89,"-",C89,"-",M89,"m","-",T89) -> BU2023/20-WestdiepSeafarm-0m-c | T89: c | U89: OnBottom | V89: Sample collection | W89: sediment grabs | X89: VV | Y89: Van Veen grab | Z89: 45221 | AA89: time unknown | AB89: 15.95 | AC89: Christelle Jammar | AD89: Ugent | AE89: Westdiep Seafarm | AG89: 51.174365 | AH89: 2.6478297 | AI89: 15.95
A90: =campaigns!$B$6 -> BU2023/20 | B90: WestdiepSeafarm_NE | C90: WestdiepSeafarm | D90: 51.183952 | E90: 2.6691142 | F90: 51.183952 | G90: 2.6691142 | H90: NE | I90: 4275 | J90: CR | K90: N | L90: CODEVCO_75 | M90: 75 | N90: 51.183952 | O90: 2.6691142 | P90: 15.75 | Q90: MC | S90: =CONCATENATE(A90,"-",C90,"-",M90,"m","-",T90) -> BU2023/20-WestdiepSeafarm-75m-a | T90: a | U90: OnBottom | V90: Sample collection | W90: sediment grabs | X90: VV | Y90: Van Veen grab | Z90: 45221 | AA90: time unknown | AB90: 15.71 | AC90: Christelle Jammar | AD90: Ugent | AE90: Westdiep Seafarm | AG90: 51.183952 | AH90: 2.6691142 | AI90: 15.71
A91: =campaigns!$B$6 -> BU2023/20 | B91: WestdiepSeafarm_NE | C91: WestdiepSeafarm | D91: 51.18396 | E91: 2.6691022 | F91: 51.18396 | G91: 2.6691022 | H91: NE | I91: 4275 | J91: CR | K91: N | L91: CODEVCO_75 | M91: 75 | N91: 51.18396 | O91: 2.6691022 | P91: 15.75 | Q91: MC | S91: =CONCATENATE(A91,"-",C91,"-",M91,"m","-",T91) -> BU2023/20-WestdiepSeafarm-75m-b | T91: b | U91: OnBottom | V91: Sample collection | W91: sediment grabs | X91: VV | Y91: Van Veen grab | Z91: 45221 | AA91: time unknown | AB91: 15.7 | AC91: Christelle Jammar | AD91: Ugent | AE91: Westdiep Seafarm | AG91: 51.18396 | AH91: 2.6691022 | AI91: 15.7
A92: =campaigns!$B$6 -> BU2023/20 | B92: WestdiepSeafarm_NE | C92: WestdiepSeafarm | D92: 51.18396 | E92: 2.6691025 | F92: 51.18396 | G92: 2.6691025 | H92: NE | I92: 4275 | J92: CR | K92: N | L92: CODEVCO_75 | M92: 75 | N92: 51.18396 | O92: 2.6691025 | P92: 15.75 | Q92: MC | S92: =CONCATENATE(A92,"-",C92,"-",M92,"m","-",T92) -> BU2023/20-WestdiepSeafarm-75m-c | T92: c | U92: OnBottom | V92: Sample collection | W92: sediment grabs | X92: VV | Y92: Van Veen grab | Z92: 45221 | AA92: time unknown | AB92: 15.66 | AC92: Christelle Jammar | AD92: Ugent | AE92: Westdiep Seafarm | AG92: 51.18396 | AH92: 2.6691025 | AI92: 15.66
A93: =campaigns!$B$6 -> BU2023/20 | B93: WestdiepSeafarm_NE | C93: WestdiepSeafarm | D93: 51.184359 | E93: 2.6699669 | F93: 51.184359 | G93: 2.6699669 | H93: NE | I93: 4275 | J93: CR | K93: N | L93: CODEVCO_150 | M93: 150 | N93: 51.184359 | O93: 2.6699669 | P93: 15.75 | Q93: MC | S93: =CONCATENATE(A93,"-",C93,"-",M93,"m","-",T93) -> BU2023/20-WestdiepSeafarm-150m-a | T93: a | U93: OnBottom | V93: Sample collection | W93: sediment grabs | X93: VV | Y93: Van Veen grab | Z93: 45221 | AA93: time unknown | AB93: 15.83 | AC93: Christelle Jammar | AD93: Ugent | AE93: Westdiep Seafarm | AG93: 51.184359 | AH93: 2.6699669 | AI93: 15.83
A94: =campaigns!$B$6 -> BU2023/20 | B94: WestdiepSeafarm_NE | C94: WestdiepSeafarm | D94: 51.184367 | E94: 2.6699705 | F94: 51.184367 | G94: 2.6699705 | H94: NE | I94: 4275 | J94: CR | K94: N | L94: CODEVCO_150 | M94: 150 | N94: 51.184367 | O94: 2.6699705 | P94: 15.75 | Q94: MC | S94: =CONCATENATE(A94,"-",C94,"-",M94,"m","-",T94) -> BU2023/20-WestdiepSeafarm-150m-b | T94: b | U94: OnBottom | V94: Sample collection | W94: sediment grabs | X94: VV | Y94: Van Veen grab | Z94: 45221 | AA94: time unknown | AB94: 15.85 | AC94: Christelle Jammar | AD94: Ugent | AE94: Westdiep Seafarm | AG94: 51.184367 | AH94: 2.6699705 | AI94: 15.85
A95: =campaigns!$B$6 -> BU2023/20 | B95: WestdiepSeafarm_NE | C95: WestdiepSeafarm | D95: 51.184359 | E95: 2.6699705 | F95: 51.184359 | G95: 2.6699705 | H95: NE | I95: 4275 | J95: CR | K95: N | L95: CODEVCO_150 | M95: 150 | N95: 51.184359 | O95: 2.6699705 | P95: 15.75 | Q95: MC | S95: =CONCATENATE(A95,"-",C95,"-",M95,"m","-",T95) -> BU2023/20-WestdiepSeafarm-150m-c | T95: c | U95: OnBottom | V95: Sample collection | W95: sediment grabs | X95: VV | Y95: Van Veen grab | Z95: 45221 | AA95: time unknown | AB95: 15.73 | AC95: Christelle Jammar | AD95: Ugent | AE95: Westdiep Seafarm | AG95: 51.184359 | AH95: 2.6699705 | AI95: 15.73
A96: =campaigns!$B$6 -> BU2023/20 | B96: WestdiepSeafarm_NE | C96: WestdiepSeafarm | D96: 51.184741 | E96: 2.6708481 | F96: 51.184741 | G96: 2.6708481 | H96: NE | I96: 4275 | J96: CR | K96: N | L96: CODEVCO_225 | M96: 225 | N96: 51.184741 | O96: 2.6708481 | P96: 15.75 | Q96: MC | S96: =CONCATENATE(A96,"-",C96,"-",M96,"m","-",T96) -> BU2023/20-WestdiepSeafarm-225m-a | T96: a | U96: OnBottom | V96: Sample collection | W96: sediment grabs | X96: VV | Y96: Van Veen grab | Z96: 45221 | AA96: time unknown | AB96: 15.97 | AC96: Christelle Jammar | AD96: Ugent | AE96: Westdiep Seafarm | AG96: 51.184741 | AH96: 2.6708481 | AI96: 15.97
A97: =campaigns!$B$6 -> BU2023/20 | B97: WestdiepSeafarm_NE | C97: WestdiepSeafarm | D97: 51.184749 | E97: 2.670844 | F97: 51.184749 | G97: 2.670844 | H97: NE | I97: 4275 | J97: CR | K97: N | L97: CODEVCO_225 | M97: 225 | N97: 51.184749 | O97: 2.670844 | P97: 15.75 | Q97: MC | S97: =CONCATENATE(A97,"-",C97,"-",M97,"m","-",T97) -> BU2023/20-WestdiepSeafarm-225m-b | T97: b | U97: OnBottom | V97: Sample collection | W97: sediment grabs | X97: VV | Y97: Van Veen grab | Z97: 45221 | AA97: time unknown | AB97: 15.93 | AC97: Christelle Jammar | AD97: Ugent | AE97: Westdiep Seafarm | AG97: 51.184749 | AH97: 2.670844 | AI97: 15.93
A98: =campaigns!$B$6 -> BU2023/20 | B98: WestdiepSeafarm_NE | C98: WestdiepSeafarm | D98: 51.184749 | E98: 2.6708417 | F98: 51.184749 | G98: 2.6708417 | H98: NE | I98: 4275 | J98: CR | K98: N | L98: CODEVCO_225 | M98: 225 | N98: 51.184749 | O98: 2.6708417 | P98: 15.75 | Q98: MC | S98: =CONCATENATE(A98,"-",C98,"-",M98,"m","-",T98) -> BU2023/20-WestdiepSeafarm-225m-c | T98: c | U98: OnBottom | V98: Sample collection | W98: sediment grabs | X98: VV | Y98: Van Veen grab | Z98: 45221 | AA98: time unknown | AB98: 15.87 | AC98: Christelle Jammar | AD98: Ugent | AE98: Westdiep Seafarm | AG98: 51.184749 | AH98: 2.6708417 | AI98: 15.87
... A113: =campaigns!$B$6 -> BU2023/20 | B113: WestdiepSeafarm_NE | C113: WestdiepSeafarm | D113: 51.206038 | E113: 2.7182439 | F113: 51.206038 | G113: 2.7182439 | H113: NE | I113: 4275 | J113: CR | K113: N | L113: CODEVCO_4275 | M113: 4275 | N113: 51.206038 | O113: 2.7182439 | P113: 15.75 | Q113: MC | S113: =CONCATENATE(A113,"-",C113,"-",M113,"m","-",T113) -> BU2023/20-WestdiepSeafarm-4275m-c | T113: c | U113: OnBottom | V113: Sample collection | W113: sediment grabs | X113: VV | Y113: Van Veen grab | Z113: 45221 | AA113: time unknown | AB113: 14.9 | AC113: Christelle Jammar | AD113: Ugent | AE113: Westdiep Seafarm | AG113: 51.206038 | AH113: 2.7182439 | AI113: 14.9

Sheet samples
A1: EVENT | B1: EVENT | C1: SAMPLE | V1: SAMPLING_METHOD_COMMUNITY_PLANKTON
A2: EVENT_NAME | B2: EVENT_NAME | C2: SAMPLE_CODE | D2: SAMPLE_CODE | E2: SAMPLE_LABEL | F2: SAMPLE_NUMBER | G2: SAMPLING_START_DATE | H2: SAMPLING_END_DATE | I2: TIME_FLAG | J2: DTYPE | K2: REALM | L2: NUNBER_OF_AGG_SAMPLES | M2: SAMPLING_DEPTH_CATEGORY | N2: ACTUAL_SAMPLING_DEPTH | O2: ACTUAL_SAMPLING_DEPTH_FLAG | P2: MIN_SAMPLING_DEPTH | Q2: MAX_SAMPLING_DEPTH | R2: VOLUME | S2: SURFACE | T2: SAMPLE_DIAMETER | U2: EXCEPTIONAL_CIRCUMSTANCES | V2: FLOW_VOLIME_OF_WATER | W2: FLOW_CALCULATION_METHOD | X2: SUBSTRAT
A3: =events!#REF! -> #REF! | B3: =events!$S3 -> GeoxyzX_2111-WestdiepSeafarm-0m-1a | C3: =CONCATENATE(B3,"-",E3) -> GeoxyzX_2111-WestdiepSeafarm-0m-1a-VV1 | D3: =CONCATENATE(A3,"-",E3) -> #REF! | E3: VV1 | F3: 1 | G3: 44510 | H3: 44510 | I3: time unknown | J3: ZB | K3: Benthos | L3: 1 | M3: bottom | N3: 12.96876 | O3: acceptable | S3: 0.1
A4: =events!#REF! -> #REF! | B4: =events!$S4 -> GeoxyzX_2111-WestdiepSeafarm-0m-1b | C4: =CONCATENATE(B4,"-",E4) -> GeoxyzX_2111-WestdiepSeafarm-0m-1b-VV2 | D4: =CONCATENATE(A4,"-",E4) -> #REF! | E4: VV2 | F4: 1 | G4: 44510 | H4: 44510 | I4: time unknown | J4: ZB | K4: Benthos | L4: 1 | M4: bottom | N4: 12.96876 | O4: acceptable | S4: 0.1
A5: =events!#REF! -> #REF! | B5: =events!$S5 -> GeoxyzX_2111-WestdiepSeafarm-0m-1c | C5: =CONCATENATE(B5,"-",E5) -> GeoxyzX_2111-WestdiepSeafarm-0m-1c-VV3 | D5: =CONCATENATE(A5,"-",E5) -> #REF! | E5: VV3 | F5: 1 | G5: 44510 | H5: 44510 | I5: time unknown | J5: ZB | K5: Benthos | L5: 1 | M5: bottom | N5: 12.96876 | O5: acceptable | S5: 0.1
A6: =events!#REF! -> #REF! | B6: =events!$S6 -> GeoxyzX_2111-WestdiepSeafarm-0m-2a | C6: =CONCATENATE(B6,"-",E6) -> GeoxyzX_2111-WestdiepSeafarm-0m-2a-VV1 | D6: =CONCATENATE(A6,"-",E6) -> #REF! | E6: VV1 | F6: 1 | G6: 44510 | H6: 44510 | I6: time unknown | J6: ZB | K6: Benthos | L6: 1 | M6: bottom | N6: 13.03113 | O6: acceptable | S6: 0.1
A7: =events!#REF! -> #REF! | B7: =events!$S7 -> GeoxyzX_2111-WestdiepSeafarm-0m-2b | C7: =CONCATENATE(B7,"-",E7) -> GeoxyzX_2111-WestdiepSeafarm-0m-2b-VV2 | D7: =CONCATENATE(A7,"-",E7) -> #REF! | E7: VV2 | F7: 1 | G7: 44510 | H7: 44510 | I7: time unknown | J7: ZB | K7: Benthos | L7: 1 | M7: bottom | N7: 13.03113 | O7: acceptable | S7: 0.1
A8: =events!#REF! -> #REF! | B8: =events!$S8 -> GeoxyzX_2111-WestdiepSeafarm-0m-2c | C8: =CONCATENATE(B8,"-",E8) -> GeoxyzX_2111-WestdiepSeafarm-0m-2c-VV3 | D8: =CONCATENATE(A8,"-",E8) -> #REF! | E8: VV3 | F8: 1 | G8: 44510 | H8: 44510 | I8: time unknown | J8: ZB | K8: Benthos | L8: 1 | M8: bottom | N8: 13.03113 | O8: acceptable | S8: 0.1
A9: =events!#REF! -> #REF! | B9: =events!$S9 -> GeoxyzX_2111-WestdiepSeafarm-75m-a | C9: =CONCATENATE(B9,"-",E9) -> GeoxyzX_2111-WestdiepSeafarm-75m-a-VV1 | D9: =CONCATENATE(A9,"-",E9) -> #REF! | E9: VV1 | F9: 1 | G9: 44510 | H9: 44510 | I9: time unknown | J9: ZB | K9: Benthos | L9: 1 | M9: bottom | N9: 12.13678 | O9: acceptable | S9: 0.1
A10: =events!#REF! -> #REF! | B10: =events!$S10 -> GeoxyzX_2111-WestdiepSeafarm-75m-b | C10: =CONCATENATE(B10,"-",E10) -> GeoxyzX_2111-WestdiepSeafarm-75m-b-VV2 | D10: =CONCATENATE(A10,"-",E10) -> #REF! | E10: VV2 | F10: 1 | G10: 44510 | H10: 44510 | I10: time unknown | J10: ZB | K10: Benthos | L10: 1 | M10: bottom | N10: 12.13678 | O10: acceptable | S10: 0.1
A11: =events!#REF! -> #REF! | B11: =events!$S11 -> GeoxyzX_2111-WestdiepSeafarm-75m-c | C11: =CONCATENATE(B11,"-",E11) -> GeoxyzX_2111-WestdiepSeafarm-75m-c-VV3 | D11: =CONCATENATE(A11,"-",E11) -> #REF! | E11: VV3 | F11: 1 | G11: 44510 | H11: 44510 | I11: time unknown | J11: ZB | K11: Benthos | L11: 1 | M11: bottom | N11: 12.13678 | O11: acceptable | S11: 0.1
A12: =events!#REF! -> #REF! | B12: =events!$S12 -> GeoxyzX_2111-WestdiepSeafarm-150m-a | C12: =CONCATENATE(B12,"-",E12) -> GeoxyzX_2111-WestdiepSeafarm-150m-a-VV1 | D12: =CONCATENATE(A12,"-",E12) -> #REF! | E12: VV1 | F12: 1 | G12: 44510 | H12: 44510 | I12: time unknown | J12: ZB | K12: Benthos | L12: 1 | M12: bottom | N12: 12.13678 | O12: acceptable | S12: 0.1
A13: =events!#REF! -> #REF! | B13: =events!$S13 -> GeoxyzX_2111-WestdiepSeafarm-150m-b | C13: =CONCATENATE(B13,"-",E13) -> GeoxyzX_2111-WestdiepSeafarm-150m-b-VV2 | D13: =CONCATENATE(A13,"-",E13) -> #REF! | E13: VV2 | F13: 1 | G13: 44510 | H13: 44510 | I13: time unknown | J13: ZB | K13: Benthos | L13: 1 | M13: bottom | N13: 12.13678 | O13: acceptable | S13: 0.1
A14: =events!#REF! -> #REF! | B14: =events!$S14 -> GeoxyzX_2111-WestdiepSeafarm-150m-c | C14: =CONCATENATE(B14,"-",E14) -> GeoxyzX_2111-WestdiepSeafarm-150m-c-VV3 | D14: =CONCATENATE(A14,"-",E14) -> #REF! | E14: VV3 | F14: 1 | G14: 44510 | H14: 44510 | I14: time unknown | J14: ZB | K14: Benthos | L14: 1 | M14: bottom | N14: 12.13678 | O14: acceptable | S14: 0.1
... A62: =events!#REF! -> #REF! | B62: =events!$S62 -> GeoxyzX_2111-WestdiepSeafarm-4275m-c | C62: =CONCATENATE(B62,"-",E62) -> GeoxyzX_2111-WestdiepSeafarm-4275m-c-VV3 | D62: =CONCATENATE(A62,"-",E62) -> #REF! | E62: VV3 | F62: 1 | G62: 44510 | H62: 44510 | I62: time unknown | J62: ZB | K62: Benthos | L62: 1 | M62: bottom | N62: 9.83939 | O62: acceptable | S62: 0.1
B63: =events!$S63 -> SS22-590-1-WestdiepSeafarm-75m-a | C63: =CONCATENATE(B63,"-",E63) -> SS22-590-1-WestdiepSeafarm-75m-a-VV1 | E63: VV1 | F63: 1 | G63: 44841 | H63: 44841 | I63: time unknown | J63: ZB | K63: Benthos | L63: 1 | M63: bottom | N63: 10.64 | O63: acceptable | S63: 0.1
B64: =events!$S64 -> SS22-590-1-WestdiepSeafarm-75m-b | C64: =CONCATENATE(B64,"-",E64) -> SS22-590-1-WestdiepSeafarm-75m-b-VV2 | E64: VV2 | F64: 1 | G64: 44841 | H64: 44841 | I64: time unknown | J64: ZB | K64: Benthos | L64: 1 | M64: bottom | N64: 10.64 | O64: acceptable | S64: 0.1
B65: =events!$S65 -> SS22-590-1-WestdiepSeafarm-75m-c | C65: =CONCATENATE(B65,"-",E65) -> SS22-590-1-WestdiepSeafarm-75m-c-VV3 | E65: VV3 | F65: 1 | G65: 44841 | H65: 44841 | I65: time unknown | J65: ZB | K65: Benthos | L65: 1 | M65: bottom | N65: 10.64 | O65: acceptable | S65: 0.1
B66: =events!$S66 -> SS22-590-1-WestdiepSeafarm-150m-a | C66: =CONCATENATE(B66,"-",E66) -> SS22-590-1-WestdiepSeafarm-150m-a-VV1 | E66: VV1 | F66: 1 | G66: 44841 | H66: 44841 | I66: time unknown | J66: ZB | K66: Benthos | L66: 1 | M66: bottom | N66: 10.64 | O66: acceptable | S66: 0.1
B67: =events!$S67 -> SS22-590-1-WestdiepSeafarm-150m-b | C67: =CONCATENATE(B67,"-",E67) -> SS22-590-1-WestdiepSeafarm-150m-b-VV2 | E67: VV2 | F67: 1 | G67: 44841 | H67: 44841 | I67: time unknown | J67: ZB | K67: Benthos | L67: 1 | M67: bottom | N67: 10.64 | O67: acceptable | S67: 0.1
B68: =events!$S68 -> SS22-590-1-WestdiepSeafarm-150m-c | C68: =CONCATENATE(B68,"-",E68) -> SS22-590-1-WestdiepSeafarm-150m-c-VV3 | E68: VV3 | F68: 1 | G68: 44841 | H68: 44841 | I68: time unknown | J68: ZB | K68: Benthos | L68: 1 | M68: bottom | N68: 10.64 | O68: acceptable | S68: 0.1
B69: =events!$S69 -> SS22-590-1-WestdiepSeafarm-225m-a | C69: =CONCATENATE(B69,"-",E69) -> SS22-590-1-WestdiepSeafarm-225m-a-VV1 | E69: VV1 | F69: 1 | G69: 44841 | H69: 44841 | I69: time unknown | J69: ZB | K69: Benthos | L69: 1 | M69: bottom | N69: 10.64 | O69: acceptable | S69: 0.1
B70: =events!$S70 -> SS22-590-1-WestdiepSeafarm-225m-b | C70: =CONCATENATE(B70,"-",E70) -> SS22-590-1-WestdiepSeafarm-225m-b-VV2 | E70: VV2 | F70: 1 | G70: 44841 | H70: 44841 | I70: time unknown | J70: ZB | K70: Benthos | L70: 1 | M70: bottom | N70: 10.64 | O70: acceptable | S70: 0.1
B71: =events!$S71 -> SS22-590-1-WestdiepSeafarm-225m-c | C71: =CONCATENATE(B71,"-",E71) -> SS22-590-1-WestdiepSeafarm-225m-c-VV3 | E71: VV3 | F71: 1 | G71: 44841 | H71: 44841 | I71: time unknown | J71: ZB | K71: Benthos | L71: 1 | M71: bottom | N71: 10.64 | O71: acceptable | S71: 0.1
B72: =events!$S72 -> SS22-590-1-WestdiepSeafarm-325m-a | C72: =CONCATENATE(B72,"-",E72) -> SS22-590-1-WestdiepSeafarm-325m-a-VV1 | E72: VV1 | F72: 1 | G72: 44841 | H72: 44841 | I72: time unknown | J72: ZB | K72: Benthos | L72: 1 | M72: bottom | N72: 10.64 | O72: acceptable | S72: 0.1
B73: =events!$S73 -> SS22-590-1-WestdiepSeafarm-325m-b | C73: =CONCATENATE(B73,"-",E73) -> SS22-590-1-WestdiepSeafarm-325m-b-VV2 | E73: VV2 | F73: 1 | G73: 44841 | H73: 44841 | I73: time unknown | J73: ZB | K73: Benthos | L73: 1 | M73: bottom | N73: 10.64 | O73: acceptable | S73: 0.1
B74: =events!$S74 -> SS22-590-1-WestdiepSeafarm-325m-c | C74: =CONCATENATE(B74,"-",E74) -> SS22-590-1-WestdiepSeafarm-325m-c-VV3 | E74: VV3 | F74: 1 | G74: 44841 | H74: 44841 | I74: time unknown | J74: ZB | K74: Benthos | L74: 1 | M74: bottom | N74: 10.64 | O74: acceptable | S74: 0.1
... B113: =events!$S113 -> BU2023/20-WestdiepSeafarm-4275m-c | C113: =CONCATENATE(B113,"-",E113) -> BU2023/20-WestdiepSeafarm-4275m-c-VV3 | E113: VV3 | F113: 1 | G113: 45221 | H113: 45221 | I113: time unknown | J113: ZB | K113: Benthos | L113: 1 | M113: bottom | N113: 14.9 | O113: acceptable | S113: 0.1

Sheet density_biomass
G1: SPECIES | R1: ABUNDANCES-BIOMASS
A2: SAMPLE_CODE | B2: SAMPLE_CODE | C2: SPECIMEN_CODE | D2: INCUBATION_CODE | E2: COLLECTED_SUBSAMPLE_CODE | F2: EXTRACTED_SUBSAMPLE_CODE | G2: SPECIES_LABEL | H2: SPECIES_SCIENTiFIC_NAME | I2: WORMS_APHIA_ID | J2: SCIENTIFIC_NAME_AUTHOR | K2: KINGDOM | L2: PHYLUM | M2: CLASS | N2: ORDER | O2: FAMILY | P2: GENUS | Q2: SPECIES | R2: SPECIES_FLAG | S2: DEVELOPMENT_STATUS | T2: SIZE_CLASS | U2: SEX_CODE | V2: ANIMAL_STATE | W2: PARAMAMETER_CODE | X2: VALUE | Y2: UNIT | Z2: VALUE_FLAG | AA2: DETLIM_FLAG | AB2: ANALYSIS_METHOD_CODE | AC2: ANALYSIS_DATE | AD2: UNCERTAINTY | AE2: REMARK
A3: =samples!$C$3 -> GeoxyzX_2111-WestdiepSeafarm-0m-1a-VV1 | B3: =samples!$C3 -> GeoxyzX_2111-WestdiepSeafarm-0m-1a-VV1 | H3: Echinocardium cordatum | I3: 124392 | K3: Animalia | L3: Echinodermata | M3: Echinoidea | N3: Spatangoida | O3: Loveniidae | P3: Echinocardium | Q3: cordatum | S3: AD | U3: U | V3: D | W3: =analysis_methods!$B$2 -> ABUN | X3: 60 | Y3: ind/m² | Z3: good | AA3: = | AB3: =analysis_methods!$M$2 -> TAXO_STE_MICROSCOPE | AC3: 45139
A4: =samples!$C$3 -> GeoxyzX_2111-WestdiepSeafarm-0m-1a-VV1 | B4: Geoxyz21-WestdiepSeafarm-0m-VV-VV1 | H4: Cylista troglodytes | I4: 855674 | K4: Animalia | L4: Cnidaria | M4: Hexacorallia | N4: Actiniaria | O4: Sagartiidae | P4: Cylista | Q4: troglodytes | S4: AD | U4: U | V4: D | W4: =analysis_methods!$B$2 -> ABUN | X4: 50 | Y4: ind/m² | Z4: good | AA4: = | AB4: =analysis_methods!$M$2 -> TAXO_STE_MICROSCOPE | AC4: 45139
A5: =samples!$C$3 -> GeoxyzX_2111-WestdiepSeafarm-0m-1a-VV1 | B5: Geoxyz21-WestdiepSeafarm-0m-VV-VV1 | H5: Ophiura ophiura | I5: 124929 | K5: Animalia | L5: Echinodermata | M5: Ophiuroidea | N5: Ophiurida | O5: Ophiuridae | P5: Ophiura | Q5: ophiura | S5: AD | U5: U | V5: D | W5: =analysis_methods!$B$2 -> ABUN | X5: 190 | Y5: ind/m² | Z5: good | AA5: = | AB5: =analysis_methods!$M$2 -> TAXO_STE_MICROSCOPE | AC5: 45139
A6: =samples!$C$3 -> GeoxyzX_2111-WestdiepSeafarm-0m-1a-VV1 | B6: Geoxyz21-WestdiepSeafarm-0m-VV-VV1 | H6: Spisula solida | I6: 140301 | K6: Animalia | L6: Mollusca | M6: Bivalvia | N6: Venerida | O6: Mactridae | P6: Spisula | Q6: solida | S6: AD | U6: U | V6: D | W6: =analysis_methods!$B$2 -> ABUN | X6: 50 | Y6: ind/m² | Z6: good | AA6: = | AB6: =analysis_methods!$M$2 -> TAXO_STE_MICROSCOPE | AC6: 45139
A7: =samples!$C$3 -> GeoxyzX_2111-WestdiepSeafarm-0m-1a-VV1 | B7: Geoxyz21-WestdiepSeafarm-0m-VV-VV1 | H7: Abra alba | I7: 141433 | K7: Animalia | L7: Mollusca | M7: Bivalvia | N7: Cardiida | O7: Semelidae | P7: Abra | Q7: alba | S7: AD | U7: U | V7: D | W7: =analysis_methods!$B$2 -> ABUN | X7: 80 | Y7: ind/m² | Z7: good | AA7: = | AB7: =analysis_methods!$M$2 -> TAXO_STE_MICROSCOPE | AC7: 45139
A8: =samples!$C$3 -> GeoxyzX_2111-WestdiepSeafarm-0m-1a-VV1 | B8: Geoxyz21-WestdiepSeafarm-0m-VV-VV1 | H8: Notomastus latericeus | I8: 129898 | K8: Animalia | L8: Annelida | M8: Polychaeta | O8: Capitellidae | P8: Notomastus | Q8: latericeus | S8: AD | U8: U | V8: D | W8: =analysis_methods!$B$2 -> ABUN | X8: 90 | Y8: ind/m² | Z8: good | AA8: = | AB8: =analysis_methods!$M$2 -> TAXO_STE_MICROSCOPE | AC8: 45139
A9: =samples!$C$3 -> GeoxyzX_2111-WestdiepSeafarm-0m-1a-VV1 | B9: Geoxyz21-WestdiepSeafarm-0m-VV-VV1 | H9: Nephtys hombergii | I9: 130359 | K9: Animalia | L9: Annelida | M9: Polychaeta | N9: Phyllodocida | O9: Nephtyidae | P9: Nephtys | Q9: hombergii | S9: AD | U9: U | V9: D | W9: =analysis_methods!$B$2 -> ABUN | X9: 90 | Y9: ind/m² | Z9: good | AA9: = | AB9: =analysis_methods!$M$2 -> TAXO_STE_MICROSCOPE | AC9: 45139
A10: =samples!$C$3 -> GeoxyzX_2111-WestdiepSeafarm-0m-1a-VV1 | B10: Geoxyz21-WestdiepSeafarm-0m-VV-VV1 | H10: Lagis koreni | I10: 152367 | K10: Animalia | L10: Annelida | M10: Polychaeta | N10: Terebellida | O10: Pectinariidae | P10: Lagis | Q10: koreni | S10: AD | U10: U | V10: D | W10: =analysis_methods!$B$2 -> ABUN | X10: 30 | Y10: ind/m² | Z10: good | AA10: = | AB10: =analysis_methods!$M$2 -> TAXO_STE_MICROSCOPE | AC10: 45139
A11: =samples!$C$3 -> GeoxyzX_2111-WestdiepSeafarm-0m-1a-VV1 | B11: Geoxyz21-WestdiepSeafarm-0m-VV-VV1 | H11: Kurtiella bidentata | I11: 345281 | K11: Animalia | L11: Mollusca | M11: Bivalvia | N11: Galeommatida | O11: Lasaeidae | P11: Kurtiella | Q11: bidentata | S11: AD | U11: U | V11: D | W11: =analysis_methods!$B$2 -> ABUN | X11: 700 | Y11: ind/m² | Z11: good | AA11: = | AB11: =analysis_methods!$M$2 -> TAXO_STE_MICROSCOPE | AC11: 45139
A12: =samples!$C$3 -> GeoxyzX_2111-WestdiepSeafarm-0m-1a-VV1 | B12: Geoxyz21-WestdiepSeafarm-0m-VV-VV1 | H12: Fabulina fabula | I12: 146907 | K12: Animalia | L12: Mollusca | M12: Bivalvia | N12: Cardiida | O12: Tellinidae | P12: Fabulina | Q12: fabula | S12: AD | U12: U | V12: D | W12: =analysis_methods!$B$2 -> ABUN | X12: 20 | Y12: ind/m² | Z12: good | AA12: = | AB12: =analysis_methods!$M$2 -> TAXO_STE_MICROSCOPE | AC12: 45139
A13: =samples!$C$3 -> GeoxyzX_2111-WestdiepSeafarm-0m-1a-VV1 | B13: Geoxyz21-WestdiepSeafarm-0m-VV-VV1 | H13: Ophiura ophiura juv. | I13: 124929 | K13: Animalia | L13: Echinodermata | M13: Ophiuroidea | N13: Ophiurida | O13: Ophiuridae | P13: Ophiura | Q13: ophiura | S13: JV | U13: U | V13: D | W13: =analysis_methods!$B$2 -> ABUN | X13: 40 | Y13: ind/m² | Z13: good | AA13: = | AB13: =analysis_methods!$M$2 -> TAXO_STE_MICROSCOPE | AC13: 45139
A14: =samples!$C$3 -> GeoxyzX_2111-WestdiepSeafarm-0m-1a-VV1 | B14: Geoxyz21-WestdiepSeafarm-0m-VV-VV1 | H14: Owenia fusiformis | I14: 130544 | K14: Animalia | L14: Annelida | M14: Polychaeta | O14: Oweniidae | P14: Owenia | Q14: fusiformis | S14: AD | U14: U | V14: D | W14: =analysis_methods!$B$2 -> ABUN | X14: 150 | Y14: ind/m² | Z14: good | AA14: = | AB14: =analysis_methods!$M$2 -> TAXO_STE_MICROSCOPE | AC14: 45139
A15: =samples!$C$3 -> GeoxyzX_2111-WestdiepSeafarm-0m-1a-VV1 | B15: Geoxyz21-WestdiepSeafarm-0m-VV-VV1 | H15: Abra alba juv. | I15: 141433 | K15: Animalia | L15: Mollusca | M15: Bivalvia | N15: Cardiida | O15: Semelidae | P15: Abra | Q15: alba | S15: JV | U15: U | V15: D | W15: =analysis_methods!$B$2 -> ABUN | X15: 130 | Y15: ind/m² | Z15: good | AA15: = | AB15: =analysis_methods!$M$2 -> TAXO_STE_MICROSCOPE | AC15: 45139
A16: =samples!$C$3 -> GeoxyzX_2111-WestdiepSeafarm-0m-1a-VV1 | B16: Geoxyz21-WestdiepSeafarm-0m-VV-VV1 | H16: Magelona johnstoni | I16: 130269 | K16: Animalia | L16: Annelida | M16: Polychaeta | O16: Magelonidae | P16: Magelona | Q16: johnstoni | S16: AD | U16: U | V16: D | W16: =analysis_methods!$B$2 -> ABUN | X16: 220 | Y16: ind/m² | Z16: good | AA16: = | AB16: =analysis_methods!$M$2 -> TAXO_STE_MICROSCOPE | AC16: 45139
A17: =samples!$C$3 -> GeoxyzX_2111-WestdiepSeafarm-0m-1a-VV1 | B17: Geoxyz21-WestdiepSeafarm-0m-VV-VV1 | H17: Spiophanes bombyx | I17: 131187 | K17: Animalia | L17: Annelida | M17: Polychaeta | N17: Spionida | O17: Spionidae | P17: Spiophanes | Q17: bombyx | S17: AD | U17: U | V17: D | W17: =analysis_methods!$B$2 -> ABUN | X17: 90 | Y17: ind/m² | Z17: good | AA17: = | AB17: =analysis_methods!$M$2 -> TAXO_STE_MICROSCOPE | AC17: 45139
A18: =samples!$C$3 -> GeoxyzX_2111-WestdiepSeafarm-0m-1a-VV1 | B18: Geoxyz21-WestdiepSeafarm-0m-VV-VV1 | H18: Nephtys cirrosa | I18: 130357 | K18: Animalia | L18: Annelida | M18: Polychaeta | N18: Phyllodocida | O18: Nephtyidae | P18: Nephtys | Q18: cirrosa | S18: AD | U18: U | V18: D | W18: =analysis_methods!$B$2 -> ABUN | X18: 80 | Y18: ind/m² | Z18: good | AA18: = | AB18: =analysis_methods!$M$2 -> TAXO_STE_MICROSCOPE | AC18: 45139
A19: =samples!$C$3 -> GeoxyzX_2111-WestdiepSeafarm-0m-1a-VV1 | B19: Geoxyz21-WestdiepSeafarm-0m-VV-VV1 | H19: Fabulina fabula juv. | I19: 146907 | K19: Animalia | L19: Mollusca | M19: Bivalvia | N19: Cardiida | O19: Tellinidae | P19: Fabulina | Q19: fabula | S19: JV | U19: U | V19: D | W19: =analysis_methods!$B$2 -> ABUN | X19: 20 | Y19: ind/m² | Z19: good | AA19: = | AB19: =analysis_methods!$M$2 -> TAXO_STE_MICROSCOPE | AC19: 45139
A20: =samples!$C$3 -> GeoxyzX_2111-WestdiepSeafarm-0m-1a-VV1 | B20: Geoxyz21-WestdiepSeafarm-0m-VV-VV1 | H20: Sigalion mathildae | I20: 131072 | K20: Animalia | L20: Annelida | M20: Polychaeta | N20: Phyllodocida | O20: Sigalionidae | P20: Sigalion | Q20: mathildae | S20: AD | U20: U | V20: D | W20: =analysis_methods!$B$2 -> ABUN | X20: 10 | Y20: ind/m² | Z20: good | AA20: = | AB20: =analysis_methods!$M$2 -> TAXO_STE_MICROSCOPE | AC20: 45139
A21: =samples!$C$3 -> GeoxyzX_2111-WestdiepSeafarm-0m-1a-VV1 | B21: Geoxyz21-WestdiepSeafarm-0m-VV-VV1 | H21: Glycera alba | I21: 130116 | K21: Animalia | L21: Annelida | M21: Polychaeta | N21: Phyllodocida | O21: Glyceridae | P21: Glycera | Q21: alba | S21: AD | U21: U | V21: D | W21: =analysis_methods!$B$2 -> ABUN | X21: 20 | Y21: ind/m² | Z21: good | AA21: = | AB21: =analysis_methods!$M$2 -> TAXO_STE_MICROSCOPE | AC21: 45139
A22: =samples!$C$3 -> GeoxyzX_2111-WestdiepSeafarm-0m-1a-VV1 | B22: Geoxyz21-WestdiepSeafarm-0m-VV-VV1 | H22: Cirratulidae | I22: 919 | K22: Animalia | L22: Annelida | M22: Polychaeta | N22: Terebellida | O22: Cirratulidae | S22: AD | U22: U | V22: D | W22: =analysis_methods!$B$2 -> ABUN | X22: 60 | Y22: ind/m² | Z22: good | AA22: = | AB22: =analysis_methods!$M$2 -> TAXO_STE_MICROSCOPE | AC22: 45139
A23: =samples!$C$3 -> GeoxyzX_2111-WestdiepSeafarm-0m-1a-VV1 | B23: Geoxyz21-WestdiepSeafarm-0m-VV-VV1 | H23: Capitella capitata | I23: 129876 | K23: Animalia | L23: Annelida | M23: Polychaeta | O23: Capitellidae | P23: Capitella | Q23: capitata | S23: AD | U23: U | V23: D | W23: =analysis_methods!$B$2 -> ABUN | X23: 60 | Y23: ind/m² | Z23: good | AA23: = | AB23: =analysis_methods!$M$2 -> TAXO_STE_MICROSCOPE | AC23: 45139
A24: =samples!$C$3 -> GeoxyzX_2111-WestdiepSeafarm-0m-1a-VV1 | B24: Geoxyz21-WestdiepSeafarm-0m-VV-VV1 | H24: Pariambus typicus | I24: 101857 | K24: Animalia | L24: Arthropoda | M24: Malacostraca | N24: Amphipoda | O24: Caprellidae | P24: Pariambus | Q24: typicus | S24: AD | U24: U | V24: D | W24: =analysis_methods!$B$2 -> ABUN | X24: 40 | Y24: ind/m² | Z24: good | AA24: = | AB24: =analysis_methods!$M$2 -> TAXO_STE_MICROSCOPE | AC24: 45139
A25: =samples!$C$3 -> GeoxyzX_2111-WestdiepSeafarm-0m-1a-VV1 | B25: Geoxyz21-WestdiepSeafarm-0m-VV-VV1 | H25: Sipunculidae | I25: 1648 | K25: Animalia | L25: Annelida | N25: Sipuncula | O25: Sipunculidae | S25: AD | U25: U | V25: D | W25: =analysis_methods!$B$2 -> ABUN | X25: 10 | Y25: ind/m² | Z25: good | AA25: = | AB25: =analysis_methods!$M$2 -> TAXO_STE_MICROSCOPE | AC25: 45139
A26: =samples!$C$3 -> GeoxyzX_2111-WestdiepSeafarm-0m-1a-VV1 | B26: Geoxyz21-WestdiepSeafarm-0m-VV-VV1 | H26: Oligochaeta | I26: 2036 | K26: Animalia | L26: Annelida | M26: Clitellata | S26: AD | U26: U | V26: D | W26: =analysis_methods!$B$2 -> ABUN | X26: 210 | Y26: ind/m² | Z26: good | AA26: = | AB26: =analysis_methods!$M$2 -> TAXO_STE_MICROSCOPE | AC26: 45139
A27: =samples!$C$3 -> GeoxyzX_2111-WestdiepSeafarm-0m-1a-VV1 | B27: Geoxyz21-WestdiepSeafarm-0m-VV-VV1 | H27: Abludomelita obtusata | I27: 102788 | K27: Animalia | L27: Arthropoda | M27: Malacostraca | N27: Amphipoda | O27: Melitidae | P27: Abludomelita | Q27: obtusata | S27: AD | U27: U | V27: D | W27: =analysis_methods!$B$2 -> ABUN | X27: 30 | Y27: ind/m² | Z27: good | AA27: = | AB27: =analysis_methods!$M$2 -> TAXO_STE_MICROSCOPE | AC27: 45139
A28: =samples!$C$3 -> GeoxyzX_2111-WestdiepSeafarm-0m-1a-VV1 | B28: Geoxyz21-WestdiepSeafarm-0m-VV-VV1 | H28: Pholoe baltica | I28: 130599 | K28: Animalia | L28: Annelida | M28: Polychaeta | N28: Phyllodocida | O28: Sigalionidae | P28: Pholoe | Q28: baltica | S28: AD | U28: U | V28: D | W28: =analysis_methods!$B$2 -> ABUN | X28: 20 | Y28: ind/m² | Z28: good | AA28: = | AB28: =analysis_methods!$M$2 -> TAXO_STE_MICROSCOPE | AC28: 45139
A29: =samples!$C$3 -> GeoxyzX_2111-WestdiepSeafarm-0m-1a-VV1 | B29: Geoxyz21-WestdiepSeafarm-0m-VV-VV1 | H29: Pontocrates altamarinus | I29: 102916 | K29: Animalia | L29: Arthropoda | M29: Malacostraca | N29: Amphipoda | O29: Oedicerotidae | P29: Pontocrates | Q29: altamarinus | S29: AD | U29: U | V29: D | W29: =analysis_methods!$B$2 -> ABUN | X29: 30 | Y29: ind/m² | Z29: good | AA29: = | AB29: =analysis_methods!$M$2 -> TAXO_STE_MICROSCOPE | AC29: 45139
A30: =samples!$C$3 -> GeoxyzX_2111-WestdiepSeafarm-0m-1a-VV1 | B30: Geoxyz21-WestdiepSeafarm-0m-VV-VV1 | H30: Myrianida | I30: 129659 | K30: Animalia | L30: Annelida | M30: Polychaeta | N30: Phyllodocida | O30: Syllidae | P30: Myrianida | S30: AD | U30: U | V30: D | W30: =analysis_methods!$B$2 -> ABUN | X30: 20 | Y30: ind/m² | Z30: good | AA30: = | AB30: =analysis_methods!$M$2 -> TAXO_STE_MICROSCOPE | AC30: 45139
A31: =samples!$C$3 -> GeoxyzX_2111-WestdiepSeafarm-0m-1a-VV1 | B31: Geoxyz21-WestdiepSeafarm-0m-VV-VV1 | H31: Nematoda | I31: 799 | K31: Animalia | L31: Nematoda | S31: AD | U31: U | V31: D | W31: =analysis_methods!$B$2 -> ABUN | X31: 10 | Y31: ind/m² | Z31: good | AA31: = | AB31: =analysis_methods!$M$2 -> TAXO_STE_MICROSCOPE | AC31: 45139
A32: =samples!$C$3 -> GeoxyzX_2111-WestdiepSeafarm-0m-1a-VV1 | B32: Geoxyz21-WestdiepSeafarm-0m-VV-VV1 | H32: Nototropis swammerdamei | I32: 488966 | K32: Animalia | L32: Arthropoda | M32: Malacostraca | N32: Amphipoda | O32: Atylidae | P32: Nototropis | Q32: swammerdamei | S32: AD | U32: U | V32: D | W32: =analysis_methods!$B$2 -> ABUN | X32: 10 | Y32: ind/m² | Z32: good | AA32: = | AB32: =analysis_methods!$M$2 -> TAXO_STE_MICROSCOPE | AC32: 45139
A33: =samples!C$4 -> GeoxyzX_2111-WestdiepSeafarm-0m-1b-VV2 | B33: Geoxyz21-WestdiepSeafarm-0m-VV-VV2 | H33: Echinocardium cordatum | I33: 124392 | K33: Animalia | L33: Echinodermata | M33: Echinoidea | N33: Spatangoida | O33: Loveniidae | P33: Echinocardium | Q33: cordatum | S33: AD | U33: U | V33: D | W33: =analysis_methods!$B$2 -> ABUN | X33: 90 | Y33: ind/m² | Z33: good | AA33: = | AB33: =analysis_methods!$M$2 -> TAXO_STE_MICROSCOPE | AC33: 45139
A34: =samples!C$4 -> GeoxyzX_2111-WestdiepSeafarm-0m-1b-VV2 | B34: Geoxyz21-WestdiepSeafarm-0m-VV-VV2 | H34: Cylista troglodytes | I34: 855674 | K34: Animalia | L34: Cnidaria | M34: Hexacorallia | N34: Actiniaria | O34: Sagartiidae | P34: Cylista | Q34: troglodytes | S34: AD | U34: U | V34: D | W34: =analysis_methods!$B$2 -> ABUN | X34: 100 | Y34: ind/m² | Z34: good | AA34: = | AB34: =analysis_methods!$M$2 -> TAXO_STE_MICROSCOPE | AC34: 45139
A35: =samples!C$4 -> GeoxyzX_2111-WestdiepSeafarm-0m-1b-VV2 | B35: Geoxyz21-WestdiepSeafarm-0m-VV-VV2 | H35: Spisula solida | I35: 140301 | K35: Animalia | L35: Mollusca | M35: Bivalvia | N35: Venerida | O35: Mactridae | P35: Spisula | Q35: solida | S35: AD | U35: U | V35: D | W35: =analysis_methods!$B$2 -> ABUN | X35: 100 | Y35: ind/m² | Z35: good | AA35: = | AB35: =analysis_methods!$M$2 -> TAXO_STE_MICROSCOPE | AC35: 45139
A36: =samples!C$4 -> GeoxyzX_2111-WestdiepSeafarm-0m-1b-VV2 | B36: Geoxyz21-WestdiepSeafarm-0m-VV-VV2 | H36: Venerupis corrugata | I36: 181364 | K36: Animalia | L36: Mollusca | M36: Bivalvia | N36: Venerida | O36: Veneridae | P36: Venerupis | Q36: corrugata | S36: AD | U36: U | V36: D | W36: =analysis_methods!$B$2 -> ABUN | X36: 10 | Y36: ind/m² | Z36: good | AA36: = | AB36: =analysis_methods!$M$2 -> TAXO_STE_MICROSCOPE | AC36: 45139
A37: =samples!C$4 -> GeoxyzX_2111-WestdiepSeafarm-0m-1b-VV2 | B37: Geoxyz21-WestdiepSeafarm-0m-VV-VV2 | H37: Ophiura ophiura | I37: 124929 | K37: Animalia | L37: Echinodermata | M37: Ophiuroidea | N37: Ophiurida | O37: Ophiuridae | P37: Ophiura | Q37: ophiura | S37: AD | U37: U | V37: D | W37: =analysis_methods!$B$2 -> ABUN | X37: 140 | Y37: ind/m² | Z37: good | AA37: = | AB37: =analysis_methods!$M$2 -> TAXO_STE_MICROSCOPE | AC37: 45139
A38: =samples!C$4 -> GeoxyzX_2111-WestdiepSeafarm-0m-1b-VV2 | B38: Geoxyz21-WestdiepSeafarm-0m-VV-VV2 | H38: Abra alba | I38: 141433 | K38: Animalia | L38: Mollusca | M38: Bivalvia | N38: Cardiida | O38: Semelidae | P38: Abra | Q38: alba | S38: AD | U38: U | V38: D | W38: =analysis_methods!$B$2 -> ABUN | X38: 100 | Y38: ind/m² | Z38: good | AA38: = | AB38: =analysis_methods!$M$2 -> TAXO_STE_MICROSCOPE | AC38: 45139
A39: =samples!C$4 -> GeoxyzX_2111-WestdiepSeafarm-0m-1b-VV2 | B39: Geoxyz21-WestdiepSeafarm-0m-VV-VV2 | H39: Lagis koreni | I39: 152367 | K39: Animalia | L39: Annelida | M39: Polychaeta | N39: Terebellida | O39: Pectinariidae | P39: Lagis | Q39: koreni | S39: AD | U39: U | V39: D | W39: =analysis_methods!$B$2 -> ABUN | X39: 90 | Y39: ind/m² | Z39: good | AA39: = | AB39: =analysis_methods!$M$2 -> TAXO_STE_MICROSCOPE | AC39: 45139
A40: =samples!C$4 -> GeoxyzX_2111-WestdiepSeafarm-0m-1b-VV2 | B40: Geoxyz21-WestdiepSeafarm-0m-VV-VV2 | H40: Fabulina fabula | I40: 146907 | K40: Animalia | L40: Mollusca | M40: Bivalvia | N40: Cardiida | O40: Tellinidae | P40: Fabulina | Q40: fabula | S40: AD | U40: U | V40: D | W40: =analysis_methods!$B$2 -> ABUN | X40: 60 | Y40: ind/m² | Z40: good | AA40: = | AB40: =analysis_methods!$M$2 -> TAXO_STE_MICROSCOPE | AC40: 45139
A41: =samples!C$4 -> GeoxyzX_2111-WestdiepSeafarm-0m-1b-VV2 | B41: Geoxyz21-WestdiepSeafarm-0m-VV-VV2 | H41: Amphiura chiajei | I41: 125073 | K41: Animalia | L41: Echinodermata | M41: Ophiuroidea | N41: Amphilepidida | O41: Amphiuridae | P41: Amphiura | Q41: chiajei | S41: AD | U41: U | V41: D | W41: =analysis_methods!$B$2 -> ABUN | X41: 10 | Y41: ind/m² | Z41: good | AA41: = | AB41: =analysis_methods!$M$2 -> TAXO_STE_MICROSCOPE | AC41: 45139
A42: =samples!C$4 -> GeoxyzX_2111-WestdiepSeafarm-0m-1b-VV2 | B42: Geoxyz21-WestdiepSeafarm-0m-VV-VV2 | H42: Owenia fusiformis | I42: 130544 | K42: Animalia | L42: Annelida | M42: Polychaeta | O42: Oweniidae | P42: Owenia | Q42: fusiformis | S42: AD | U42: U | V42: D | W42: =analysis_methods!$B$2 -> ABUN | X42: 120 | Y42: ind/m² | Z42: good | AA42: = | AB42: =analysis_methods!$M$2 -> TAXO_STE_MICROSCOPE | AC42: 45139
A43: =samples!C$4 -> GeoxyzX_2111-WestdiepSeafarm-0m-1b-VV2 | B43: Geoxyz21-WestdiepSeafarm-0m-VV-VV2 | H43: Notomastus latericeus | I43: 129898 | K43: Animalia | L43: Annelida | M43: Polychaeta | O43: Capitellidae | P43: Notomastus | Q43: latericeus | S43: AD | U43: U | V43: D | W43: =analysis_methods!$B$2 -> ABUN | X43: 20 | Y43: ind/m² | Z43: good | AA43: = | AB43: =analysis_methods!$M$2 -> TAXO_STE_MICROSCOPE | AC43: 45139
A44: =samples!C$4 -> GeoxyzX_2111-WestdiepSeafarm-0m-1b-VV2 | B44: Geoxyz21-WestdiepSeafarm-0m-VV-VV2 | H44: Glycera alba | I44: 130116 | K44: Animalia | L44: Annelida | M44: Polychaeta | N44: Phyllodocida | O44: Glyceridae | P44: Glycera | Q44: alba | S44: AD | U44: U | V44: D | W44: =analysis_methods!$B$2 -> ABUN | X44: 30 | Y44: ind/m² | Z44: good | AA44: = | AB44: =analysis_methods!$M$2 -> TAXO_STE_MICROSCOPE | AC44: 45139
A45: =samples!C$4 -> GeoxyzX_2111-WestdiepSeafarm-0m-1b-VV2 | B45: Geoxyz21-WestdiepSeafarm-0m-VV-VV2 | H45: Sthenelais boa | I45: 131074 | K45: Animalia | L45: Annelida | M45: Polychaeta | N45: Phyllodocida | O45: Sigalionidae | P45: Sthenelais | Q45: boa | S45: AD | U45: U | V45: D | W45: =analysis_methods!$B$2 -> ABUN | X45: 10 | Y45: ind/m² | Z45: good | AA45: = | AB45: =analysis_methods!$M$2 -> TAXO_STE_MICROSCOPE | AC45: 45139
A46: =samples!C$4 -> GeoxyzX_2111-WestdiepSeafarm-0m-1b-VV2 | B46: Geoxyz21-WestdiepSeafarm-0m-VV-VV2 | H46: Sigalion mathildae | I46: 131072 | K46: Animalia | L46: Annelida | M46: Polychaeta | N46: Phyllodocida | O46: Sigalionidae | P46: Sigalion | Q46: mathildae | S46: AD | U46: U | V46: D | W46: =analysis_methods!$B$2 -> ABUN | X46: 30 | Y46: ind/m² | Z46: good | AA46: = | AB46: =analysis_methods!$M$2 -> TAXO_STE_MICROSCOPE | AC46: 45139
A47: =samples!C$4 -> GeoxyzX_2111-WestdiepSeafarm-0m-1b-VV2 | B47: Geoxyz21-WestdiepSeafarm-0m-VV-VV2 | H47: Kurtiella bidentata | I47: 345281 | K47: Animalia | L47: Mollusca | M47: Bivalvia | N47: Galeommatida | O47: Lasaeidae | P47: Kurtiella | Q47: bidentata | S47: AD | U47: U | V47: D | W47: =analysis_methods!$B$2 -> ABUN | X47: 580 | Y47: ind/m² | Z47: good | AA47: = | AB47: =analysis_methods!$M$2 -> TAXO_STE_MICROSCOPE | AC47: 45139
A48: =samples!C$4 -> GeoxyzX_2111-WestdiepSeafarm-0m-1b-VV2 | B48: Geoxyz21-WestdiepSeafarm-0m-VV-VV2 | H48: Abra alba juv. | I48: 141433 | K48: Animalia | L48: Mollusca | M48: Bivalvia | N48: Cardiida | O48: Semelidae | P48: Abra | Q48: alba | S48: JV | U48: U | V48: D | W48: =analysis_methods!$B$2 -> ABUN | X48: 460 | Y48: ind/m² | Z48: good | AA48: = | AB48: =analysis_methods!$M$2 -> TAXO_STE_MICROSCOPE | AC48: 45139
A49: =samples!C$4 -> GeoxyzX_2111-WestdiepSeafarm-0m-1b-VV2 | B49: Geoxyz21-WestdiepSeafarm-0m-VV-VV2 | H49: Nephtys cirrosa | I49: 130357 | K49: Animalia | L49: Annelida | M49: Polychaeta | N49: Phyllodocida | O49: Nephtyidae | P49: Nephtys | Q49: cirrosa | S49: AD | U49: U | V49: D | W49: =analysis_methods!$B$2 -> ABUN | X49: 150 | Y49: ind/m² | Z49: good | AA49: = | AB49: =analysis_methods!$M$2 -> TAXO_STE_MICROSCOPE | AC49: 45139
A50: =samples!C$4 -> GeoxyzX_2111-WestdiepSeafarm-0m-1b-VV2 | B50: Geoxyz21-WestdiepSeafarm-0m-VV-VV2 | H50: Fabulina fabula juv. | I50: 146907 | K50: Animalia | L50: Mollusca | M50: Bivalvia | N50: Cardiida | O50: Tellinidae | P50: Fabulina | Q50: fabula | S50: JV | U50: U | V50: D | W50: =analysis_methods!$B$2 -> ABUN | X50: 20 | Y50: ind/m² | Z50: good | AA50: = | AB50: =analysis_methods!$M$2 -> TAXO_STE_MICROSCOPE | AC50: 45139
A51: =samples!C$4 -> GeoxyzX_2111-WestdiepSeafarm-0m-1b-VV2 | B51: Geoxyz21-WestdiepSeafarm-0m-VV-VV2 | H51: Magelona johnstoni | I51: 130269 | K51: Animalia | L51: Annelida | M51: Polychaeta | O51: Magelonidae | P51: Magelona | Q51: johnstoni | S51: AD | U51: U | V51: D | W51: =analysis_methods!$B$2 -> ABUN | X51: 230 | Y51: ind/m² | Z51: good | AA51: = | AB51: =analysis_methods!$M$2 -> TAXO_STE_MICROSCOPE | AC51: 45139
A52: =samples!C$4 -> GeoxyzX_2111-WestdiepSeafarm-0m-1b-VV2 | B52: Geoxyz21-WestdiepSeafarm-0m-VV-VV2 | H52: Magelona mirabilis | I52: 130271 | K52: Animalia | L52: Annelida | M52: Polychaeta | O52: Magelonidae | P52: Magelona | Q52: mirabilis | S52: AD | U52: U | V52: D | W52: =analysis_methods!$B$2 -> ABUN | X52: 40 | Y52: ind/m² | Z52: good | AA52: = | AB52: =analysis_methods!$M$2 -> TAXO_STE_MICROSCOPE | AC52: 45139
A53: =samples!C$4 -> GeoxyzX_2111-WestdiepSeafarm-0m-1b-VV2 | B53: Geoxyz21-WestdiepSeafarm-0m-VV-VV2 | H53: Spiophanes bombyx | I53: 131187 | K53: Animalia | L53: Annelida | M53: Polychaeta | N53: Spionida | O53: Spionidae | P53: Spiophanes | Q53: bombyx | S53: AD | U53: U | V53: D | W53: =analysis_methods!$B$2 -> ABUN | X53: 120 | Y53: ind/m² | Z53: good | AA53: = | AB53: =analysis_methods!$M$2 -> TAXO_STE_MICROSCOPE | AC53: 45139
A54: =samples!C$4 -> GeoxyzX_2111-WestdiepSeafarm-0m-1b-VV2 | B54: Geoxyz21-WestdiepSeafarm-0m-VV-VV2 | H54: Cirratulidae | I54: 919 | K54: Animalia | L54: Annelida | M54: Polychaeta | N54: Terebellida | O54: Cirratulidae | S54: AD | U54: U | V54: D | W54: =analysis_methods!$B$2 -> ABUN | X54: 30 | Y54: ind/m² | Z54: good | AA54: = | AB54: =analysis_methods!$M$2 -> TAXO_STE_MICROSCOPE | AC54: 45139
A55: =samples!C$4 -> GeoxyzX_2111-WestdiepSeafarm-0m-1b-VV2 | B55: Geoxyz21-WestdiepSeafarm-0m-VV-VV2 | H55: Hypereteone foliosa | I55: 152250 | K55: Animalia | L55: Annelida | M55: Polychaeta | N55: Phyllodocida | O55: Phyllodocidae | P55: Hypereteone | Q55: foliosa | S55: AD | U55: U | V55: D | W55: =analysis_methods!$B$2 -> ABUN | X55: 10 | Y55: ind/m² | Z55: good | AA55: = | AB55: =analysis_methods!$M$2 -> TAXO_STE_MICROSCOPE | AC55: 45139
A56: =samples!C$4 -> GeoxyzX_2111-WestdiepSeafarm-0m-1b-VV2 | B56: Geoxyz21-WestdiepSeafarm-0m-VV-VV2 | H56: Oligochaeta | I56: 2036 | K56: Animalia | L56: Annelida | M56: Clitellata | S56: AD | U56: U | V56: D | W56: =analysis_methods!$B$2 -> ABUN | X56: 40 | Y56: ind/m² | Z56: good | AA56: = | AB56: =analysis_methods!$M$2 -> TAXO_STE_MICROSCOPE | AC56: 45139
A57: =samples!C$5 -> GeoxyzX_2111-WestdiepSeafarm-0m-1c-VV3 | B57: Geoxyz21-WestdiepSeafarm-0m-VV-VV3 | H57: Echinocardium cordatum | I57: 124392 | K57: Animalia | L57: Echinodermata | M57: Echinoidea | N57: Spatangoida | O57: Loveniidae | P57: Echinocardium | Q57: cordatum | S57: AD | U57: U | V57: D | W57: =analysis_methods!$B$2 -> ABUN | X57: 30 | Y57: ind/m² | Z57: good | AA57: = | AB57: =analysis_methods!$M$2 -> TAXO_STE_MICROSCOPE | AC57: 45139
A58: =samples!C$5 -> GeoxyzX_2111-WestdiepSeafarm-0m-1c-VV3 | B58: Geoxyz21-WestdiepSeafarm-0m-VV-VV3 | H58: Ophiura ophiura | I58: 124929 | K58: Animalia | L58: Echinodermata | M58: Ophiuroidea | N58: Ophiurida | O58: Ophiuridae | P58: Ophiura | Q58: ophiura | S58: AD | U58: U | V58: D | W58: =analysis_methods!$B$2 -> ABUN | X58: 230 | Y58: ind/m² | Z58: good | AA58: = | AB58: =analysis_methods!$M$2 -> TAXO_STE_MICROSCOPE | AC58: 45139
A59: =samples!C$5 -> GeoxyzX_2111-WestdiepSeafarm-0m-1c-VV3 | B59: Geoxyz21-WestdiepSeafarm-0m-VV-VV3 | H59: Ensis leei | I59: 876640 | K59: Animalia | L59: Mollusca | M59: Bivalvia | N59: Adapedonta | O59: Pharidae | P59: Ensis | Q59: leei | S59: AD | U59: U | V59: D | W59: =analysis_methods!$B$2 -> ABUN | X59: 20 | Y59: ind/m² | Z59: good | AA59: = | AB59: =analysis_methods!$M$2 -> TAXO_STE_MICROSCOPE | AC59: 45139
A60: =samples!C$5 -> GeoxyzX_2111-WestdiepSeafarm-0m-1c-VV3 | B60: Geoxyz21-WestdiepSeafarm-0m-VV-VV3 | H60: Abra alba | I60: 141433 | K60: Animalia | L60: Mollusca | M60: Bivalvia | N60: Cardiida | O60: Semelidae | P60: Abra | Q60: alba | S60: AD | U60: U | V60: D | W60: =analysis_methods!$B$2 -> ABUN | X60: 100 | Y60: ind/m² | Z60: good | AA60: = | AB60: =analysis_methods!$M$2 -> TAXO_STE_MICROSCOPE | AC60: 45139
A61: =samples!C$5 -> GeoxyzX_2111-WestdiepSeafarm-0m-1c-VV3 | B61: Geoxyz21-WestdiepSeafarm-0m-VV-VV3 | H61: Lagis koreni | I61: 152367 | K61: Animalia | L61: Annelida | M61: Polychaeta | N61: Terebellida | O61: Pectinariidae | P61: Lagis | Q61: koreni | S61: AD | U61: U | V61: D | W61: =analysis_methods!$B$2 -> ABUN | X61: 80 | Y61: ind/m² | Z61: good | AA61: = | AB61: =analysis_methods!$M$2 -> TAXO_STE_MICROSCOPE | AC61: 45139
A62: =samples!C$5 -> GeoxyzX_2111-WestdiepSeafarm-0m-1c-VV3 | B62: Geoxyz21-WestdiepSeafarm-0m-VV-VV3 | H62: Cylista troglodytes | I62: 855674 | K62: Animalia | L62: Cnidaria | M62: Hexacorallia | N62: Actiniaria | O62: Sagartiidae | P62: Cylista | Q62: troglodytes | S62: AD | U62: U | V62: D | W62: =analysis_methods!$B$2 -> ABUN | X62: 20 | Y62: ind/m² | Z62: good | AA62: = | AB62: =analysis_methods!$M$2 -> TAXO_STE_MICROSCOPE | AC62: 45139
A63: =samples!C$5 -> GeoxyzX_2111-WestdiepSeafarm-0m-1c-VV3 | B63: Geoxyz21-WestdiepSeafarm-0m-VV-VV3 | H63: Spisula solida | I63: 140301 | K63: Animalia | L63: Mollusca | M63: Bivalvia | N63: Venerida | O63: Mactridae | P63: Spisula | Q63: solida | S63: AD | U63: U | V63: D | W63: =analysis_methods!$B$2 -> ABUN | X63: 50 | Y63: ind/m² | Z63: good | AA63: = | AB63: =analysis_methods!$M$2 -> TAXO_STE_MICROSCOPE | AC63: 45139
A64: =samples!C$5 -> GeoxyzX_2111-WestdiepSeafarm-0m-1c-VV3 | B64: Geoxyz21-WestdiepSeafarm-0m-VV-VV3 | H64: Notomastus latericeus | I64: 129898 | K64: Animalia | L64: Annelida | M64: Polychaeta | O64: Capitellidae | P64: Notomastus | Q64: latericeus | S64: AD | U64: U | V64: D | W64: =analysis_methods!$B$2 -> ABUN | X64: 110 | Y64: ind/m² | Z64: good | AA64: = | AB64: =analysis_methods!$M$2 -> TAXO_STE_MICROSCOPE | AC64: 45139
A65: =samples!C$5 -> GeoxyzX_2111-WestdiepSeafarm-0m-1c-VV3 | B65: Geoxyz21-WestdiepSeafarm-0m-VV-VV3 | H65: Nephtys hombergii | I65: 130359 | K65: Animalia | L65: Annelida | M65: Polychaeta | N65: Phyllodocida | O65: Nephtyidae | P65: Nephtys | Q65: hombergii | S65: AD | U65: U | V65: D | W65: =analysis_methods!$B$2 -> ABUN | X65: 120 | Y65: ind/m² | Z65: good | AA65: = | AB65: =analysis_methods!$M$2 -> TAXO_STE_MICROSCOPE | AC65: 45139
A66: =samples!C$5 -> GeoxyzX_2111-WestdiepSeafarm-0m-1c-VV3 | B66: Geoxyz21-WestdiepSeafarm-0m-VV-VV3 | H66: Amphiura chiajei | I66: 125073 | K66: Animalia | L66: Echinodermata | M66: Ophiuroidea | N66: Amphilepidida | O66: Amphiuridae | P66: Amphiura | Q66: chiajei | S66: AD | U66: U | V66: D | W66: =analysis_methods!$B$2 -> ABUN | X66: 10 | Y66: ind/m² | Z66: good | AA66: = | AB66: =analysis_methods!$M$2 -> TAXO_STE_MICROSCOPE | AC66: 45139
A67: =samples!C$5 -> GeoxyzX_2111-WestdiepSeafarm-0m-1c-VV3 | B67: Geoxyz21-WestdiepSeafarm-0m-VV-VV3 | H67: Fabulina fabula | I67: 146907 | K67: Animalia | L67: Mollusca | M67: Bivalvia | N67: Cardiida | O67: Tellinidae | P67: Fabulina | Q67: fabula | S67: AD | U67: U | V67: D | W67: =analysis_methods!$B$2 -> ABUN | X67: 130 | Y67: ind/m² | Z67: good | AA67: = | AB67: =analysis_methods!$M$2 -> TAXO_STE_MICROSCOPE | AC67: 45139
A68: =samples!C$5 -> GeoxyzX_2111-WestdiepSeafarm-0m-1c-VV3 | B68: Geoxyz21-WestdiepSeafarm-0m-VV-VV3 | H68: Owenia fusiformis | I68: 130544 | K68: Animalia | L68: Annelida | M68: Polychaeta | O68: Oweniidae | P68: Owenia | Q68: fusiformis | S68: AD | U68: U | V68: D | W68: =analysis_methods!$B$2 -> ABUN | X68: 310 | Y68: ind/m² | Z68: good | AA68: = | AB68: =analysis_methods!$M$2 -> TAXO_STE_MICROSCOPE | AC68: 45139
A69: =samples!C$5 -> GeoxyzX_2111-WestdiepSeafarm-0m-1c-VV3 | B69: Geoxyz21-WestdiepSeafarm-0m-VV-VV3 | H69: Kurtiella bidentata | I69: 345281 | K69: Animalia | L69: Mollusca | M69: Bivalvia | N69: Galeommatida | O69: Lasaeidae | P69: Kurtiella | Q69: bidentata | S69: AD | U69: U | V69: D | W69: =analysis_methods!$B$2 -> ABUN | X69: 1470 | Y69: ind/m² | Z69: good | AA69: = | AB69: =analysis_methods!$M$2 -> TAXO_STE_MICROSCOPE | AC69: 45139
A70: =samples!C$5 -> GeoxyzX_2111-WestdiepSeafarm-0m-1c-VV3 | B70: Geoxyz21-WestdiepSeafarm-0m-VV-VV3 | H70: Glycera alba | I70: 130116 | K70: Animalia | L70: Annelida | M70: Polychaeta | N70: Phyllodocida | O70: Glyceridae | P70: Glycera | Q70: alba | S70: AD | U70: U | V70: D | W70: =analysis_methods!$B$2 -> ABUN | X70: 40 | Y70: ind/m² | Z70: good | AA70: = | AB70: =analysis_methods!$M$2 -> TAXO_STE_MICROSCOPE | AC70: 45139
A71: =samples!C$5 -> GeoxyzX_2111-WestdiepSeafarm-0m-1c-VV3 | B71: Geoxyz21-WestdiepSeafarm-0m-VV-VV3 | H71: Fabulina fabula juv. | I71: 146907 | K71: Animalia | L71: Mollusca | M71: Bivalvia | N71: Cardiida | O71: Tellinidae | P71: Fabulina | Q71: fabula | S71: JV | U71: U | V71: D | W71: =analysis_methods!$B$2 -> ABUN | X71: 80 | Y71: ind/m² | Z71: good | AA71: = | AB71: =analysis_methods!$M$2 -> TAXO_STE_MICROSCOPE | AC71: 45139
A72: =samples!C$5 -> GeoxyzX_2111-WestdiepSeafarm-0m-1c-VV3 | B72: Geoxyz21-WestdiepSeafarm-0m-VV-VV3 | H72: Ophiura ophiura juv. | I72: 124929 | K72: Animalia | L72: Echinodermata | M72: Ophiuroidea | N72: Ophiurida | O72: Ophiuridae | P72: Ophiura | Q72: ophiura | S72: JV | U72: U | V72: D | W72: =analysis_methods!$B$2 -> ABUN | X72: 30 | Y72: ind/m² | Z72: good | AA72: = | AB72: =analysis_methods!$M$2 -> TAXO_STE_MICROSCOPE | AC72: 45139
A73: =samples!C$5 -> GeoxyzX_2111-WestdiepSeafarm-0m-1c-VV3 | B73: Geoxyz21-WestdiepSeafarm-0m-VV-VV3 | H73: Magelona johnstoni | I73: 130269 | K73: Animalia | L73: Annelida | M73: Polychaeta | O73: Magelonidae | P73: Magelona | Q73: johnstoni | S73: AD | U73: U | V73: D | W73: =analysis_methods!$B$2 -> ABUN | X73: 230 | Y73: ind/m² | Z73: good | AA73: = | AB73: =analysis_methods!$M$2 -> TAXO_STE_MICROSCOPE | AC73: 45139
A74: =samples!C$5 -> GeoxyzX_2111-WestdiepSeafarm-0m-1c-VV3 | B74: Geoxyz21-WestdiepSeafarm-0m-VV-VV3 | H74: Nephtys cirrosa | I74: 130357 | K74: Animalia | L74: Annelida | M74: Polychaeta | N74: Phyllodocida | O74: Nephtyidae | P74: Nephtys | Q74: cirrosa | S74: AD | U74: U | V74: D | W74: =analysis_methods!$B$2 -> ABUN | X74: 110 | Y74: ind/m² | Z74: good | AA74: = | AB74: =analysis_methods!$M$2 -> TAXO_STE_MICROSCOPE | AC74: 45139
A75: =samples!C$5 -> GeoxyzX_2111-WestdiepSeafarm-0m-1c-VV3 | B75: Geoxyz21-WestdiepSeafarm-0m-VV-VV3 | H75: Spiophanes bombyx | I75: 131187 | K75: Animalia | L75: Annelida | M75: Polychaeta | N75: Spionida | O75: Spionidae | P75: Spiophanes | Q75: bombyx | S75: AD | U75: U | V75: D | W75: =analysis_methods!$B$2 -> ABUN | X75: 170 | Y75: ind/m² | Z75: good | AA75: = | AB75: =analysis_methods!$M$2 -> TAXO_STE_MICROSCOPE | AC75: 45139
A76: =samples!C$5 -> GeoxyzX_2111-WestdiepSeafarm-0m-1c-VV3 | B76: Geoxyz21-WestdiepSeafarm-0m-VV-VV3 | H76: Capitella capitata | I76: 129876 | K76: Animalia | L76: Annelida | M76: Polychaeta | O76: Capitellidae | P76: Capitella | Q76: capitata | S76: AD | U76: U | V76: D | W76: =analysis_methods!$B$2 -> ABUN | X76: 110 | Y76: ind/m² | Z76: good | AA76: = | AB76: =analysis_methods!$M$2 -> TAXO_STE_MICROSCOPE | AC76: 45139
A77: =samples!C$5 -> GeoxyzX_2111-WestdiepSeafarm-0m-1c-VV3 | B77: Geoxyz21-WestdiepSeafarm-0m-VV-VV3 | H77: Eteone longa | I77: 130616 | K77: Animalia | L77: Annelida | M77: Polychaeta | N77: Phyllodocida | O77: Phyllodocidae | P77: Eteone | Q77: longa | S77: AD | U77: U | V77: D | W77: =analysis_methods!$B$2 -> ABUN | X77: 20 | Y77: ind/m² | Z77: good | AA77: = | AB77: =analysis_methods!$M$2 -> TAXO_STE_MICROSCOPE | AC77: 45139
A78: =samples!C$5 -> GeoxyzX_2111-WestdiepSeafarm-0m-1c-VV3 | B78: Geoxyz21-WestdiepSeafarm-0m-VV-VV3 | H78: Sthenelais boa | I78: 131074 | K78: Animalia | L78: Annelida | M78: Polychaeta | N78: Phyllodocida | O78: Sigalionidae | P78: Sthenelais | Q78: boa | S78: AD | U78: U | V78: D | W78: =analysis_methods!$B$2 -> ABUN | X78: 10 | Y78: ind/m² | Z78: good | AA78: = | AB78: =analysis_methods!$M$2 -> TAXO_STE_MICROSCOPE | AC78: 45139
A79: =samples!C$5 -> GeoxyzX_2111-WestdiepSeafarm-0m-1c-VV3 | B79: Geoxyz21-WestdiepSeafarm-0m-VV-VV3 | H79: Pholoe baltica | I79: 130599 | K79: Animalia | L79: Annelida | M79: Polychaeta | N79: Phyllodocida | O79: Sigalionidae | P79: Pholoe | Q79: baltica | S79: AD | U79: U | V79: D | W79: =analysis_methods!$B$2 -> ABUN | X79: 40 | Y79: ind/m² | Z79: good | AA79: = | AB79: =analysis_methods!$M$2 -> TAXO_STE_MICROSCOPE | AC79: 45139
A80: =samples!C$5 -> GeoxyzX_2111-WestdiepSeafarm-0m-1c-VV3 | B80: Geoxyz21-WestdiepSeafarm-0m-VV-VV3 | H80: Oligochaeta | I80: 2036 | K80: Animalia | L80: Annelida | M80: Clitellata | S80: AD | U80: U | V80: D | W80: =analysis_methods!$B$2 -> ABUN | X80: 250 | Y80: ind/m² | Z80: good | AA80: = | AB80: =analysis_methods!$M$2 -> TAXO_STE_MICROSCOPE | AC80: 45139
A81: =samples!C$5 -> GeoxyzX_2111-WestdiepSeafarm-0m-1c-VV3 | B81: Geoxyz21-WestdiepSeafarm-0m-VV-VV3 | H81: Abludomelita obtusata | I81: 102788 | K81: Animalia | L81: Arthropoda | M81: Malacostraca | N81: Amphipoda | O81: Melitidae | P81: Abludomelita | Q81: obtusata | S81: AD | U81: U | V81: D | W81: =analysis_methods!$B$2 -> ABUN | X81: 20 | Y81: ind/m² | Z81: good | AA81: = | AB81: =analysis_methods!$M$2 -> TAXO_STE_MICROSCOPE | AC81: 45139
A82: =samples!C$5 -> GeoxyzX_2111-WestdiepSeafarm-0m-1c-VV3 | B82: Geoxyz21-WestdiepSeafarm-0m-VV-VV3 | H82: Nemertea | I82: 152391 | K82: Animalia | L82: Nemertea | S82: AD | U82: U | V82: D | W82: =analysis_methods!$B$2 -> ABUN | X82: 10 | Y82: ind/m² | Z82: good | AA82: = | AB82: =analysis_methods!$M$2 -> TAXO_STE_MICROSCOPE | AC82: 45139
A83: =samples!C$5 -> GeoxyzX_2111-WestdiepSeafarm-0m-1c-VV3 | B83: Geoxyz21-WestdiepSeafarm-0m-VV-VV3 | H83: Diastylis rathkei | I83: 110487 | K83: Animalia | L83: Arthropoda | M83: Malacostraca | N83: Cumacea | O83: Diastylidae | P83: Diastylis | Q83: rathkei | S83: AD | U83: U | V83: D | W83: =analysis_methods!$B$2 -> ABUN | X83: 10 | Y83: ind/m² | Z83: good | AA83: = | AB83: =analysis_methods!$M$2 -> TAXO_STE_MICROSCOPE | AC83: 45139
A84: =samples!C$5 -> GeoxyzX_2111-WestdiepSeafarm-0m-1c-VV3 | B84: Geoxyz21-WestdiepSeafarm-0m-VV-VV3 | H84: Mytilus edulis juv. | I84: 140480 | K84: Animalia | L84: Mollusca | M84: Bivalvia | N84: Mytilida | O84: Mytilidae | P84: Mytilus | Q84: edulis | S84: JV | U84: U | V84: D | W84: =analysis_methods!$B$2 -> ABUN | X84: 10 | Y84: ind/m² | Z84: good | AA84: = | AB84: =analysis_methods!$M$2 -> TAXO_STE_MICROSCOPE | AC84: 45139
A85: =samples!C$5 -> GeoxyzX_2111-WestdiepSeafarm-0m-1c-VV3 | B85: Geoxyz21-WestdiepSeafarm-0m-VV-VV3 | H85: Pariambus typicus | I85: 101857 | K85: Animalia | L85: Arthropoda | M85: Malacostraca | N85: Amphipoda | O85: Caprellidae | P85: Pariambus | Q85: typicus | S85: AD | U85: U | V85: D | W85: =analysis_methods!$B$2 -> ABUN | X85: 30 | Y85: ind/m² | Z85: good | AA85: = | AB85: =analysis_methods!$M$2 -> TAXO_STE_MICROSCOPE | AC85: 45139
A86: =samples!C$5 -> GeoxyzX_2111-WestdiepSeafarm-0m-1c-VV3 | B86: Geoxyz21-WestdiepSeafarm-0m-VV-VV3 | H86: Microdeutopus anomalus | I86: 102043 | K86: Animalia | L86: Arthropoda | M86: Malacostraca | N86: Amphipoda | O86: Aoridae | P86: Microdeutopus | Q86: anomalus | S86: AD | U86: U | V86: D | W86: =analysis_methods!$B$2 -> ABUN | X86: 10 | Y86: ind/m² | Z86: good | AA86: = | AB86: =analysis_methods!$M$2 -> TAXO_STE_MICROSCOPE | AC86: 45139
A87: =samples!C$6 -> GeoxyzX_2111-WestdiepSeafarm-0m-2a-VV1 | B87: =samples!$C6 -> GeoxyzX_2111-WestdiepSeafarm-0m-2a-VV1 | H87: Echinocardium cordatum | I87: 124392 | K87: Animalia | L87: Echinodermata | M87: Echinoidea | N87: Spatangoida | O87: Loveniidae | P87: Echinocardium | Q87: cordatum | S87: AD | U87: U | V87: D | W87: =analysis_methods!$B$2 -> ABUN | X87: 40 | Y87: ind/m² | Z87: good | AA87: = | AB87: =analysis_methods!$M$2 -> TAXO_STE_MICROSCOPE | AC87: 45139
A88: =samples!C$6 -> GeoxyzX_2111-WestdiepSeafarm-0m-2a-VV1 | B88: Geoxyz21-WestdiepSeafarm-0m-VV-VV1 | H88: Cylista troglodytes | I88: 855674 | K88: Animalia | L88: Cnidaria | M88: Hexacorallia | N88: Actiniaria | O88: Sagartiidae | P88: Cylista | Q88: troglodytes | S88: AD | U88: U | V88: D | W88: =analysis_methods!$B$2 -> ABUN | X88: 250 | Y88: ind/m² | Z88: good | AA88: = | AB88: =analysis_methods!$M$2 -> TAXO_STE_MICROSCOPE | AC88: 45139
A89: =samples!C$6 -> GeoxyzX_2111-WestdiepSeafarm-0m-2a-VV1 | B89: Geoxyz21-WestdiepSeafarm-0m-VV-VV1 | H89: Abra alba | I89: 141433 | K89: Animalia | L89: Mollusca | M89: Bivalvia | N89: Cardiida | O89: Semelidae | P89: Abra | Q89: alba | S89: AD | U89: U | V89: D | W89: =analysis_methods!$B$2 -> ABUN | X89: 210 | Y89: ind/m² | Z89: good | AA89: = | AB89: =analysis_methods!$M$2 -> TAXO_STE_MICROSCOPE | AC89: 45139
A90: =samples!C$6 -> GeoxyzX_2111-WestdiepSeafarm-0m-2a-VV1 | B90: Geoxyz21-WestdiepSeafarm-0m-VV-VV1 | H90: Ophiura ophiura | I90: 124929 | K90: Animalia | L90: Echinodermata | M90: Ophiuroidea | N90: Ophiurida | O90: Ophiuridae | P90: Ophiura | Q90: ophiura | S90: AD | U90: U | V90: D | W90: =analysis_methods!$B$2 -> ABUN | X90: 130 | Y90: ind/m² | Z90: good | AA90: = | AB90: =analysis_methods!$M$2 -> TAXO_STE_MICROSCOPE | AC90: 45139
A91: =samples!C$6 -> GeoxyzX_2111-WestdiepSeafarm-0m-2a-VV1 | B91: Geoxyz21-WestdiepSeafarm-0m-VV-VV1 | H91: Fabulina fabula | I91: 146907 | K91: Animalia | L91: Mollusca | M91: Bivalvia | N91: Cardiida | O91: Tellinidae | P91: Fabulina | Q91: fabula | S91: AD | U91: U | V91: D | W91: =analysis_methods!$B$2 -> ABUN | X91: 180 | Y91: ind/m² | Z91: good | AA91: = | AB91: =analysis_methods!$M$2 -> TAXO_STE_MICROSCOPE | AC91: 45139
A92: =samples!C$6 -> GeoxyzX_2111-WestdiepSeafarm-0m-2a-VV1 | B92: Geoxyz21-WestdiepSeafarm-0m-VV-VV1 | H92: Ensis leei | I92: 876640 | K92: Animalia | L92: Mollusca | M92: Bivalvia | N92: Adapedonta | O92: Pharidae | P92: Ensis | Q92: leei | S92: AD | U92: U | V92: D | W92: =analysis_methods!$B$2 -> ABUN | X92: 20 | Y92: ind/m² | Z92: good | AA92: = | AB92: =analysis_methods!$M$2 -> TAXO_STE_MICROSCOPE | AC92: 45139
A93: =samples!C$6 -> GeoxyzX_2111-WestdiepSeafarm-0m-2a-VV1 | B93: Geoxyz21-WestdiepSeafarm-0m-VV-VV1 | H93: Spisula solida | I93: 140301 | K93: Animalia | L93: Mollusca | M93: Bivalvia | N93: Venerida | O93: Mactridae | P93: Spisula | Q93: solida | S93: AD | U93: U | V93: D | W93: =analysis_methods!$B$2 -> ABUN | X93: 30 | Y93: ind/m² | Z93: good | AA93: = | AB93: =analysis_methods!$M$2 -> TAXO_STE_MICROSCOPE | AC93: 45139
A94: =samples!C$6 -> GeoxyzX_2111-WestdiepSeafarm-0m-2a-VV1 | B94: Geoxyz21-WestdiepSeafarm-0m-VV-VV1 | H94: Lagis koreni | I94: 152367 | K94: Animalia | L94: Annelida | M94: Polychaeta | N94: Terebellida | O94: Pectinariidae | P94: Lagis | Q94: koreni | S94: AD | U94: U | V94: D | W94: =analysis_methods!$B$2 -> ABUN | X94: 60 | Y94: ind/m² | Z94: good | AA94: = | AB94: =analysis_methods!$M$2 -> TAXO_STE_MICROSCOPE | AC94: 45139
A95: =samples!C$6 -> GeoxyzX_2111-WestdiepSeafarm-0m-2a-VV1 | B95: Geoxyz21-WestdiepSeafarm-0m-VV-VV1 | H95: Owenia fusiformis | I95: 130544 | K95: Animalia | L95: Annelida | M95: Polychaeta | O95: Oweniidae | P95: Owenia | Q95: fusiformis | S95: AD | U95: U | V95: D | W95: =analysis_methods!$B$2 -> ABUN | X95: 210 | Y95: ind/m² | Z95: good | AA95: = | AB95: =analysis_methods!$M$2 -> TAXO_STE_MICROSCOPE | AC95: 45139
A96: =samples!C$6 -> GeoxyzX_2111-WestdiepSeafarm-0m-2a-VV1 | B96: Geoxyz21-WestdiepSeafarm-0m-VV-VV1 | H96: Tritia reticulata | I96: 876821 | K96: Animalia | L96: Mollusca | M96: Gastropoda | N96: Neogastropoda | O96: Nassariidae | P96: Tritia | Q96: reticulata | S96: AD | U96: U | V96: D | W96: =analysis_methods!$B$2 -> ABUN | X96: 10 | Y96: ind/m² | Z96: good | AA96: = | AB96: =analysis_methods!$M$2 -> TAXO_STE_MICROSCOPE | AC96: 45139
A97: =samples!C$6 -> GeoxyzX_2111-WestdiepSeafarm-0m-2a-VV1 | B97: Geoxyz21-WestdiepSeafarm-0m-VV-VV1 | H97: Glycera alba | I97: 130116 | K97: Animalia | L97: Annelida | M97: Polychaeta | N97: Phyllodocida | O97: Glyceridae | P97: Glycera | Q97: alba | S97: AD | U97: U | V97: D | W97: =analysis_methods!$B$2 -> ABUN | X97: 120 | Y97: ind/m² | Z97: good | AA97: = | AB97: =analysis_methods!$M$2 -> TAXO_STE_MICROSCOPE | AC97: 45139
A98: =samples!C$6 -> GeoxyzX_2111-WestdiepSeafarm-0m-2a-VV1 | B98: Geoxyz21-WestdiepSeafarm-0m-VV-VV1 | H98: Sthenelais boa | I98: 131074 | K98: Animalia | L98: Annelida | M98: Polychaeta | N98: Phyllodocida | O98: Sigalionidae | P98: Sthenelais | Q98: boa | S98: AD | U98: U | V98: D | W98: =analysis_methods!$B$2 -> ABUN | X98: 30 | Y98: ind/m² | Z98: good | AA98: = | AB98: =analysis_methods!$M$2 -> TAXO_STE_MICROSCOPE | AC98: 45139
A99: =samples!C$6 -> GeoxyzX_2111-WestdiepSeafarm-0m-2a-VV1 | B99: Geoxyz21-WestdiepSeafarm-0m-VV-VV1 | H99: Venerupis corrugata | I99: 181364 | K99: Animalia | L99: Mollusca | M99: Bivalvia | N99: Venerida | O99: Veneridae | P99: Venerupis | Q99: corrugata | S99: AD | U99: U | V99: D | W99: =analysis_methods!$B$2 -> ABUN | X99: 10 | Y99: ind/m² | Z99: good | AA99: = | AB99: =analysis_methods!$M$2 -> TAXO_STE_MICROSCOPE | AC99: 45139
A100: =samples!C$6 -> GeoxyzX_2111-WestdiepSeafarm-0m-2a-VV1 | B100: Geoxyz21-WestdiepSeafarm-0m-VV-VV1 | H100: Eunereis longissima | I100: 130375 | K100: Animalia | L100: Annelida | M100: Polychaeta | N100: Phyllodocida | O100: Nereididae | P100: Eunereis | Q100: longissima | S100: AD | U100: U | V100: D | W100: =analysis_methods!$B$2 -> ABUN | X100: 20 | Y100: ind/m² | Z100: good | AA100: = | AB100: =analysis_methods!$M$2 -> TAXO_STE_MICROSCOPE | AC100: 45139
...

Sheet abiotic
C1: ABIOTIC
A2: SAMPLE_CODE | B2: SUBNUMBER | C2: PARAMAMETER_CODE | D2: REPLICATE | E2: VALUE | F2: UNIT | G2: MATRIX | H2: BASIS | I2: VALUE_FLAG | J2: DETLIM_FLAG | K2: ANALYSIS_METHOD_CODE | L2: ANALYSIS_DATE | M2: UNCERTAINTY | N2: REMARK
A3: =samples!C$3 -> GeoxyzX_2111-WestdiepSeafarm-0m-1a-VV1 | B3: 1 | C3: =analysis_methods!$B$4 -> MGS | D3: 1 | E3: 231.671 | F3: µm | G3: =analysis_methods!$J$4 -> SEDtot | H3: =analysis_methods!$K$4 -> D | I3: acceptable | J3: = | K3: =analysis_methods!$M$4 -> LASE DIF MEASURE | L3: 44896
A4: =samples!C$4 -> GeoxyzX_2111-WestdiepSeafarm-0m-1b-VV2 | B4: 1 | C4: =analysis_methods!$B$4 -> MGS | D4: 1 | E4: 236.638 | F4: µm | G4: =analysis_methods!$J$4 -> SEDtot | H4: =analysis_methods!$K$4 -> D | I4: acceptable | J4: = | K4: =analysis_methods!$M$4 -> LASE DIF MEASURE | L4: 44896
A5: =samples!C$5 -> GeoxyzX_2111-WestdiepSeafarm-0m-1c-VV3 | B5: 1 | C5: =analysis_methods!$B$4 -> MGS | D5: 1 | E5: 240.053 | F5: µm | G5: =analysis_methods!$J$4 -> SEDtot | H5: =analysis_methods!$K$4 -> D | I5: acceptable | J5: = | K5: =analysis_methods!$M$4 -> LASE DIF MEASURE | L5: 44896
A6: =samples!C$6 -> GeoxyzX_2111-WestdiepSeafarm-0m-2a-VV1 | B6: 1 | C6: =analysis_methods!$B$4 -> MGS | D6: 1 | E6: 240.422 | F6: µm | G6: =analysis_methods!$J$4 -> SEDtot | H6: =analysis_methods!$K$4 -> D | I6: acceptable | J6: = | K6: =analysis_methods!$M$4 -> LASE DIF MEASURE | L6: 44896
A7: =samples!C$7 -> GeoxyzX_2111-WestdiepSeafarm-0m-2b-VV2 | B7: 1 | C7: =analysis_methods!$B$4 -> MGS | D7: 1 | E7: 232.3 | F7: µm | G7: =analysis_methods!$J$4 -> SEDtot | H7: =analysis_methods!$K$4 -> D | I7: acceptable | J7: = | K7: =analysis_methods!$M$4 -> LASE DIF MEASURE | L7: 44896
A8: =samples!C$8 -> GeoxyzX_2111-WestdiepSeafarm-0m-2c-VV3 | B8: 1 | C8: =analysis_methods!$B$4 -> MGS | D8: 1 | E8: 221.258 | F8: µm | G8: =analysis_methods!$J$4 -> SEDtot | H8: =analysis_methods!$K$4 -> D | I8: acceptable | J8: = | K8: =analysis_methods!$M$4 -> LASE DIF MEASURE | L8: 44896
A9: =samples!C$9 -> GeoxyzX_2111-WestdiepSeafarm-75m-a-VV1 | B9: 1 | C9: =analysis_methods!$B$4 -> MGS | D9: 1 | E9: 359.796 | F9: µm | G9: =analysis_methods!$J$4 -> SEDtot | H9: =analysis_methods!$K$4 -> D | I9: acceptable | J9: = | K9: =analysis_methods!$M$4 -> LASE DIF MEASURE | L9: 44896
A10: =samples!C$10 -> GeoxyzX_2111-WestdiepSeafarm-75m-b-VV2 | B10: 1 | C10: =analysis_methods!$B$4 -> MGS | D10: 1 | E10: 404.675 | F10: µm | G10: =analysis_methods!$J$4 -> SEDtot | H10: =analysis_methods!$K$4 -> D | I10: acceptable | J10: = | K10: =analysis_methods!$M$4 -> LASE DIF MEASURE | L10: 44896
A11: =samples!C$11 -> GeoxyzX_2111-WestdiepSeafarm-75m-c-VV3 | B11: 1 | C11: =analysis_methods!$B$4 -> MGS | D11: 1 | E11: 357.337 | F11: µm | G11: =analysis_methods!$J$4 -> SEDtot | H11: =analysis_methods!$K$4 -> D | I11: acceptable | J11: = | K11: =analysis_methods!$M$4 -> LASE DIF MEASURE | L11: 44896
A12: =samples!C$12 -> GeoxyzX_2111-WestdiepSeafarm-150m-a-VV1 | B12: 1 | C12: =analysis_methods!$B$4 -> MGS | D12: 1 | E12: 348.539 | F12: µm | G12: =analysis_methods!$J$4 -> SEDtot | H12: =analysis_methods!$K$4 -> D | I12: acceptable | J12: = | K12: =analysis_methods!$M$4 -> LASE DIF MEASURE | L12: 44896
A13: =samples!C$13 -> GeoxyzX_2111-WestdiepSeafarm-150m-b-VV2 | B13: 1 | C13: =analysis_methods!$B$4 -> MGS | D13: 1 | E13: 392.047 | F13: µm | G13: =analysis_methods!$J$4 -> SEDtot | H13: =analysis_methods!$K$4 -> D | I13: acceptable | J13: = | K13: =analysis_methods!$M$4 -> LASE DIF MEASURE | L13: 44896
A14: =samples!C$14 -> GeoxyzX_2111-WestdiepSeafarm-150m-c-VV3 | B14: 1 | C14: =analysis_methods!$B$4 -> MGS | D14: 1 | E14: 384.541 | F14: µm | G14: =analysis_methods!$J$4 -> SEDtot | H14: =analysis_methods!$K$4 -> D | I14: acceptable | J14: = | K14: =analysis_methods!$M$4 -> LASE DIF MEASURE | L14: 44896
A15: =samples!C$15 -> GeoxyzX_2111-WestdiepSeafarm-225m-a-VV1 | B15: 1 | C15: =analysis_methods!$B$4 -> MGS | D15: 1 | E15: 337.522 | F15: µm | G15: =analysis_methods!$J$4 -> SEDtot | H15: =analysis_methods!$K$4 -> D | I15: acceptable | J15: = | K15: =analysis_methods!$M$4 -> LASE DIF MEASURE | L15: 44896
A16: =samples!C$16 -> GeoxyzX_2111-WestdiepSeafarm-225m-b-VV2 | B16: 1 | C16: =analysis_methods!$B$4 -> MGS | D16: 1 | E16: 347.868 | F16: µm | G16: =analysis_methods!$J$4 -> SEDtot | H16: =analysis_methods!$K$4 -> D | I16: acceptable | J16: = | K16: =analysis_methods!$M$4 -> LASE DIF MEASURE | L16: 44896
A17: =samples!C$17 -> GeoxyzX_2111-WestdiepSeafarm-225m-c-VV3 | B17: 1 | C17: =analysis_methods!$B$4 -> MGS | D17: 1 | E17: 363.62 | F17: µm | G17: =analysis_methods!$J$4 -> SEDtot | H17: =analysis_methods!$K$4 -> D | I17: acceptable | J17: = | K17: =analysis_methods!$M$4 -> LASE DIF MEASURE | L17: 44896
A18: =samples!C$18 -> GeoxyzX_2111-WestdiepSeafarm-325m-a-VV1 | B18: 1 | C18: =analysis_methods!$B$4 -> MGS | D18: 1 | E18: 351.337 | F18: µm | G18: =analysis_methods!$J$4 -> SEDtot | H18: =analysis_methods!$K$4 -> D | I18: acceptable | J18: = | K18: =analysis_methods!$M$4 -> LASE DIF MEASURE | L18: 44896
A19: =samples!C$19 -> GeoxyzX_2111-WestdiepSeafarm-325m-b-VV2 | B19: 1 | C19: =analysis_methods!$B$4 -> MGS | D19: 1 | E19: 353.208 | F19: µm | G19: =analysis_methods!$J$4 -> SEDtot | H19: =analysis_methods!$K$4 -> D | I19: acceptable | J19: = | K19: =analysis_methods!$M$4 -> LASE DIF MEASURE | L19: 44896
A20: =samples!C$20 -> GeoxyzX_2111-WestdiepSeafarm-325m-c-VV3 | B20: 1 | C20: =analysis_methods!$B$4 -> MGS | D20: 1 | E20: 352.259 | F20: µm | G20: =analysis_methods!$J$4 -> SEDtot | H20: =analysis_methods!$K$4 -> D | I20: acceptable | J20: = | K20: =analysis_methods!$M$4 -> LASE DIF MEASURE | L20: 44896
A21: =samples!C$21 -> GeoxyzX_2111-WestdiepSeafarm-425m-a-VV1 | B21: 1 | C21: =analysis_methods!$B$4 -> MGS | D21: 1 | E21: 363.774 | F21: µm | G21: =analysis_methods!$J$4 -> SEDtot | H21: =analysis_methods!$K$4 -> D | I21: acceptable | J21: = | K21: =analysis_methods!$M$4 -> LASE DIF MEASURE | L21: 44896
A22: =samples!C$22 -> GeoxyzX_2111-WestdiepSeafarm-425m-b-VV2 | B22: 1 | C22: =analysis_methods!$B$4 -> MGS | D22: 1 | E22: 385.828 | F22: µm | G22: =analysis_methods!$J$4 -> SEDtot | H22: =analysis_methods!$K$4 -> D | I22: acceptable | J22: = | K22: =analysis_methods!$M$4 -> LASE DIF MEASURE | L22: 44896
A23: =samples!C$23 -> GeoxyzX_2111-WestdiepSeafarm-425m-c-VV3 | B23: 1 | C23: =analysis_methods!$B$4 -> MGS | D23: 1 | E23: 385.177 | F23: µm | G23: =analysis_methods!$J$4 -> SEDtot | H23: =analysis_methods!$K$4 -> D | I23: acceptable | J23: = | K23: =analysis_methods!$M$4 -> LASE DIF MEASURE | L23: 44896
A24: =samples!C$24 -> GeoxyzX_2111-WestdiepSeafarm-525m-a-VV1 | B24: 1 | C24: =analysis_methods!$B$4 -> MGS | D24: 1 | E24: 365.883 | F24: µm | G24: =analysis_methods!$J$4 -> SEDtot | H24: =analysis_methods!$K$4 -> D | I24: acceptable | J24: = | K24: =analysis_methods!$M$4 -> LASE DIF MEASURE | L24: 44896
A25: =samples!C$25 -> GeoxyzX_2111-WestdiepSeafarm-525m-b-VV2 | B25: 1 | C25: =analysis_methods!$B$4 -> MGS | D25: 1 | E25: 333.457 | F25: µm | G25: =analysis_methods!$J$4 -> SEDtot | H25: =analysis_methods!$K$4 -> D | I25: acceptable | J25: = | K25: =analysis_methods!$M$4 -> LASE DIF MEASURE | L25: 44896
A26: =samples!C$26 -> GeoxyzX_2111-WestdiepSeafarm-525m-c-VV3 | B26: 1 | C26: =analysis_methods!$B$4 -> MGS | D26: 1 | E26: 407.226 | F26: µm | G26: =analysis_methods!$J$4 -> SEDtot | H26: =analysis_methods!$K$4 -> D | I26: acceptable | J26: = | K26: =analysis_methods!$M$4 -> LASE DIF MEASURE | L26: 44896
A27: =samples!C$27 -> GeoxyzX_2111-WestdiepSeafarm-675m-a-VV1 | B27: 1 | C27: =analysis_methods!$B$4 -> MGS | D27: 1 | E27: 407.158 | F27: µm | G27: =analysis_methods!$J$4 -> SEDtot | H27: =analysis_methods!$K$4 -> D | I27: acceptable | J27: = | K27: =analysis_methods!$M$4 -> LASE DIF MEASURE | L27: 44896
A28: =samples!C$28 -> GeoxyzX_2111-WestdiepSeafarm-675m-b-VV2 | B28: 1 | C28: =analysis_methods!$B$4 -> MGS | D28: 1 | E28: 388.884 | F28: µm | G28: =analysis_methods!$J$4 -> SEDtot | H28: =analysis_methods!$K$4 -> D | I28: acceptable | J28: = | K28: =analysis_methods!$M$4 -> LASE DIF MEASURE | L28: 44896
A29: =samples!C$29 -> GeoxyzX_2111-WestdiepSeafarm-675m-c-VV3 | B29: 1 | C29: =analysis_methods!$B$4 -> MGS | D29: 1 | E29: 349.828 | F29: µm | G29: =analysis_methods!$J$4 -> SEDtot | H29: =analysis_methods!$K$4 -> D | I29: acceptable | J29: = | K29: =analysis_methods!$M$4 -> LASE DIF MEASURE | L29: 44896
A30: =samples!C$30 -> GeoxyzX_2111-WestdiepSeafarm-825m-a-VV1 | B30: 1 | C30: =analysis_methods!$B$4 -> MGS | D30: 1 | E30: 394.758 | F30: µm | G30: =analysis_methods!$J$4 -> SEDtot | H30: =analysis_methods!$K$4 -> D | I30: acceptable | J30: = | K30: =analysis_methods!$M$4 -> LASE DIF MEASURE | L30: 44896
A31: =samples!C$31 -> GeoxyzX_2111-WestdiepSeafarm-825m-b-VV2 | B31: 1 | C31: =analysis_methods!$B$4 -> MGS | D31: 1 | E31: 373.667 | F31: µm | G31: =analysis_methods!$J$4 -> SEDtot | H31: =analysis_methods!$K$4 -> D | I31: acceptable | J31: = | K31: =analysis_methods!$M$4 -> LASE DIF MEASURE | L31: 44896
A32: =samples!C$32 -> GeoxyzX_2111-WestdiepSeafarm-825m-c-VV3 | B32: 1 | C32: =analysis_methods!$B$4 -> MGS | D32: 1 | E32: 383.825 | F32: µm | G32: =analysis_methods!$J$4 -> SEDtot | H32: =analysis_methods!$K$4 -> D | I32: acceptable | J32: = | K32: =analysis_methods!$M$4 -> LASE DIF MEASURE | L32: 44896
A33: =samples!C$33 -> GeoxyzX_2111-WestdiepSeafarm-975m-a-VV1 | B33: 1 | C33: =analysis_methods!$B$4 -> MGS | D33: 1 | E33: 354.043 | F33: µm | G33: =analysis_methods!$J$4 -> SEDtot | H33: =analysis_methods!$K$4 -> D | I33: acceptable | J33: = | K33: =analysis_methods!$M$4 -> LASE DIF MEASURE | L33: 44896
A34: =samples!C$34 -> GeoxyzX_2111-WestdiepSeafarm-975m-b-VV2 | B34: 1 | C34: =analysis_methods!$B$4 -> MGS | D34: 1 | E34: 347.426 | F34: µm | G34: =analysis_methods!$J$4 -> SEDtot | H34: =analysis_methods!$K$4 -> D | I34: acceptable | J34: = | K34: =analysis_methods!$M$4 -> LASE DIF MEASURE | L34: 44896
A35: =samples!C$35 -> GeoxyzX_2111-WestdiepSeafarm-975m-c-VV3 | B35: 1 | C35: =analysis_methods!$B$4 -> MGS | D35: 1 | E35: 367.143 | F35: µm | G35: =analysis_methods!$J$4 -> SEDtot | H35: =analysis_methods!$K$4 -> D | I35: acceptable | J35: = | K35: =analysis_methods!$M$4 -> LASE DIF MEASURE | L35: 44896
A36: =samples!C$36 -> GeoxyzX_2111-WestdiepSeafarm-1225m-a-VV1 | B36: 1 | C36: =analysis_methods!$B$4 -> MGS | D36: 1 | E36: 366.281 | F36: µm | G36: =analysis_methods!$J$4 -> SEDtot | H36: =analysis_methods!$K$4 -> D | I36: acceptable | J36: = | K36: =analysis_methods!$M$4 -> LASE DIF MEASURE | L36: 44896
A37: =samples!C$37 -> GeoxyzX_2111-WestdiepSeafarm-1225m-b-VV2 | B37: 1 | C37: =analysis_methods!$B$4 -> MGS | D37: 1 | E37: 393.126 | F37: µm | G37: =analysis_methods!$J$4 -> SEDtot | H37: =analysis_methods!$K$4 -> D | I37: acceptable | J37: = | K37: =analysis_methods!$M$4 -> LASE DIF MEASURE | L37: 44896
A38: =samples!C$38 -> GeoxyzX_2111-WestdiepSeafarm-1225m-c-VV3 | B38: 1 | C38: =analysis_methods!$B$4 -> MGS | D38: 1 | E38: 367.53 | F38: µm | G38: =analysis_methods!$J$4 -> SEDtot | H38: =analysis_methods!$K$4 -> D | I38: acceptable | J38: = | K38: =analysis_methods!$M$4 -> LASE DIF MEASURE | L38: 44896
A39: =samples!C$39 -> GeoxyzXI_2112-WestdiepSeafarm-1475m-a-VV1 | B39: 1 | C39: =analysis_methods!$B$4 -> MGS | D39: 1 | E39: 375.887 | F39: µm | G39: =analysis_methods!$J$4 -> SEDtot | H39: =analysis_methods!$K$4 -> D | I39: acceptable | J39: = | K39: =analysis_methods!$M$4 -> LASE DIF MEASURE | L39: 44896
A40: =samples!C$40 -> GeoxyzXI_2112-WestdiepSeafarm-1475m-b-VV2 | B40: 1 | C40: =analysis_methods!$B$4 -> MGS | D40: 1 | E40: 380.033 | F40: µm | G40: =analysis_methods!$J$4 -> SEDtot | H40: =analysis_methods!$K$4 -> D | I40: acceptable | J40: = | K40: =analysis_methods!$M$4 -> LASE DIF MEASURE | L40: 44896
A41: =samples!C$41 -> GeoxyzXI_2112-WestdiepSeafarm-1475m-c-VV3 | B41: 1 | C41: =analysis_methods!$B$4 -> MGS | D41: 1 | E41: 364.443 | F41: µm | G41: =analysis_methods!$J$4 -> SEDtot | H41: =analysis_methods!$K$4 -> D | I41: acceptable | J41: = | K41: =analysis_methods!$M$4 -> LASE DIF MEASURE | L41: 44896
A42: =samples!C$42 -> GeoxyzXI_2112-WestdiepSeafarm-1725m-a-VV1 | B42: 1 | C42: =analysis_methods!$B$4 -> MGS | D42: 1 | E42: 381.232 | F42: µm | G42: =analysis_methods!$J$4 -> SEDtot | H42: =analysis_methods!$K$4 -> D | I42: acceptable | J42: = | K42: =analysis_methods!$M$4 -> LASE DIF MEASURE | L42: 44896
A43: =samples!C$43 -> GeoxyzXI_2112-WestdiepSeafarm-1725m-b-VV2 | B43: 1 | C43: =analysis_methods!$B$4 -> MGS | D43: 1 | E43: 384.047 | F43: µm | G43: =analysis_methods!$J$4 -> SEDtot | H43: =analysis_methods!$K$4 -> D | I43: acceptable | J43: = | K43: =analysis_methods!$M$4 -> LASE DIF MEASURE | L43: 44896
A44: =samples!C$44 -> GeoxyzXI_2112-WestdiepSeafarm-1725m-c-VV3 | B44: 1 | C44: =analysis_methods!$B$4 -> MGS | D44: 1 | E44: 371.779 | F44: µm | G44: =analysis_methods!$J$4 -> SEDtot | H44: =analysis_methods!$K$4 -> D | I44: acceptable | J44: = | K44: =analysis_methods!$M$4 -> LASE DIF MEASURE | L44: 44896
A45: =samples!C$45 -> GeoxyzX_2111-WestdiepSeafarm-2075m-a-VV1 | B45: 1 | C45: =analysis_methods!$B$4 -> MGS | D45: 1 | E45: 352.284 | F45: µm | G45: =analysis_methods!$J$4 -> SEDtot | H45: =analysis_methods!$K$4 -> D | I45: acceptable | J45: = | K45: =analysis_methods!$M$4 -> LASE DIF MEASURE | L45: 44896
A46: =samples!C$46 -> GeoxyzX_2111-WestdiepSeafarm-2075m-b-VV2 | B46: 1 | C46: =analysis_methods!$B$4 -> MGS | D46: 1 | E46: 366.708 | F46: µm | G46: =analysis_methods!$J$4 -> SEDtot | H46: =analysis_methods!$K$4 -> D | I46: acceptable | J46: = | K46: =analysis_methods!$M$4 -> LASE DIF MEASURE | L46: 44896
A47: =samples!C$47 -> GeoxyzX_2111-WestdiepSeafarm-2075m-c-VV3 | B47: 1 | C47: =analysis_methods!$B$4 -> MGS | D47: 1 | E47: 375.407 | F47: µm | G47: =analysis_methods!$J$4 -> SEDtot | H47: =analysis_methods!$K$4 -> D | I47: acceptable | J47: = | K47: =analysis_methods!$M$4 -> LASE DIF MEASURE | L47: 44896
A48: =samples!C$48 -> GeoxyzX_2111-WestdiepSeafarm-2425m-a-VV1 | B48: 1 | C48: =analysis_methods!$B$4 -> MGS | D48: 1 | E48: 400.483 | F48: µm | G48: =analysis_methods!$J$4 -> SEDtot | H48: =analysis_methods!$K$4 -> D | I48: acceptable | J48: = | K48: =analysis_methods!$M$4 -> LASE DIF MEASURE | L48: 44896
A49: =samples!C$49 -> GeoxyzX_2111-WestdiepSeafarm-2425m-b-VV2 | B49: 1 | C49: =analysis_methods!$B$4 -> MGS | D49: 1 | E49: 379.719 | F49: µm | G49: =analysis_methods!$J$4 -> SEDtot | H49: =analysis_methods!$K$4 -> D | I49: acceptable | J49: = | K49: =analysis_methods!$M$4 -> LASE DIF MEASURE | L49: 44896
A50: =samples!C$50 -> GeoxyzX_2111-WestdiepSeafarm-2425m-c-VV3 | B50: 1 | C50: =analysis_methods!$B$4 -> MGS | D50: 1 | E50: 406.793 | F50: µm | G50: =analysis_methods!$J$4 -> SEDtot | H50: =analysis_methods!$K$4 -> D | I50: acceptable | J50: = | K50: =analysis_methods!$M$4 -> LASE DIF MEASURE | L50: 44896
A51: =samples!C$51 -> GeoxyzX_2111-WestdiepSeafarm-2775m-a-VV1 | B51: 1 | C51: =analysis_methods!$B$4 -> MGS | D51: 1 | E51: 368.861 | F51: µm | G51: =analysis_methods!$J$4 -> SEDtot | H51: =analysis_methods!$K$4 -> D | I51: acceptable | J51: = | K51: =analysis_methods!$M$4 -> LASE DIF MEASURE | L51: 44896
A52: =samples!C$52 -> GeoxyzX_2111-WestdiepSeafarm-2775m-b-VV2 | B52: 1 | C52: =analysis_methods!$B$4 -> MGS | D52: 1 | E52: 380.896 | F52: µm | G52: =analysis_methods!$J$4 -> SEDtot | H52: =analysis_methods!$K$4 -> D | I52: acceptable | J52: = | K52: =analysis_methods!$M$4 -> LASE DIF MEASURE | L52: 44896
A53: =samples!C$53 -> GeoxyzX_2111-WestdiepSeafarm-2775m-c-VV3 | B53: 1 | C53: =analysis_methods!$B$4 -> MGS | D53: 1 | E53: 382.568 | F53: µm | G53: =analysis_methods!$J$4 -> SEDtot | H53: =analysis_methods!$K$4 -> D | I53: acceptable | J53: = | K53: =analysis_methods!$M$4 -> LASE DIF MEASURE | L53: 44896
A54: =samples!C$54 -> GeoxyzX_2111-WestdiepSeafarm-3275m-a-VV1 | B54: 1 | C54: =analysis_methods!$B$4 -> MGS | D54: 1 | E54: 343.304 | F54: µm | G54: =analysis_methods!$J$4 -> SEDtot | H54: =analysis_methods!$K$4 -> D | I54: acceptable | J54: = | K54: =analysis_methods!$M$4 -> LASE DIF MEASURE | L54: 44896
A55: =samples!C$55 -> GeoxyzX_2111-WestdiepSeafarm-3275m-b-VV2 | B55: 1 | C55: =analysis_methods!$B$4 -> MGS | D55: 1 | E55: 349.67 | F55: µm | G55: =analysis_methods!$J$4 -> SEDtot | H55: =analysis_methods!$K$4 -> D | I55: acceptable | J55: = | K55: =analysis_methods!$M$4 -> LASE DIF MEASURE | L55: 44896
A56: =samples!C$56 -> GeoxyzX_2111-WestdiepSeafarm-3275m-c-VV3 | B56: 1 | C56: =analysis_methods!$B$4 -> MGS | D56: 1 | E56: 346.527 | F56: µm | G56: =analysis_methods!$J$4 -> SEDtot | H56: =analysis_methods!$K$4 -> D | I56: acceptable | J56: = | K56: =analysis_methods!$M$4 -> LASE DIF MEASURE | L56: 44896
A57: =samples!C$57 -> GeoxyzX_2111-WestdiepSeafarm-3775m-a-VV1 | B57: 1 | C57: =analysis_methods!$B$4 -> MGS | D57: 1 | E57: 359.253 | F57: µm | G57: =analysis_methods!$J$4 -> SEDtot | H57: =analysis_methods!$K$4 -> D | I57: acceptable | J57: = | K57: =analysis_methods!$M$4 -> LASE DIF MEASURE | L57: 44896
A58: =samples!C$58 -> GeoxyzX_2111-WestdiepSeafarm-3775m-b-VV2 | B58: 1 | C58: =analysis_methods!$B$4 -> MGS | D58: 1 | E58: 377.357 | F58: µm | G58: =analysis_methods!$J$4 -> SEDtot | H58: =analysis_methods!$K$4 -> D | I58: acceptable | J58: = | K58: =analysis_methods!$M$4 -> LASE DIF MEASURE | L58: 44896
A59: =samples!C$59 -> GeoxyzX_2111-WestdiepSeafarm-3775m-c-VV3 | B59: 1 | C59: =analysis_methods!$B$4 -> MGS | D59: 1 | E59: 360.857 | F59: µm | G59: =analysis_methods!$J$4 -> SEDtot | H59: =analysis_methods!$K$4 -> D | I59: acceptable | J59: = | K59: =analysis_methods!$M$4 -> LASE DIF MEASURE | L59: 44896
A60: =samples!C$60 -> GeoxyzX_2111-WestdiepSeafarm-4275m-a-VV1 | B60: 1 | C60: =analysis_methods!$B$4 -> MGS | D60: 1 | E60: 353.89 | F60: µm | G60: =analysis_methods!$J$4 -> SEDtot | H60: =analysis_methods!$K$4 -> D | I60: acceptable | J60: = | K60: =analysis_methods!$M$4 -> LASE DIF MEASURE | L60: 44896
A61: =samples!C$61 -> GeoxyzX_2111-WestdiepSeafarm-4275m-b-VV2 | B61: 1 | C61: =analysis_methods!$B$4 -> MGS | D61: 1 | E61: 380.507 | F61: µm | G61: =analysis_methods!$J$4 -> SEDtot | H61: =analysis_methods!$K$4 -> D | I61: acceptable | J61: = | K61: =analysis_methods!$M$4 -> LASE DIF MEASURE | L61: 44896
A62: =samples!C$62 -> GeoxyzX_2111-WestdiepSeafarm-4275m-c-VV3 | B62: 1 | C62: =analysis_methods!$B$4 -> MGS | D62: 1 | E62: 364.36 | F62: µm | G62: =analysis_methods!$J$4 -> SEDtot | H62: =analysis_methods!$K$4 -> D | I62: acceptable | J62: = | K62: =analysis_methods!$M$4 -> LASE DIF MEASURE | L62: 44896
A63: =samples!C$3 -> GeoxyzX_2111-WestdiepSeafarm-0m-1a-VV1 | B63: 1 | C63: =analysis_methods!$B$5 -> FINE | D63: 1 | E63: 58.258 | F63: % | G63: =analysis_methods!$J$5 -> SEDtot | H63: =analysis_methods!$K$4 -> D | I63: acceptable | J63: = | K63: =analysis_methods!$M$4 -> LASE DIF MEASURE | L63: 44896
A64: =samples!C$4 -> GeoxyzX_2111-WestdiepSeafarm-0m-1b-VV2 | B64: 1 | C64: =analysis_methods!$B$5 -> FINE | D64: 1 | E64: 56.146 | F64: % | G64: =analysis_methods!$J$5 -> SEDtot | H64: =analysis_methods!$K$4 -> D | I64: acceptable | J64: = | K64: =analysis_methods!$M$4 -> LASE DIF MEASURE | L64: 44896
A65: =samples!C$5 -> GeoxyzX_2111-WestdiepSeafarm-0m-1c-VV3 | B65: 1 | C65: =analysis_methods!$B$5 -> FINE | D65: 1 | E65: 54.718 | F65: % | G65: =analysis_methods!$J$5 -> SEDtot | H65: =analysis_methods!$K$4 -> D | I65: acceptable | J65: = | K65: =analysis_methods!$M$4 -> LASE DIF MEASURE | L65: 44896
A66: =samples!C$6 -> GeoxyzX_2111-WestdiepSeafarm-0m-2a-VV1 | B66: 1 | C66: =analysis_methods!$B$5 -> FINE | D66: 1 | E66: 54.226 | F66: % | G66: =analysis_methods!$J$5 -> SEDtot | H66: =analysis_methods!$K$4 -> D | I66: acceptable | J66: = | K66: =analysis_methods!$M$4 -> LASE DIF MEASURE | L66: 44896
A67: =samples!C$7 -> GeoxyzX_2111-WestdiepSeafarm-0m-2b-VV2 | B67: 1 | C67: =analysis_methods!$B$5 -> FINE | D67: 1 | E67: 57.297 | F67: % | G67: =analysis_methods!$J$5 -> SEDtot | H67: =analysis_methods!$K$4 -> D | I67: acceptable | J67: = | K67: =analysis_methods!$M$4 -> LASE DIF MEASURE | L67: 44896
A68: =samples!C$8 -> GeoxyzX_2111-WestdiepSeafarm-0m-2c-VV3 | B68: 1 | C68: =analysis_methods!$B$5 -> FINE | D68: 1 | E68: 61.207 | F68: % | G68: =analysis_methods!$J$5 -> SEDtot | H68: =analysis_methods!$K$4 -> D | I68: acceptable | J68: = | K68: =analysis_methods!$M$4 -> LASE DIF MEASURE | L68: 44896
A69: =samples!C$9 -> GeoxyzX_2111-WestdiepSeafarm-75m-a-VV1 | B69: 1 | C69: =analysis_methods!$B$5 -> FINE | D69: 1 | E69: 20.563 | F69: % | G69: =analysis_methods!$J$5 -> SEDtot | H69: =analysis_methods!$K$4 -> D | I69: acceptable | J69: = | K69: =analysis_methods!$M$4 -> LASE DIF MEASURE | L69: 44896
A70: =samples!C$10 -> GeoxyzX_2111-WestdiepSeafarm-75m-b-VV2 | B70: 1 | C70: =analysis_methods!$B$5 -> FINE | D70: 1 | E70: 11.95 | F70: % | G70: =analysis_methods!$J$5 -> SEDtot | H70: =analysis_methods!$K$4 -> D | I70: acceptable | J70: = | K70: =analysis_methods!$M$4 -> LASE DIF MEASURE | L70: 44896
A71: =samples!C$11 -> GeoxyzX_2111-WestdiepSeafarm-75m-c-VV3 | B71: 1 | C71: =analysis_methods!$B$5 -> FINE | D71: 1 | E71: 19.303 | F71: % | G71: =analysis_methods!$J$5 -> SEDtot | H71: =analysis_methods!$K$4 -> D | I71: acceptable | J71: = | K71: =analysis_methods!$M$4 -> LASE DIF MEASURE | L71: 44896
A72: =samples!C$12 -> GeoxyzX_2111-WestdiepSeafarm-150m-a-VV1 | B72: 1 | C72: =analysis_methods!$B$5 -> FINE | D72: 1 | E72: 20.137 | F72: % | G72: =analysis_methods!$J$5 -> SEDtot | H72: =analysis_methods!$K$4 -> D | I72: acceptable | J72: = | K72: =analysis_methods!$M$4 -> LASE DIF MEASURE | L72: 44896
A73: =samples!C$13 -> GeoxyzX_2111-WestdiepSeafarm-150m-b-VV2 | B73: 1 | C73: =analysis_methods!$B$5 -> FINE | D73: 1 | E73: 11.469 | F73: % | G73: =analysis_methods!$J$5 -> SEDtot | H73: =analysis_methods!$K$4 -> D | I73: acceptable | J73: = | K73: =analysis_methods!$M$4 -> LASE DIF MEASURE | L73: 44896
A74: =samples!C$14 -> GeoxyzX_2111-WestdiepSeafarm-150m-c-VV3 | B74: 1 | C74: =analysis_methods!$B$5 -> FINE | D74: 1 | E74: 12.651 | F74: % | G74: =analysis_methods!$J$5 -> SEDtot | H74: =analysis_methods!$K$4 -> D | I74: acceptable | J74: = | K74: =analysis_methods!$M$4 -> LASE DIF MEASURE | L74: 44896
A75: =samples!C$15 -> GeoxyzX_2111-WestdiepSeafarm-225m-a-VV1 | B75: 1 | C75: =analysis_methods!$B$5 -> FINE | D75: 1 | E75: 25.53 | F75: % | G75: =analysis_methods!$J$5 -> SEDtot | H75: =analysis_methods!$K$4 -> D | I75: acceptable | J75: = | K75: =analysis_methods!$M$4 -> LASE DIF MEASURE | L75: 44896
A76: =samples!C$16 -> GeoxyzX_2111-WestdiepSeafarm-225m-b-VV2 | B76: 1 | C76: =analysis_methods!$B$5 -> FINE | D76: 1 | E76: 22.682 | F76: % | G76: =analysis_methods!$J$5 -> SEDtot | H76: =analysis_methods!$K$4 -> D | I76: acceptable | J76: = | K76: =analysis_methods!$M$4 -> LASE DIF MEASURE | L76: 44896
A77: =samples!C$17 -> GeoxyzX_2111-WestdiepSeafarm-225m-c-VV3 | B77: 1 | C77: =analysis_methods!$B$5 -> FINE | D77: 1 | E77: 21.285 | F77: % | G77: =analysis_methods!$J$5 -> SEDtot | H77: =analysis_methods!$K$4 -> D | I77: acceptable | J77: = | K77: =analysis_methods!$M$4 -> LASE DIF MEASURE | L77: 44896
A78: =samples!C$18 -> GeoxyzX_2111-WestdiepSeafarm-325m-a-VV1 | B78: 1 | C78: =analysis_methods!$B$5 -> FINE | D78: 1 | E78: 22.015 | F78: % | G78: =analysis_methods!$J$5 -> SEDtot | H78: =analysis_methods!$K$4 -> D | I78: acceptable | J78: = | K78: =analysis_methods!$M$4 -> LASE DIF MEASURE | L78: 44896
A79: =samples!C$19 -> GeoxyzX_2111-WestdiepSeafarm-325m-b-VV2 | B79: 1 | C79: =analysis_methods!$B$5 -> FINE | D79: 1 | E79: 18.56 | F79: % | G79: =analysis_methods!$J$5 -> SEDtot | H79: =analysis_methods!$K$4 -> D | I79: acceptable | J79: = | K79: =analysis_methods!$M$4 -> LASE DIF MEASURE | L79: 44896
A80: =samples!C$20 -> GeoxyzX_2111-WestdiepSeafarm-325m-c-VV3 | B80: 1 | C80: =analysis_methods!$B$5 -> FINE | D80: 1 | E80: 21.587 | F80: % | G80: =analysis_methods!$J$5 -> SEDtot | H80: =analysis_methods!$K$4 -> D | I80: acceptable | J80: = | K80: =analysis_methods!$M$4 -> LASE DIF MEASURE | L80: 44896
A81: =samples!C$21 -> GeoxyzX_2111-WestdiepSeafarm-425m-a-VV1 | B81: 1 | C81: =analysis_methods!$B$5 -> FINE | D81: 1 | E81: 17.266 | F81: % | G81: =analysis_methods!$J$5 -> SEDtot | H81: =analysis_methods!$K$4 -> D | I81: acceptable | J81: = | K81: =analysis_methods!$M$4 -> LASE DIF MEASURE | L81: 44896
A82: =samples!C$22 -> GeoxyzX_2111-WestdiepSeafarm-425m-b-VV2 | B82: 1 | C82: =analysis_methods!$B$5 -> FINE | D82: 1 | E82: 16.603 | F82: % | G82: =analysis_methods!$J$5 -> SEDtot | H82: =analysis_methods!$K$4 -> D | I82: acceptable | J82: = | K82: =analysis_methods!$M$4 -> LASE DIF MEASURE | L82: 44896
A83: =samples!C$23 -> GeoxyzX_2111-WestdiepSeafarm-425m-c-VV3 | B83: 1 | C83: =analysis_methods!$B$5 -> FINE | D83: 1 | E83: 14.49 | F83: % | G83: =analysis_methods!$J$5 -> SEDtot | H83: =analysis_methods!$K$4 -> D | I83: acceptable | J83: = | K83: =analysis_methods!$M$4 -> LASE DIF MEASURE | L83: 44896
A84: =samples!C$24 -> GeoxyzX_2111-WestdiepSeafarm-525m-a-VV1 | B84: 1 | C84: =analysis_methods!$B$5 -> FINE | D84: 1 | E84: 20.476 | F84: % | G84: =analysis_methods!$J$5 -> SEDtot | H84: =analysis_methods!$K$4 -> D | I84: acceptable | J84: = | K84: =analysis_methods!$M$4 -> LASE DIF MEASURE | L84: 44896
A85: =samples!C$25 -> GeoxyzX_2111-WestdiepSeafarm-525m-b-VV2 | B85: 1 | C85: =analysis_methods!$B$5 -> FINE | D85: 1 | E85: 28.757 | F85: % | G85: =analysis_methods!$J$5 -> SEDtot | H85: =analysis_methods!$K$4 -> D | I85: acceptable | J85: = | K85: =analysis_methods!$M$4 -> LASE DIF MEASURE | L85: 44896
A86: =samples!C$26 -> GeoxyzX_2111-WestdiepSeafarm-525m-c-VV3 | B86: 1 | C86: =analysis_methods!$B$5 -> FINE | D86: 1 | E86: 7.921 | F86: % | G86: =analysis_methods!$J$5 -> SEDtot | H86: =analysis_methods!$K$4 -> D | I86: acceptable | J86: = | K86: =analysis_methods!$M$4 -> LASE DIF MEASURE | L86: 44896
A87: =samples!C$27 -> GeoxyzX_2111-WestdiepSeafarm-675m-a-VV1 | B87: 1 | C87: =analysis_methods!$B$5 -> FINE | D87: 1 | E87: 13.441 | F87: % | G87: =analysis_methods!$J$5 -> SEDtot | H87: =analysis_methods!$K$4 -> D | I87: acceptable | J87: = | K87: =analysis_methods!$M$4 -> LASE DIF MEASURE | L87: 44896
A88: =samples!C$28 -> GeoxyzX_2111-WestdiepSeafarm-675m-b-VV2 | B88: 1 | C88: =analysis_methods!$B$5 -> FINE | D88: 1 | E88: 13.886 | F88: % | G88: =analysis_methods!$J$5 -> SEDtot | H88: =analysis_methods!$K$4 -> D | I88: acceptable | J88: = | K88: =analysis_methods!$M$4 -> LASE DIF MEASURE | L88: 44896
A89: =samples!C$29 -> GeoxyzX_2111-WestdiepSeafarm-675m-c-VV3 | B89: 1 | C89: =analysis_methods!$B$5 -> FINE | D89: 1 | E89: 22.919 | F89: % | G89: =analysis_methods!$J$5 -> SEDtot | H89: =analysis_methods!$K$4 -> D | I89: acceptable | J89: = | K89: =analysis_methods!$M$4 -> LASE DIF MEASURE | L89: 44896
A90: =samples!C$30 -> GeoxyzX_2111-WestdiepSeafarm-825m-a-VV1 | B90: 1 | C90: =analysis_methods!$B$5 -> FINE | D90: 1 | E90: 11.168 | F90: % | G90: =analysis_methods!$J$5 -> SEDtot | H90: =analysis_methods!$K$4 -> D | I90: acceptable | J90: = | K90: =analysis_methods!$M$4 -> LASE DIF MEASURE | L90: 44896
A91: =samples!C$31 -> GeoxyzX_2111-WestdiepSeafarm-825m-b-VV2 | B91: 1 | C91: =analysis_methods!$B$5 -> FINE | D91: 1 | E91: 14.315 | F91: % | G91: =analysis_methods!$J$5 -> SEDtot | H91: =analysis_methods!$K$4 -> D | I91: acceptable | J91: = | K91: =analysis_methods!$M$4 -> LASE DIF MEASURE | L91: 44896
A92: =samples!C$32 -> GeoxyzX_2111-WestdiepSeafarm-825m-c-VV3 | B92: 1 | C92: =analysis_methods!$B$5 -> FINE | D92: 1 | E92: 12.909 | F92: % | G92: =analysis_methods!$J$5 -> SEDtot | H92: =analysis_methods!$K$4 -> D | I92: acceptable | J92: = | K92: =analysis_methods!$M$4 -> LASE DIF MEASURE | L92: 44896
A93: =samples!C$33 -> GeoxyzX_2111-WestdiepSeafarm-975m-a-VV1 | B93: 1 | C93: =analysis_methods!$B$5 -> FINE | D93: 1 | E93: 20.295 | F93: % | G93: =analysis_methods!$J$5 -> SEDtot | H93: =analysis_methods!$K$4 -> D | I93: acceptable | J93: = | K93: =analysis_methods!$M$4 -> LASE DIF MEASURE | L93: 44896
A94: =samples!C$34 -> GeoxyzX_2111-WestdiepSeafarm-975m-b-VV2 | B94: 1 | C94: =analysis_methods!$B$5 -> FINE | D94: 1 | E94: 21.266 | F94: % | G94: =analysis_methods!$J$5 -> SEDtot | H94: =analysis_methods!$K$4 -> D | I94: acceptable | J94: = | K94: =analysis_methods!$M$4 -> LASE DIF MEASURE | L94: 44896
A95: =samples!C$35 -> GeoxyzX_2111-WestdiepSeafarm-975m-c-VV3 | B95: 1 | C95: =analysis_methods!$B$5 -> FINE | D95: 1 | E95: 17.271 | F95: % | G95: =analysis_methods!$J$5 -> SEDtot | H95: =analysis_methods!$K$4 -> D | I95: acceptable | J95: = | K95: =analysis_methods!$M$4 -> LASE DIF MEASURE | L95: 44896
A96: =samples!C$36 -> GeoxyzX_2111-WestdiepSeafarm-1225m-a-VV1 | B96: 1 | C96: =analysis_methods!$B$5 -> FINE | D96: 1 | E96: 16.155 | F96: % | G96: =analysis_methods!$J$5 -> SEDtot | H96: =analysis_methods!$K$4 -> D | I96: acceptable | J96: = | K96: =analysis_methods!$M$4 -> LASE DIF MEASURE | L96: 44896
A97: =samples!C$37 -> GeoxyzX_2111-WestdiepSeafarm-1225m-b-VV2 | B97: 1 | C97: =analysis_methods!$B$5 -> FINE | D97: 1 | E97: 12.703 | F97: % | G97: =analysis_methods!$J$5 -> SEDtot | H97: =analysis_methods!$K$4 -> D | I97: acceptable | J97: = | K97: =analysis_methods!$M$4 -> LASE DIF MEASURE | L97: 44896
A98: =samples!C$38 -> GeoxyzX_2111-WestdiepSeafarm-1225m-c-VV3 | B98: 1 | C98: =analysis_methods!$B$5 -> FINE | D98: 1 | E98: 16.503 | F98: % | G98: =analysis_methods!$J$5 -> SEDtot | H98: =analysis_methods!$K$4 -> D | I98: acceptable | J98: = | K98: =analysis_methods!$M$4 -> LASE DIF MEASURE | L98: 44896
A99: =samples!C$39 -> GeoxyzXI_2112-WestdiepSeafarm-1475m-a-VV1 | B99: 1 | C99: =analysis_methods!$B$5 -> FINE | D99: 1 | E99: 12.332 | F99: % | G99: =analysis_methods!$J$5 -> SEDtot | H99: =analysis_methods!$K$4 -> D | I99: acceptable | J99: = | K99: =analysis_methods!$M$4 -> LASE DIF MEASURE | L99: 44896
A100: =samples!C$40 -> GeoxyzXI_2112-WestdiepSeafarm-1475m-b-VV2 | B100: 1 | C100: =analysis_methods!$B$5 -> FINE | D100: 1 | E100: 15.79 | F100: % | G100: =analysis_methods!$J$5 -> SEDtot | H100: =analysis_methods!$K$4 -> D | I100: acceptable | J100: = | K100: =analysis_methods!$M$4 -> LASE DIF MEASURE | L100: 44896
...

Sheet analysis_methods
A1: PARAMETER_NAME | B1: PARAMETER_CODE | C1: PARAMETER_LABEL | D1: PARAM_BIOMOLECULAR_CODE | E1: PARAM_BIOMOLECULAR_NAME | F1: PARAM_CODE_ICES | G1: PARAM_CODE_SDN_P01 | H1: PARAM_GROUP_CODE_SDN_P02 | I1: UNIT | J1: MATRIX | K1: BASIS | L1: ANALYSIS_METHOD_NAME | M1: ANALYSIS_METHOD_CODE | N1: ANALYSIS_METHOD_ICES_CODE | O1: PRESERVATION_METHOD | P1: STORAGE_METHOD | Q1: PRETREATMENT_METHOD | R1: CHEMICAL_EXTRACTION_METHOD | S1: SEPARATION_METHOD | T1: ANALYSIS_INSTRUMENT_L05 | U1: ANALYSIS_INSTRUMENT_NAME_L22 | V1: SAMPLE_HANDLING_DESCRIPTION | W1: ANALYSIS_METHOD_DESCRIPTION | X1: ANALYSIS_METHOD_START_DATE | Y1: ANALYSIS_METHOD_END_DATE | Z1: LABORATORY | AA1: AUTHOR | AB1: PROJECT_ACRONYM | AC1: DETECTION_LIMIT | AD1: QUANTIFICATION_LIMIT | AE1: LOD_LOQ_UNIT | AF1: UNCERTAINTY_FACTOR | AG1: UNCERTAINTY_METHOD | AH1: NUMBER_OF_SIGNIFICANT_DIGITS | AI1: ANALYSIS_CHARAC_START_DATE | AJ1: ANALYSIS_CHARAC_END_DATE
A2: abundance | B2: ABUN | F2: ABUNDNR | G2: SDBIOL02 | H2: BPRP | I2: ind/m² | J2: SB | K2: D | L2: taxonomy-stereo-microscope | M2: TAXO_STE_MICROSCOPE | N2: MIC_ST | O2: FOR | P2: NA | Q2: SVW | T2: LAB05 | V2: After being sieved over a 1mm mesh-siez sieve, the organisms were sorted, identified to the lowest taxonomic level possible and then counted | W2: Taxonomic identification and count of orgamisms were done under stereo-microscope. Only macrobenthic species (>1mm) were condisered for the analysis | Z2: Ugent Marbiol | AA2: Christelle Jammar | AB2: Westdiep Seafarm | AC2: 1 | AE2: ind/m² | AH2: 0 | AI2: 44166
A3: biomass | B3: BIOM | F3: BMWETWT | G3: SDBIOL05 | H3: BPRP | I3: g/m² | J3: SB | K3: D | L3: blotted-wet-weight-scale | M3: BLOT WW SCALE | N3: WA | O3: FOR | P3: NA | Q3: SVW | T3: LAB13 | V3: After being counted, organisms were weighted using the blotted wet weight | W3: The blotted wet weight was measured using an analytical balance (KERN ACJ 320-4M) | Z3: Ugent Marbiol | AA3: Christelle Jammar | AB3: Westdiep Seafarm | AC3: 0.0001 | AE3: g/m² | AH3: 3 | AI3: 44166
A4: median grain size | B4: MGS | F4: GSMED | G4: MDGSPSXX | H4: MNGS | I4: µm | J4: SEDtot | K4: D | L4: laser-difraction-measure | M4: LASE DIF MEASURE | N4: LGR | Q4: D | T4: S04:S041096 | V4: A subsample for quantification of sediment grain size distribution and the total organic carbon content (TOC) was collected from each VV grab using a plexiglass core (Ø 3.6 cm) . These samples were dried at 60°C during 48h | W4: The samples were dried at 60°C during 48h, and the grain size distribution was measured using laser diffraction with a Malvern Mastersizer. The grain size distribution was then used to determine the median grain size (d50), fine sand fraction (% <250 μm) and mud content (< 63 µm) in each sample. | Z4: Ugent Marbiol | AA4: Christelle Jammar | AB4: Westdiep Seafarm | AC4: 2 | AE4: µm | AH4: 3 | AI4: 44166
A5: fine sediment fraction | B5: FINE | F5: GSMF250 | G5: PPVSXX12 | H5: MNGS | I5: % | J5: SEDtot | K5: D | L5: laser-difraction-measure | M5: LASE DIF MEASURE | N5: LGR | Q5: D | T5: S04:S041096 | V5: A subsample for quantification of sediment grain size distribution and the total organic carbon content (TOC) was collected from each VV grab using a plexiglass core (Ø 3.6 cm) . These samples were dried at 60°C during 48h | W5: The samples were dried at 60°C during 48h, and the grain size distribution was measured using laser diffraction with a Malvern Mastersizer. The grain size distribution was then used to determine the median grain size (d50), fine sand fraction (% <250 μm) and mud content (< 63 µm) in each sample. | Z5: Ugent Marbiol | AA5: Christelle Jammar | AB5: Westdiep Seafarm | AC5: 2 | AE5: µm | AH5: 3 | AI5: 44166
A6: mud content | B6: MUD | F6: GSMF63 | G6: PPRSDX49 | H6: MNGS | I6: % | J6: SEDtot | K6: D | L6: laser-difraction-measure | M6: LASE DIF MEASURE | N6: LGR | Q6: D | T6: S04:S041096 | V6: A subsample for quantification of sediment grain size distribution and the total organic carbon content (TOC) was collected from each VV grab using a plexiglass core (Ø 3.6 cm) . These samples were dried at 60°C during 48h | W6: The samples were dried at 60°C during 48h, and the grain size distribution was measured using laser diffraction with a Malvern Mastersizer. The grain size distribution was then used to determine the median grain size (d50), fine sand fraction (% <250 μm) and mud content (< 63 µm) in each sample. | Z6: Ugent Marbiol | AA6: Christelle Jammar | AB6: Westdiep Seafarm | AC6: 2 | AE6: µm | AH6: 3 | AI6: 44166
A7: total organic carbon content | B7: TOC | F7: TOC | G7: IC000002 | H7: RMIN | I7: % | J7: SEDtot | K7: D | L7: combustion-infrared-cells | M7: COMB INF CELLS | N7: CMB | Q7: ACD-HCL | T7: SDN:S03::S0380 | V7: A subsample for quantification of sediment grain size distribution and the total organic carbon content (TOC) was collected from each VV grab using a plexiglass core (Ø 3.6 cm) . These samples were dried at 60°C during 48h | W7: The TOC content in each sample was measured by combustion using an ELTRA CS2000 with infrared cells after acidifying the samples with 10M HCl until no bubbles were observed anymore. | Z7: Ugent Marbiol | AA7: Christelle Jammar | AB7: Westdiep Seafarm | AC7: 0.033 | AD7: 0.125 | AE7: mg C | AH7: 15 | AI7: 44166

Sheet codes
A1: EVENTS - SAMPLES | E1: SAMPLES | I1: SAMPLES | M1: SAMPLES | P1: ABUNDANCES-VALUES | T1: ABUNDANCES-VALUES | X1: ABUNDANCES-VALUES
A2: TIME FLAG | E2: Reference sampling depth | I2: Reference sampling depth | M2: DTYPE | P2: Value flag | T2: Detlim flag | X2: size_class
A3: code | B3: name | C3: description | E3: Code | F3: ID | G3: Description | I3: Code | J3: ID | K3: Description | M3: Code | N3: Description | P3: Code | Q3: ID | R3: Description | T3: Code | U3: ID | V3: Description | X3: Code | Y3: Description
A4: 0 | B4: acceptable | C4: The start date and end date are expressed in UTC and acceptable | E4: surface | F4: 0 | G4: surface | I4: 0 | J4: acceptable | K4: value for actual sampling depth is acceptable | M4: AN | N4: Ancillary data | P4: none | Q4: 0 | R4: no quality control | T4: = | V4: value is the actual value | X4: <20 | Y4: <20 µm
A5: 1 | B5: reference unknown | C5: The time is suspect because the time reference system is not known | E5: 3 m | F5: 1 | G5: 3 m | I5: 1 | J5: suspect | K5: doubts about correctness of actual sampling depth | M5: BD | N5: Biodiversity - internal use only | P5: good | Q5: 1 | R5: good value | T5: < | V5: value is less than the reported value | X5: >20 | Y5: >20 µm
A6: 2 | B6: time unknown | C6: The time (hh:mm) is not known | E6: bottom | F6: 2 | G6: bottom | I6: 2 | J6: replaced | K6: sampling depth replaced by data-manager | M6: CF | N6: Contaminants and biological effects of contaminants (including fish disease) in biota data | P6: probably_good | Q6: 2 | R6: probably good value | T6: > | V6: value is greater than the reported value | X6: 20-79 | Y6: 20-79 µm
A7: 3 | B7: replaced | C7: The date/time is replaced and acceptable | E7: bottle profile | F7: 3 | G7: bottle profile | I7: 3 | J7: missing | K7: no value for actual sampling depth | M7: CS | N7: Contaminants and biological effects of contaminants in sediment data | P7: probably_bad | Q7: 3 | R7: probably bad value (=questionable or suspect) | T7: D | V7: reported value is less than the detection limit | X7: 80-99 | Y7: 80-99 µm
A8: 4 | B8: date suspect | C8: Date (dd/mm/yyyy) is suspect | E8: SCTD profile | F8: 4 | G8: SCTD profile | I8: <NEW> | M8: CW | N8: Contaminants + nutrients + biological and eutrophication effects in water data | P8: bad | Q8: 4 | R8: bad value | T8: Q | V8: reported value is less than the limit of quantification (LMQNT) | X8: 100-199 | Y8: 100-199 µm
A9: 5 | B9: time suspect | C9: Time (hh:mm) is suspect | E9: other | F9: 5 | G9: other | I9: <NEW> | M9: DF | N9: Fish disease data | P9: changed | Q9: 5 | R9: changed value | X9: 200-500 | Y9: 200-500 µm
A10: 6 | B10: missing | C10: Date and time are missing | E10: sed surface mix | F10: 6 | G10: sediment mixed surface sample 0 - 20 cm | I10: <NEW> | M10: LT | N10: Litter data | P10: BD | Q10: 6 | R10: value below detection | X10: 500-1000 | Y10: 500-1000 µm
A11: 7 | B11: YEAR | C11: Date and time missing, year known | E11: sed surface profile | F11: 7 | G11: sediment surface profile sample 0 - 40 cm | I11: <NEW> | M11: PB | N11: Phytobenthos community (macrophytes) data | P11: excess | Q11: 7 | R11: value in excess | X11: 1000-2000 | Y11: 1000-2000 µm
A12: 8 | B12: MONTH | C12: Date and time missing, month known | E12: bottom to halocline | F12: 9 | G12: bottom to halocline (included) | I12: <NEW> | M12: PP | N12: Phytoplankton community data | P12: interpolated | Q12: 8 | R12: interpolated value | X12: >2000 | Y12: >2000 µm
A13: 9 | B13: DAY | C13: Time missing, date known | E13: geological profile | F13: 8 | G13: sediment geological profile - > 40 cm | I13: <NEW> | M13: ZB | N13: Zoobenthos community data | P13: missing | Q13: 9 | R13: missing value | X13: large
A14: <NEW> | E14: halo- to thermocline | F14: 10 | G14: top of halocline to thermocline (included) | I14: <NEW> | M14: ZP | N14: Zooplankton community data | P14: ID_uncertain | Q14: A | R14: value phenomenon uncertain | X14: <NEW>
A15: <NEW> | E15: 0-10 metres | F15: 11 | G15: integrated sample from 0-10 metres | I15: <NEW> | M15: BS | N15: Nutrients + biological processes in sediment data | P15: nominal | Q15: B | R15: nominal value | X15: <NEW>
A16: <NEW> | E16: photic zone | F16: 12 | G16: integrated sample from photic zone | I16: <NEW> | M16: BB | N16: Biological processes in biota data | P16: BelowLOQ | Q16: Q | R16: value below limit of quantification | X16: <NEW>
A17: <NEW> | E17: 1,2.5,5,7.5,10 m | F17: 13 | G17: pooled sample from distinct depths (1,2.5,5,7.5,10 m) | I17: <NEW> | M17: <NEW> | X17: <NEW>
A18: <NEW> | E18: separate depths | F18: 14 | G18: separate depths | I18: <NEW> | M18: <NEW> | X18: <NEW>
A19: <NEW> | E19: thermocl. to surface | F19: 15 | G19: top of thermocline to surface | I19: <NEW> | M19: <NEW>
A20: <NEW> | E20: air - 15 m | F20: 16 | G20: air - 15 m | I20: <NEW> | M20: <NEW>
E21: air -1.5 m | F21: 17 | G21: air -1.5 m | I21: <NEW> | M21: <NEW>
E22: air other | F22: 18 | G22: air other | I22: <NEW> | M22: <NEW>
E23: subsurface | F23: 19 | G23: subsurface | I23: <NEW> | M23: <NEW>
E24: 10 m | F24: 20 | G24: 10 m | I24: <NEW> | M24: <NEW>
E25: <NEW> | I25: <NEW> | M25: <NEW>
E26: <NEW> | I26: <NEW> | M26: <NEW>
E27: <NEW> | I27: <NEW> | M27: <NEW>
E28: <NEW> | I28: <NEW> | M28: <NEW>
E29: <NEW> | I29: <NEW> | M29: <NEW>
E30: <NEW> | I30: <NEW> | M30: <NEW>
E31: <NEW> | I31: <NEW> | M31: <NEW>
E32: <NEW> | I32: <NEW> | M32: <NEW>
E33: <NEW> | I33: <NEW> | M33: <NEW>
E34: <NEW> | I34: <NEW> | M34: <NEW>
E35: <NEW>
E36: <NEW>
E37: <NEW>
E38: <NEW>
E39: <NEW>
E40: <NEW>
E41: <NEW>
E42: <NEW>
E43: <NEW>
E44: <NEW>
E45: <NEW>
E46: <NEW>
... E100: <NEW>
