Workbook
Name Campaign_code: #REF!
Name Position_flag: #REF!
Name Preservation_name: #N/A
Name Reference_sampling_depth: #REF!
Name Sampling_depth_flag: #REF!
Name Sampling_flag: #REF!
Name Sampling_gear_sediment: #REF!
Name Time_flag: #REF!
Name Unit: #N/A

Sheet Campaigns
A1: Campaign name | B1: Platform | C1: Type of cruise | D1: Start date (dd/mon/yyyy) | E1: End date (dd/mon/yyyy) | F1: Area Description | G1: Port Of Departure | H1: Port of Arrival
A2: BE2021/03 | B2: R/V Belgica | C2: Monitoring | D2: 44249 | E2: 44253 | G2: Zeebrugge | H2: Zeebrugge

Sheet Stations
A1: Station code | B1: Station Name | C1: start latitude (dd.dd) | D1: start longitude (dd.dd) | E1: end latitude (dd.dd) | F1: end longitude (dd.dd) | G1: Position reference
A2: Port | B2: Port zeebrugge | C2: 51.356617 | D2: 3.2038167
A3: ZVL | B3: Dredge disposal site - Zeebrugge Oost | C3: 51.377833 | D3: 3.22245
A4: MOW1 | B4: MOW1 | C4: 51.35575 | D4: 3.1263667
A5: WO5 | B5: WO5 | C5: 51.410167 | D5: 2.8245167
A6: WO8 | B6: WO8 | C6: 51.456133 | D6: 2.3507

Sheet Samples
A1: Sampling Event number | B1: Campaign Code | C1: Campaign Code | D1: Sample ID corrected | E1: Sample ID | F1: Sample label | G1: Volume (l) | H1: Station Code | I1: Reference sampling depth | J1: sample depth upper | K1: sample depth lower | L1: sample depth flag | M1: Sampling device | N1: Start date/time (dd/mon/yyyy hh:mm) | O1: End date/time (dd/mon/yyyy hh:mm) | P1: Time flag | Q1: Number of aggregated samples | R1: Exact sampling depth (m) | S1: Remarks | T1: Sampling laboratory
A2: 2 | B2: =Campaigns!$A$2 -> BE2021/03 | C2: BE2021-03 | D2: 2021-03_W05_Inlet1 | E2: =CONCATENATE(B2,"_",H2,"_",M2,"_",F2) -> BE2021/03_W05_GPUMP_Inlet1 | F2: Inlet1 | G2: 200 | H2: W05 | I2: subsurface | M2: GPUMP | N2: 44250.74 | O2: 44250.764 | P2: acceptable | Q2: 1 | R2: 3 | S2: 1 subsample > 100 µm | T2: OD Nature
A3: 3 | B3: =Campaigns!$A$2 -> BE2021/03 | C3: BE2021-03 | D3: 2021-03_W05_Inlet2 | E3: =CONCATENATE(B3,"_",H3,"_",M3,"_",F3) -> BE2021/03_W05_GPUMP_Inlet2 | F3: Inlet2 | G3: 200 | H3: W05 | I3: subsurface | M3: GPUMP | N3: 44250.819 | O3: 44250.842 | P3: acceptable | Q3: 1 | R3: 3 | S3: 2 subsamples: >100µm en 63 µm-100µm | T3: OD Nature
A4: 7 | B4: =Campaigns!$A$2 -> BE2021/03 | C4: BE2021-03 | D4: 2021-03_W05_Inlet3 | E4: =CONCATENATE(B4,"_",H4,"_",M4,"_",F4) -> BE2021/03_W05_GPUMP_Inlet3 | F4: Inlet3 | G4: 200 | H4: W05 | I4: subsurface | M4: GPUMP | N4: 44250.947 | O4: 44250.969 | P4: acceptable | Q4: 1 | R4: 3 | S4: 2 subsamples: >100µm en 63 µm-100µm (aircntrl, lid also exposed) | T4: OD Nature
A5: 8 | B5: =Campaigns!$A$2 -> BE2021/03 | C5: BE2021-03 | D5: 2021-03_W08_Inlet1 | E5: =CONCATENATE(B5,"_",H5,"_",M5,"_",F5) -> BE2021/03_W08_GPUMP_Inlet1 | F5: Inlet1 | G5: 300 | H5: W08 | I5: subsurface | M5: GPUMP | N5: 44251.74 | O5: 44251.773 | P5: acceptable | Q5: 1 | R5: 3 | S5: > 63µm - replaced by next sample | T5: OD Nature
A6: 9 | B6: =Campaigns!$A$2 -> BE2021/03 | C6: BE2021-03 | D6: 2021-03_W08_Inlet2 | E6: =CONCATENATE(B6,"_",H6,"_",M6,"_",F6) -> BE2021/03_W08_GPUMP_Inlet2 | F6: Inlet2 | G6: 300 | H6: W08 | I6: subsurface | M6: GPUMP | N6: 44251.79 | O6: 44251.825 | P6: acceptable | Q6: 1 | R6: 3 | S6: 2 subsamples: >100µm en 63 µm-100µm | T6: OD Nature
A7: 10 | B7: =Campaigns!$A$2 -> BE2021/03 | C7: BE2021-03 | D7: 2021-03_W08_Inlet3 | E7: =CONCATENATE(B7,"_",H7,"_",M7,"_",F7) -> BE2021/03_W08_GPUMP_Inlet3 | F7: Inlet3 | G7: 300 | H7: W08 | I7: subsurface | M7: GPUMP | N7: 44251.858 | O7: 44251.89 | P7: acceptable | Q7: 1 | R7: 3 | S7: 1 subsample > 100 µm | T7: OD Nature
A8: 14 | B8: =Campaigns!$A$2 -> BE2021/03 | C8: BE2021-03 | D8: 2021-03_MOW1_Inlet1 | E8: =CONCATENATE(B8,"_",H8,"_",M8,"_",F8) -> BE2021/03_MOW1_GPUMP_Inlet1 | F8: Inlet1 | G8: 200 | H8: MOW1 | I8: subsurface | M8: GPUMP | N8: 44252.453 | O8: 44252.472 | P8: acceptable | R8: 3 | T8: OD Nature
A9: 15 | B9: =Campaigns!$A$2 -> BE2021/03 | C9: BE2021-03 | D9: 2021-03_MOW1_Inlet2 | E9: =CONCATENATE(B9,"_",H9,"_",M9,"_",F9) -> BE2021/03_MOW1_GPUMP_Inlet2 | F9: Inlet2 | G9: 200 | H9: MOW1 | I9: subsurface | M9: GPUMP | N9: 44252.572 | O9: 44252.591 | P9: acceptable | R9: 3 | T9: OD Nature
A10: 19 | B10: =Campaigns!$A$2 -> BE2021/03 | C10: BE2021-03 | D10: 2021-03_MOW1_Inlet3 | E10: =CONCATENATE(B10,"_",H10,"_",M10,"_",F10) -> BE2021/03_MOW1_GPUMP_Inlet3 | F10: Inlet3 | G10: 100 | H10: MOW1 | I10: subsurface | M10: GPUMP | N10: 44252.702 | O10: 44252.713 | P10: acceptable | R10: 3 | S10: 1 subsample > 100 µm | T10: OD Nature
A11: 20 | B11: =Campaigns!$A$2 -> BE2021/03 | C11: BE2021-03 | D11: 2021-03_MOW1_Niskin | E11: =CONCATENATE(B11,"_",H11,"_",M11,"_",F11) -> BE2021/03_MOW1_NI5_niskin | F11: niskin | G11: 75 | H11: MOW1 | I11: subsurface | M11: NI5 | N11: 44252.722 | O11: 44252.731 | P11: acceptable | R11: 0.5 | S11: different Niskin bottles at two sampling times | T11: OD Nature
A12: 21 | B12: =Campaigns!$A$2 -> BE2021/03 | C12: BE2021-03 | D12: 2021-03_MOW1_Inlet4 | E12: =CONCATENATE(B12,"_",H12,"_",M12,"_",F12) -> BE2021/03_MOW1_GPUMP_Inlet4 | F12: Inlet4 | G12: 200 | H12: MOW1 | I12: subsurface | M12: GPUMP | N12: 44252.881 | O12: 44252.901 | P12: acceptable | R12: 3 | S12: 2 subsamples: >100µm en 63 µm-100µm (or 1?) | T12: OD Nature

Sheet Meta Info
A1: Sampling Event number | B1: Campaign code | C1: Station code | D1: Start time | E1: Sea state (Beaufort) | F1: Turbidity (NTU) | G1: Waterdepth (m) | H1: Water temperature (°C) | I1: Air temperature (°C) | J1: Tide state | K1: Current - speed of bottom current | L1: tidal state | N1: hss high surface speed; lss low suface speed, rt rising tide, dt descending tide,lbs low bottom speed | O1: start time local | P1: end time local | Q1: flowmeter start | R1: flowmeter end | S1: Volume(l)
A2: 2 | B2: =Campaigns!$A$2 -> BE2021/03 | C2: W05 | N2: rt (HW 23:00 CET) hss | O2: 44250.781 | P2: 44250.806 | Q2: 1790 | R2: 1990 | S2: =R2-Q2 -> 200
A3: 3 | B3: =Campaigns!$A$2 -> BE2021/03 | C3: W05 | N3: rt (HW 23:00 CET) lss | O3: 44250.86 | P3: 44250.884 | Q3: 2040 | R3: 2240 | S3: =R3-Q3 -> 200
A4: 7 | B4: =Campaigns!$A$2 -> BE2021/03 | C4: W05 | N4: dt (LW 5:30 CET) hss | O4: 44250.988 | P4: 44251.011 | Q4: 2295 | R4: 2495 | S4: =R4-Q4 -> 200
A5: 8 | B5: =Campaigns!$A$2 -> BE2021/03 | C5: W08 | N5: rt (hss) | O5: 44251.782 | P5: 44251.815 | Q5: 2560 | R5: 2860 | S5: =R5-Q5 -> 300
A6: 9 | B6: =Campaigns!$A$2 -> BE2021/03 | C6: W08 | N6: rt | O6: 44251.832 | P6: 44251.867 | Q6: 2882 | R6: 3182 | S6: =R6-Q6 -> 300
A7: 10 | B7: =Campaigns!$A$2 -> BE2021/03 | C7: W08 | N7: rt lss (HW 23:40 CET) (slack 22:30 CET) | O7: 44251.9 | P7: 44251.932 | Q7: 3212 | R7: 3512 | S7: =R7-Q7 -> 300
A8: 14 | B8: =Campaigns!$A$2 -> BE2021/03 | C8: MOW1 | N8: rt (HW 12:50 CET) hss | O8: 44252.494 | P8: 44252.514 | Q8: 3650 | R8: 3850 | S8: =R8-Q8 -> 200
A9: 15 | B9: =Campaigns!$A$2 -> BE2021/03 | C9: MOW1 | N9: dt lss | O9: 44252.614 | P9: 44252.633 | Q9: 3900 | R9: 4100 | S9: =R9-Q9 -> 200
A10: 19 | B10: =Campaigns!$A$2 -> BE2021/03 | C10: MOW1 | N10: dt hss | O10: 44252.744 | P10: 44252.754 | Q10: 4325 | R10: 4425 | S10: =R10-Q10 -> 100
A11: 20 | B11: =Campaigns!$A$2 -> BE2021/03 | C11: MOW1 | N11: dt hss | O11: 44252.764 | P11: 44252.772
A12: 21 | B12: =Campaigns!$A$2 -> BE2021/03 | C12: MOW1 | N12: rt lss (slack 22:40 CET) | O12: 44252.923 | P12: 44252.943 | Q12: 5280 | R12: 5480 | S12: =R12-Q12 -> 200

Sheet litter_values
A1: Sample_ID original | B1: Sample_ID | C1: Subsample ID | D1: to excude (out of size range, no plastic) | E1: microlitter type | F1: Litter name | G1: Litter_ref_code | H1: Subsample depth upper | I1: Subsample depth lower | J1: Litter_ref_code corr | K1: BASIS | L1: subsample_volume | M1: subsample_volume_unit | N1: Replicate number | O1: Lower sieved fraction (µm) | P1: Upper sieved fraction (µm) | Q1: SUBMATRIX | R1: LitterNumber-SPM | S1: TotalCount (per collected volume) | T1: TotalCount (per 1000l) | U1: LitterNumber-SPM_unit | V1: LOD (nb items) | W1: DETLIM flag | X1: MaxLenght | Y1: LitterDiameter_Unit | Z1: Detlim flag | AA1: LTREF | AB1: LitterType | AC1: H01 | AD1: LitterColour | AE1: H04 | AF1: LitterSizeClass | AG1: Quality flag | AH1: Hot Needle Test | AI1: VFLAG_Hot Needle_Test | AJ1: µFTIR_val | AK1: VFLAG_µFTIR_val | AL1: Measurement uncertainty | AM1: Analysis date (dd/mon/yyyy) | AN1: Project Acronym
A2: 2021-03_MOW1_inlet4 | B2: =VLOOKUP(A2,Samples!$D$2:$E$12,2,FALSE) -> BE2021/03_MOW1_GPUMP_Inlet4 | C2: 100µm | E2: ind | F2: litter1 | G2: =_xlfn.CONCAT(A2,"_",C2,"_",F2,) -> 2021-03_MOW1_inlet4_100µm_litter1 | J2: =CONCATENATE(B2,"_",F2) -> BE2021/03_MOW1_GPUMP_Inlet4_litter1 | K2: W | L2: =VLOOKUP(A2,Samples!$D$2:$G$12,4,FALSE) -> 200 | M2: l | N2: 1 | O2: 100 | P2: 5000 | Q2: SW | R2: 9_10 | S2: 9 | T2: =S2*1000/L2 -> 45 | U2: items | X2: 932 | Y2: µm | AA2: H01 | AB2: fiber | AC2: H0100004 | AD2: transparent | AE2: COLOURLESS | AF2: 350-1000µm | AH2: Positive | AI2: acceptable | AN2: =Project!$B$2 -> Marine_Plastics_EMFF
A3: 2021-03_MOW1_inlet4 | B3: =VLOOKUP(A3,Samples!$D$2:$E$12,2,FALSE) -> BE2021/03_MOW1_GPUMP_Inlet4 | C3: 100µm | E3: ind | F3: litter2 | G3: =_xlfn.CONCAT(A3,"_",C3,"_",F3,) -> 2021-03_MOW1_inlet4_100µm_litter2 | J3: =CONCATENATE(B3,"_",F3) -> BE2021/03_MOW1_GPUMP_Inlet4_litter2 | K3: W | L3: =VLOOKUP(A3,Samples!$D$2:$G$12,4,FALSE) -> 200 | M3: l | N3: 1 | O3: 100 | P3: 5000 | Q3: SW | S3: 9 | T3: =S3*1000/L3 -> 45 | U3: items | X3: 416 | Y3: µm | AA3: H01 | AB3: fiber | AC3: H0100004 | AD3: other (grey) | AE3: GREY | AF3: 350-1000µm | AH3: Positive | AI3: acceptable | AN3: =Project!$B$2 -> Marine_Plastics_EMFF
A4: 2021-03_MOW1_inlet4 | B4: =VLOOKUP(A4,Samples!$D$2:$E$12,2,FALSE) -> BE2021/03_MOW1_GPUMP_Inlet4 | C4: 100µm | E4: ind | F4: litter3 | G4: =_xlfn.CONCAT(A4,"_",C4,"_",F4,) -> 2021-03_MOW1_inlet4_100µm_litter3 | J4: =CONCATENATE(B4,"_",F4) -> BE2021/03_MOW1_GPUMP_Inlet4_litter3 | K4: W | L4: =VLOOKUP(A4,Samples!$D$2:$G$12,4,FALSE) -> 200 | M4: l | N4: 1 | O4: 100 | P4: 5000 | Q4: SW | S4: 9 | T4: =S4*1000/L4 -> 45 | U4: items | X4: 629 | Y4: µm | AA4: H01 | AB4: fiber | AC4: H0100004 | AD4: transparent | AE4: COLOURLESS | AF4: 350-1000µm | AH4: Positive | AI4: acceptable | AN4: =Project!$B$2 -> Marine_Plastics_EMFF
A5: 2021-03_MOW1_inlet4 | B5: =VLOOKUP(A5,Samples!$D$2:$E$12,2,FALSE) -> BE2021/03_MOW1_GPUMP_Inlet4 | C5: 100µm | E5: ind | F5: litter4 | G5: =_xlfn.CONCAT(A5,"_",C5,"_",F5,) -> 2021-03_MOW1_inlet4_100µm_litter4 | J5: =CONCATENATE(B5,"_",F5) -> BE2021/03_MOW1_GPUMP_Inlet4_litter4 | K5: W | L5: =VLOOKUP(A5,Samples!$D$2:$G$12,4,FALSE) -> 200 | M5: l | N5: 1 | O5: 100 | P5: 5000 | Q5: SW | S5: 9 | T5: =S5*1000/L5 -> 45 | U5: items | X5: 1235 | Y5: µm | AA5: H01 | AB5: fiber | AC5: H0100004 | AD5: blue | AE5: BLUE | AF5: 1-5mm(LMP) | AH5: Positive | AI5: acceptable | AN5: =Project!$B$2 -> Marine_Plastics_EMFF
A6: 2021-03_MOW1_inlet4 | B6: =VLOOKUP(A6,Samples!$D$2:$E$12,2,FALSE) -> BE2021/03_MOW1_GPUMP_Inlet4 | C6: 100µm | E6: ind | F6: litter5 | G6: =_xlfn.CONCAT(A6,"_",C6,"_",F6,) -> 2021-03_MOW1_inlet4_100µm_litter5 | J6: =CONCATENATE(B6,"_",F6) -> BE2021/03_MOW1_GPUMP_Inlet4_litter5 | K6: W | L6: =VLOOKUP(A6,Samples!$D$2:$G$12,4,FALSE) -> 200 | M6: l | N6: 1 | O6: 100 | P6: 5000 | Q6: SW | S6: 9 | T6: =S6*1000/L6 -> 45 | U6: items | X6: 112 | Y6: µm | AA6: H01 | AB6: microbead | AC6: H0100009 | AD6: black | AE6: BLACK | AF6: 100-350µm | AH6: Positive | AI6: acceptable | AN6: =Project!$B$2 -> Marine_Plastics_EMFF
A7: 2021-03_MOW1_inlet4 | B7: =VLOOKUP(A7,Samples!$D$2:$E$12,2,FALSE) -> BE2021/03_MOW1_GPUMP_Inlet4 | C7: 100µm | E7: ind | F7: litter6 | G7: =_xlfn.CONCAT(A7,"_",C7,"_",F7,) -> 2021-03_MOW1_inlet4_100µm_litter6 | J7: =CONCATENATE(B7,"_",F7) -> BE2021/03_MOW1_GPUMP_Inlet4_litter6 | K7: W | L7: =VLOOKUP(A7,Samples!$D$2:$G$12,4,FALSE) -> 200 | M7: l | N7: 1 | O7: 100 | P7: 5000 | Q7: SW | S7: 9 | T7: =S7*1000/L7 -> 45 | U7: items | X7: 147 | Y7: µm | AA7: H01 | AB7: fragment | AC7: H0100002 | AD7: black | AE7: BLACK | AF7: 100-350µm | AH7: Positive | AI7: acceptable | AN7: =Project!$B$2 -> Marine_Plastics_EMFF
A8: 2021-03_MOW1_inlet4 | B8: =VLOOKUP(A8,Samples!$D$2:$E$12,2,FALSE) -> BE2021/03_MOW1_GPUMP_Inlet4 | C8: 100µm | E8: ind | F8: litter7 | G8: =_xlfn.CONCAT(A8,"_",C8,"_",F8,) -> 2021-03_MOW1_inlet4_100µm_litter7 | J8: =CONCATENATE(B8,"_",F8) -> BE2021/03_MOW1_GPUMP_Inlet4_litter7 | K8: W | L8: =VLOOKUP(A8,Samples!$D$2:$G$12,4,FALSE) -> 200 | M8: l | N8: 1 | O8: 100 | P8: 5000 | Q8: SW | S8: 9 | T8: =S8*1000/L8 -> 45 | U8: items | X8: 896 | Y8: µm | AA8: H01 | AB8: fiber | AC8: H0100004 | AD8: transparent | AE8: COLOURLESS | AF8: 350-1000µm | AH8: Positive | AI8: acceptable | AN8: =Project!$B$2 -> Marine_Plastics_EMFF
A9: 2021-03_MOW1_inlet4 | B9: =VLOOKUP(A9,Samples!$D$2:$E$12,2,FALSE) -> BE2021/03_MOW1_GPUMP_Inlet4 | C9: 100µm | E9: ind | F9: litter8 | G9: =_xlfn.CONCAT(A9,"_",C9,"_",F9,) -> 2021-03_MOW1_inlet4_100µm_litter8 | J9: =CONCATENATE(B9,"_",F9) -> BE2021/03_MOW1_GPUMP_Inlet4_litter8 | K9: W | L9: =VLOOKUP(A9,Samples!$D$2:$G$12,4,FALSE) -> 200 | M9: l | N9: 1 | O9: 100 | P9: 5000 | Q9: SW | S9: 9 | T9: =S9*1000/L9 -> 45 | U9: items | X9: 683 | Y9: µm | AA9: H01 | AB9: fiber | AC9: H0100004 | AD9: transparent | AE9: COLOURLESS | AF9: 350-1000µm | AH9: Positive | AI9: acceptable | AN9: =Project!$B$2 -> Marine_Plastics_EMFF
A10: 2021-03_MOW1_inlet4 | B10: =VLOOKUP(A10,Samples!$D$2:$E$12,2,FALSE) -> BE2021/03_MOW1_GPUMP_Inlet4 | C10: 100µm | E10: ind | F10: litter9 | G10: =_xlfn.CONCAT(A10,"_",C10,"_",F10,) -> 2021-03_MOW1_inlet4_100µm_litter9 | J10: =CONCATENATE(B10,"_",F10) -> BE2021/03_MOW1_GPUMP_Inlet4_litter9 | K10: W | L10: =VLOOKUP(A10,Samples!$D$2:$G$12,4,FALSE) -> 200 | M10: l | N10: 1 | O10: 100 | P10: 5000 | Q10: SW | S10: 9 | T10: =S10*1000/L10 -> 45 | U10: items | X10: 452 | Y10: µm | AA10: H01 | AB10: fiber | AC10: H0100004 | AD10: other (grey) | AE10: GREY | AF10: 350-1000µm | AH10: Positive | AI10: acceptable | AN10: =Project!$B$2 -> Marine_Plastics_EMFF
A11: 2021-03_MOW1_inlet2 | B11: =VLOOKUP(A11,Samples!$D$2:$E$12,2,FALSE) -> BE2021/03_MOW1_GPUMP_Inlet2 | C11: 100µm | E11: ind | F11: litter1 | G11: =_xlfn.CONCAT(A11,"_",C11,"_",F11,) -> 2021-03_MOW1_inlet2_100µm_litter1 | J11: =CONCATENATE(B11,"_",F11) -> BE2021/03_MOW1_GPUMP_Inlet2_litter1 | K11: W | L11: =VLOOKUP(A11,Samples!$D$2:$G$12,4,FALSE) -> 200 | M11: l | N11: 1 | O11: 100 | P11: 5000 | Q11: SW | R11: 33 | S11: 31 | T11: =S11*1000/L11 -> 155 | U11: items | X11: 298 | Y11: µm | AA11: H01 | AB11: fiber | AC11: H0100004 | AD11: transparent | AE11: COLOURLESS | AF11: 100-350µm | AH11: Positive | AI11: acceptable | AN11: =Project!$B$2 -> Marine_Plastics_EMFF
A12: 2021-03_MOW1_inlet2 | B12: =VLOOKUP(A12,Samples!$D$2:$E$12,2,FALSE) -> BE2021/03_MOW1_GPUMP_Inlet2 | C12: 100µm | E12: ind | F12: litter3 | G12: =_xlfn.CONCAT(A12,"_",C12,"_",F12,) -> 2021-03_MOW1_inlet2_100µm_litter3 | J12: =CONCATENATE(B12,"_",F12) -> BE2021/03_MOW1_GPUMP_Inlet2_litter3 | K12: W | L12: =VLOOKUP(A12,Samples!$D$2:$G$12,4,FALSE) -> 200 | M12: l | N12: 1 | O12: 100 | P12: 5000 | Q12: SW | S12: 31 | T12: =S12*1000/L12 -> 155 | U12: items | X12: 123 | Y12: µm | AA12: H01 | AB12: fragment | AC12: H0100002 | AD12: transparent | AE12: COLOURLESS | AF12: 100-350µm | AH12: Positive | AI12: acceptable | AN12: =Project!$B$2 -> Marine_Plastics_EMFF
A13: 2021-03_MOW1_inlet2 | B13: =VLOOKUP(A13,Samples!$D$2:$E$12,2,FALSE) -> BE2021/03_MOW1_GPUMP_Inlet2 | C13: 100µm | E13: ind | F13: litter4 | G13: =_xlfn.CONCAT(A13,"_",C13,"_",F13,) -> 2021-03_MOW1_inlet2_100µm_litter4 | J13: =CONCATENATE(B13,"_",F13) -> BE2021/03_MOW1_GPUMP_Inlet2_litter4 | K13: W | L13: =VLOOKUP(A13,Samples!$D$2:$G$12,4,FALSE) -> 200 | M13: l | N13: 1 | O13: 100 | P13: 5000 | Q13: SW | S13: 31 | T13: =S13*1000/L13 -> 155 | U13: items | X13: 137 | Y13: µm | AA13: H01 | AB13: fragment | AC13: H0100002 | AD13: transparent | AE13: COLOURLESS | AF13: 100-350µm | AH13: Positive | AI13: acceptable | AN13: =Project!$B$2 -> Marine_Plastics_EMFF
A14: 2021-03_MOW1_inlet2 | B14: =VLOOKUP(A14,Samples!$D$2:$E$12,2,FALSE) -> BE2021/03_MOW1_GPUMP_Inlet2 | C14: 100µm | E14: ind | F14: litter5 | G14: =_xlfn.CONCAT(A14,"_",C14,"_",F14,) -> 2021-03_MOW1_inlet2_100µm_litter5 | J14: =CONCATENATE(B14,"_",F14) -> BE2021/03_MOW1_GPUMP_Inlet2_litter5 | K14: W | L14: =VLOOKUP(A14,Samples!$D$2:$G$12,4,FALSE) -> 200 | M14: l | N14: 1 | O14: 100 | P14: 5000 | Q14: SW | S14: 31 | T14: =S14*1000/L14 -> 155 | U14: items | X14: 242 | Y14: µm | AA14: H01 | AB14: fragment | AC14: H0100002 | AD14: transparent | AE14: COLOURLESS | AF14: 100-350µm | AH14: Positive | AI14: acceptable | AN14: =Project!$B$2 -> Marine_Plastics_EMFF
A15: 2021-03_MOW1_inlet2 | B15: =VLOOKUP(A15,Samples!$D$2:$E$12,2,FALSE) -> BE2021/03_MOW1_GPUMP_Inlet2 | C15: 100µm | E15: ind | F15: litter6 | G15: =_xlfn.CONCAT(A15,"_",C15,"_",F15,) -> 2021-03_MOW1_inlet2_100µm_litter6 | J15: =CONCATENATE(B15,"_",F15) -> BE2021/03_MOW1_GPUMP_Inlet2_litter6 | K15: W | L15: =VLOOKUP(A15,Samples!$D$2:$G$12,4,FALSE) -> 200 | M15: l | N15: 1 | O15: 100 | P15: 5000 | Q15: SW | S15: 31 | T15: =S15*1000/L15 -> 155 | U15: items | X15: 351 | Y15: µm | AA15: H01 | AB15: fiber | AC15: H0100004 | AD15: transparent | AE15: COLOURLESS | AF15: 350-1000µm | AH15: Positive | AI15: acceptable | AN15: =Project!$B$2 -> Marine_Plastics_EMFF
A16: 2021-03_MOW1_inlet2 | B16: =VLOOKUP(A16,Samples!$D$2:$E$12,2,FALSE) -> BE2021/03_MOW1_GPUMP_Inlet2 | C16: 100µm | E16: ind | F16: litter7 | G16: =_xlfn.CONCAT(A16,"_",C16,"_",F16,) -> 2021-03_MOW1_inlet2_100µm_litter7 | J16: =CONCATENATE(B16,"_",F16) -> BE2021/03_MOW1_GPUMP_Inlet2_litter7 | K16: W | L16: =VLOOKUP(A16,Samples!$D$2:$G$12,4,FALSE) -> 200 | M16: l | N16: 1 | O16: 100 | P16: 5000 | Q16: SW | S16: 31 | T16: =S16*1000/L16 -> 155 | U16: items | X16: 798 | Y16: µm | AA16: H01 | AB16: fiber | AC16: H0100004 | AD16: transparent | AE16: COLOURLESS | AF16: 350-1000µm | AH16: Positive | AI16: acceptable | AN16: =Project!$B$2 -> Marine_Plastics_EMFF
A17: 2021-03_MOW1_inlet2 | B17: =VLOOKUP(A17,Samples!$D$2:$E$12,2,FALSE) -> BE2021/03_MOW1_GPUMP_Inlet2 | C17: 100µm | E17: ind | F17: litter8 | G17: =_xlfn.CONCAT(A17,"_",C17,"_",F17,) -> 2021-03_MOW1_inlet2_100µm_litter8 | J17: =CONCATENATE(B17,"_",F17) -> BE2021/03_MOW1_GPUMP_Inlet2_litter8 | K17: W | L17: =VLOOKUP(A17,Samples!$D$2:$G$12,4,FALSE) -> 200 | M17: l | N17: 1 | O17: 100 | P17: 5000 | Q17: SW | S17: 31 | T17: =S17*1000/L17 -> 155 | U17: items | X17: 110 | Y17: µm | AA17: H01 | AB17: microbead | AC17: H0100009 | AD17: transparent | AE17: COLOURLESS | AF17: 100-350µm | AH17: Positive | AI17: acceptable | AN17: =Project!$B$2 -> Marine_Plastics_EMFF
A18: 2021-03_MOW1_inlet2 | B18: =VLOOKUP(A18,Samples!$D$2:$E$12,2,FALSE) -> BE2021/03_MOW1_GPUMP_Inlet2 | C18: 100µm | E18: ind | F18: litter9 | G18: =_xlfn.CONCAT(A18,"_",C18,"_",F18,) -> 2021-03_MOW1_inlet2_100µm_litter9 | J18: =CONCATENATE(B18,"_",F18) -> BE2021/03_MOW1_GPUMP_Inlet2_litter9 | K18: W | L18: =VLOOKUP(A18,Samples!$D$2:$G$12,4,FALSE) -> 200 | M18: l | N18: 1 | O18: 100 | P18: 5000 | Q18: SW | S18: 31 | T18: =S18*1000/L18 -> 155 | U18: items | X18: 201 | Y18: µm | AA18: H01 | AB18: fragment | AC18: H0100002 | AD18: transparent | AE18: COLOURLESS | AF18: 100-350µm | AH18: Positive | AI18: acceptable | AN18: =Project!$B$2 -> Marine_Plastics_EMFF
A19: 2021-03_MOW1_inlet2 | B19: =VLOOKUP(A19,Samples!$D$2:$E$12,2,FALSE) -> BE2021/03_MOW1_GPUMP_Inlet2 | C19: 100µm | E19: ind | F19: litter10 | G19: =_xlfn.CONCAT(A19,"_",C19,"_",F19,) -> 2021-03_MOW1_inlet2_100µm_litter10 | J19: =CONCATENATE(B19,"_",F19) -> BE2021/03_MOW1_GPUMP_Inlet2_litter10 | K19: W | L19: =VLOOKUP(A19,Samples!$D$2:$G$12,4,FALSE) -> 200 | M19: l | N19: 1 | O19: 100 | P19: 5000 | Q19: SW | S19: 31 | T19: =S19*1000/L19 -> 155 | U19: items | X19: 148 | Y19: µm | AA19: H01 | AB19: fragment | AC19: H0100002 | AD19: transparent | AE19: COLOURLESS | AF19: 100-350µm | AH19: Positive | AI19: acceptable | AN19: =Project!$B$2 -> Marine_Plastics_EMFF
A20: 2021-03_MOW1_inlet2 | B20: =VLOOKUP(A20,Samples!$D$2:$E$12,2,FALSE) -> BE2021/03_MOW1_GPUMP_Inlet2 | C20: 100µm | E20: ind | F20: litter11 | G20: =_xlfn.CONCAT(A20,"_",C20,"_",F20,) -> 2021-03_MOW1_inlet2_100µm_litter11 | J20: =CONCATENATE(B20,"_",F20) -> BE2021/03_MOW1_GPUMP_Inlet2_litter11 | K20: W | L20: =VLOOKUP(A20,Samples!$D$2:$G$12,4,FALSE) -> 200 | M20: l | N20: 1 | O20: 100 | P20: 5000 | Q20: SW | S20: 31 | T20: =S20*1000/L20 -> 155 | U20: items | X20: 997 | Y20: µm | AA20: H01 | AB20: fragment | AC20: H0100002 | AD20: transparent | AE20: COLOURLESS | AF20: 350-1000µm | AH20: Positive | AI20: acceptable | AN20: =Project!$B$2 -> Marine_Plastics_EMFF
A21: 2021-03_MOW1_inlet2 | B21: =VLOOKUP(A21,Samples!$D$2:$E$12,2,FALSE) -> BE2021/03_MOW1_GPUMP_Inlet2 | C21: 100µm | E21: ind | F21: litter12 | G21: =_xlfn.CONCAT(A21,"_",C21,"_",F21,) -> 2021-03_MOW1_inlet2_100µm_litter12 | J21: =CONCATENATE(B21,"_",F21) -> BE2021/03_MOW1_GPUMP_Inlet2_litter12 | K21: W | L21: =VLOOKUP(A21,Samples!$D$2:$G$12,4,FALSE) -> 200 | M21: l | N21: 1 | O21: 100 | P21: 5000 | Q21: SW | S21: 31 | T21: =S21*1000/L21 -> 155 | U21: items | X21: 1134 | Y21: µm | AA21: H01 | AB21: fiber | AC21: H0100004 | AD21: transparent | AE21: COLOURLESS | AF21: 1-5mm(LMP) | AH21: Positive | AI21: acceptable | AN21: =Project!$B$2 -> Marine_Plastics_EMFF
A22: 2021-03_MOW1_inlet2 | B22: =VLOOKUP(A22,Samples!$D$2:$E$12,2,FALSE) -> BE2021/03_MOW1_GPUMP_Inlet2 | C22: 100µm | E22: ind | F22: litter13 | G22: =_xlfn.CONCAT(A22,"_",C22,"_",F22,) -> 2021-03_MOW1_inlet2_100µm_litter13 | J22: =CONCATENATE(B22,"_",F22) -> BE2021/03_MOW1_GPUMP_Inlet2_litter13 | K22: W | L22: =VLOOKUP(A22,Samples!$D$2:$G$12,4,FALSE) -> 200 | M22: l | N22: 1 | O22: 100 | P22: 5000 | Q22: SW | S22: 31 | T22: =S22*1000/L22 -> 155 | U22: items | X22: 737 | Y22: µm | AA22: H01 | AB22: fiber | AC22: H0100004 | AD22: transparent | AE22: COLOURLESS | AF22: 350-1000µm | AH22: Positive | AI22: acceptable | AN22: =Project!$B$2 -> Marine_Plastics_EMFF
A23: 2021-03_MOW1_inlet2 | B23: =VLOOKUP(A23,Samples!$D$2:$E$12,2,FALSE) -> BE2021/03_MOW1_GPUMP_Inlet2 | C23: 100µm | E23: ind | F23: litter14 | G23: =_xlfn.CONCAT(A23,"_",C23,"_",F23,) -> 2021-03_MOW1_inlet2_100µm_litter14 | J23: =CONCATENATE(B23,"_",F23) -> BE2021/03_MOW1_GPUMP_Inlet2_litter14 | K23: W | L23: =VLOOKUP(A23,Samples!$D$2:$G$12,4,FALSE) -> 200 | M23: l | N23: 1 | O23: 100 | P23: 5000 | Q23: SW | S23: 31 | T23: =S23*1000/L23 -> 155 | U23: items | X23: 119 | Y23: µm | AA23: H01 | AB23: microbead | AC23: H0100009 | AD23: transparent | AE23: COLOURLESS | AF23: 100-350µm | AH23: Positive | AI23: acceptable | AN23: =Project!$B$2 -> Marine_Plastics_EMFF
... A41: 2021-03_MOW1_inlet2 | B41: =VLOOKUP(A41,Samples!$D$2:$E$12,2,FALSE) -> BE2021/03_MOW1_GPUMP_Inlet2 | C41: 100µm | E41: ind | F41: litter33 | G41: =_xlfn.CONCAT(A41,"_",C41,"_",F41,) -> 2021-03_MOW1_inlet2_100µm_litter33 | J41: =CONCATENATE(B41,"_",F41) -> BE2021/03_MOW1_GPUMP_Inlet2_litter33 | K41: W | L41: =VLOOKUP(A41,Samples!$D$2:$G$12,4,FALSE) -> 200 | M41: l | N41: 1 | O41: 100 | P41: 5000 | Q41: SW | S41: 31 | T41: =S41*1000/L41 -> 155 | U41: items | X41: 1786 | Y41: µm | AA41: H01 | AB41: fiber | AC41: H0100004 | AD41: transparent | AE41: COLOURLESS | AF41: 1-5mm(LMP) | AH41: Positive | AI41: acceptable | AN41: =Project!$B$2 -> Marine_Plastics_EMFF
A42: 2021-03_MOW1_inlet1 | B42: =VLOOKUP(A42,Samples!$D$2:$E$12,2,FALSE) -> BE2021/03_MOW1_GPUMP_Inlet1 | C42: 100µm | E42: ind | F42: litter1 | G42: =_xlfn.CONCAT(A42,"_",C42,"_",F42,) -> 2021-03_MOW1_inlet1_100µm_litter1 | J42: =CONCATENATE(B42,"_",F42) -> BE2021/03_MOW1_GPUMP_Inlet1_litter1 | K42: W | L42: =VLOOKUP(A42,Samples!$D$2:$G$12,4,FALSE) -> 200 | M42: l | N42: 1 | O42: 100 | P42: 5000 | Q42: SW | R42: 15_18 | S42: 15 | T42: =S42*1000/L42 -> 75 | U42: items | X42: 201 | Y42: µm | AA42: H01 | AB42: fragment | AC42: H0100002 | AD42: transparent | AE42: COLOURLESS | AF42: 100-350µm | AH42: Positive | AI42: acceptable | AN42: =Project!$B$2 -> Marine_Plastics_EMFF
A43: 2021-03_MOW1_inlet1 | B43: =VLOOKUP(A43,Samples!$D$2:$E$12,2,FALSE) -> BE2021/03_MOW1_GPUMP_Inlet1 | C43: 100µm | E43: ind | F43: litter2 | G43: =_xlfn.CONCAT(A43,"_",C43,"_",F43,) -> 2021-03_MOW1_inlet1_100µm_litter2 | J43: =CONCATENATE(B43,"_",F43) -> BE2021/03_MOW1_GPUMP_Inlet1_litter2 | K43: W | L43: =VLOOKUP(A43,Samples!$D$2:$G$12,4,FALSE) -> 200 | M43: l | N43: 1 | O43: 100 | P43: 5000 | Q43: SW | S43: 15 | T43: =S43*1000/L43 -> 75 | U43: items | X43: 1575 | Y43: µm | AA43: H01 | AB43: fiber | AC43: H0100004 | AD43: transparent | AE43: COLOURLESS | AF43: 1-5mm(LMP) | AH43: Positive | AI43: acceptable | AN43: =Project!$B$2 -> Marine_Plastics_EMFF
A44: 2021-03_MOW1_inlet1 | B44: =VLOOKUP(A44,Samples!$D$2:$E$12,2,FALSE) -> BE2021/03_MOW1_GPUMP_Inlet1 | C44: 100µm | E44: ind | F44: litter3 | G44: =_xlfn.CONCAT(A44,"_",C44,"_",F44,) -> 2021-03_MOW1_inlet1_100µm_litter3 | J44: =CONCATENATE(B44,"_",F44) -> BE2021/03_MOW1_GPUMP_Inlet1_litter3 | K44: W | L44: =VLOOKUP(A44,Samples!$D$2:$G$12,4,FALSE) -> 200 | M44: l | N44: 1 | O44: 100 | P44: 5000 | Q44: SW | S44: 15 | T44: =S44*1000/L44 -> 75 | U44: items | X44: 225 | Y44: µm | AA44: H01 | AB44: fragment | AC44: H0100002 | AD44: other (grey) | AE44: GREY | AF44: 100-350µm | AH44: Positive | AI44: acceptable | AN44: =Project!$B$2 -> Marine_Plastics_EMFF
A45: 2021-03_MOW1_inlet1 | B45: =VLOOKUP(A45,Samples!$D$2:$E$12,2,FALSE) -> BE2021/03_MOW1_GPUMP_Inlet1 | C45: 100µm | E45: ind | F45: litter4 | G45: =_xlfn.CONCAT(A45,"_",C45,"_",F45,) -> 2021-03_MOW1_inlet1_100µm_litter4 | J45: =CONCATENATE(B45,"_",F45) -> BE2021/03_MOW1_GPUMP_Inlet1_litter4 | K45: W | L45: =VLOOKUP(A45,Samples!$D$2:$G$12,4,FALSE) -> 200 | M45: l | N45: 1 | O45: 100 | P45: 5000 | Q45: SW | S45: 15 | T45: =S45*1000/L45 -> 75 | U45: items | X45: 922 | Y45: µm | AA45: H01 | AB45: fiber | AC45: H0100004 | AD45: transparent | AE45: COLOURLESS | AF45: 350-1000µm | AH45: Positive | AI45: acceptable | AN45: =Project!$B$2 -> Marine_Plastics_EMFF
A46: 2021-03_MOW1_inlet1 | B46: =VLOOKUP(A46,Samples!$D$2:$E$12,2,FALSE) -> BE2021/03_MOW1_GPUMP_Inlet1 | C46: 100µm | E46: ind | F46: litter5 | G46: =_xlfn.CONCAT(A46,"_",C46,"_",F46,) -> 2021-03_MOW1_inlet1_100µm_litter5 | J46: =CONCATENATE(B46,"_",F46) -> BE2021/03_MOW1_GPUMP_Inlet1_litter5 | K46: W | L46: =VLOOKUP(A46,Samples!$D$2:$G$12,4,FALSE) -> 200 | M46: l | N46: 1 | O46: 100 | P46: 5000 | Q46: SW | S46: 15 | T46: =S46*1000/L46 -> 75 | U46: items | X46: 284 | Y46: µm | AA46: H01 | AB46: fragment | AC46: H0100002 | AD46: other (orange/pink) | AE46: ORANGE/PINK/RED | AF46: 100-350µm | AH46: Positive | AI46: acceptable | AN46: =Project!$B$2 -> Marine_Plastics_EMFF
A47: 2021-03_MOW1_inlet1 | B47: =VLOOKUP(A47,Samples!$D$2:$E$12,2,FALSE) -> BE2021/03_MOW1_GPUMP_Inlet1 | C47: 100µm | E47: ind | F47: litter6 | G47: =_xlfn.CONCAT(A47,"_",C47,"_",F47,) -> 2021-03_MOW1_inlet1_100µm_litter6 | J47: =CONCATENATE(B47,"_",F47) -> BE2021/03_MOW1_GPUMP_Inlet1_litter6 | K47: W | L47: =VLOOKUP(A47,Samples!$D$2:$G$12,4,FALSE) -> 200 | M47: l | N47: 1 | O47: 100 | P47: 5000 | Q47: SW | S47: 15 | T47: =S47*1000/L47 -> 75 | U47: items | X47: 2465 | Y47: µm | AA47: H01 | AB47: fiber | AC47: H0100004 | AD47: transparent | AE47: COLOURLESS | AF47: 1-5mm(LMP) | AH47: Positive | AI47: acceptable | AN47: =Project!$B$2 -> Marine_Plastics_EMFF
A48: 2021-03_MOW1_inlet1 | B48: =VLOOKUP(A48,Samples!$D$2:$E$12,2,FALSE) -> BE2021/03_MOW1_GPUMP_Inlet1 | C48: 100µm | E48: ind | F48: litter7 | G48: =_xlfn.CONCAT(A48,"_",C48,"_",F48,) -> 2021-03_MOW1_inlet1_100µm_litter7 | J48: =CONCATENATE(B48,"_",F48) -> BE2021/03_MOW1_GPUMP_Inlet1_litter7 | K48: W | L48: =VLOOKUP(A48,Samples!$D$2:$G$12,4,FALSE) -> 200 | M48: l | N48: 1 | O48: 100 | P48: 5000 | Q48: SW | S48: 15 | T48: =S48*1000/L48 -> 75 | U48: items | X48: 2562 | Y48: µm | AA48: H01 | AB48: fiber | AC48: H0100004 | AD48: transparent | AE48: COLOURLESS | AF48: 1-5mm(LMP) | AH48: Positive | AI48: acceptable | AN48: =Project!$B$2 -> Marine_Plastics_EMFF
A49: 2021-03_MOW1_inlet1 | B49: =VLOOKUP(A49,Samples!$D$2:$E$12,2,FALSE) -> BE2021/03_MOW1_GPUMP_Inlet1 | C49: 100µm | E49: ind | F49: litter8 | G49: =_xlfn.CONCAT(A49,"_",C49,"_",F49,) -> 2021-03_MOW1_inlet1_100µm_litter8 | J49: =CONCATENATE(B49,"_",F49) -> BE2021/03_MOW1_GPUMP_Inlet1_litter8 | K49: W | L49: =VLOOKUP(A49,Samples!$D$2:$G$12,4,FALSE) -> 200 | M49: l | N49: 1 | O49: 100 | P49: 5000 | Q49: SW | S49: 15 | T49: =S49*1000/L49 -> 75 | U49: items | X49: 1924 | Y49: µm | AA49: H01 | AB49: fiber | AC49: H0100004 | AD49: transparent | AE49: COLOURLESS | AF49: 1-5mm(LMP) | AH49: Positive | AI49: acceptable | AN49: =Project!$B$2 -> Marine_Plastics_EMFF
A50: 2021-03_MOW1_inlet1 | B50: =VLOOKUP(A50,Samples!$D$2:$E$12,2,FALSE) -> BE2021/03_MOW1_GPUMP_Inlet1 | C50: 100µm | E50: ind | F50: litter9 | G50: =_xlfn.CONCAT(A50,"_",C50,"_",F50,) -> 2021-03_MOW1_inlet1_100µm_litter9 | J50: =CONCATENATE(B50,"_",F50) -> BE2021/03_MOW1_GPUMP_Inlet1_litter9 | K50: W | L50: =VLOOKUP(A50,Samples!$D$2:$G$12,4,FALSE) -> 200 | M50: l | N50: 1 | O50: 100 | P50: 5000 | Q50: SW | S50: 15 | T50: =S50*1000/L50 -> 75 | U50: items | X50: 1875 | Y50: µm | AA50: H01 | AB50: fiber | AC50: H0100004 | AD50: transparent | AE50: COLOURLESS | AF50: 1-5mm(LMP) | AH50: Positive | AI50: acceptable | AN50: =Project!$B$2 -> Marine_Plastics_EMFF
A51: 2021-03_MOW1_inlet1 | B51: =VLOOKUP(A51,Samples!$D$2:$E$12,2,FALSE) -> BE2021/03_MOW1_GPUMP_Inlet1 | C51: 100µm | E51: ind | F51: litter10 | G51: =_xlfn.CONCAT(A51,"_",C51,"_",F51,) -> 2021-03_MOW1_inlet1_100µm_litter10 | J51: =CONCATENATE(B51,"_",F51) -> BE2021/03_MOW1_GPUMP_Inlet1_litter10 | K51: W | L51: =VLOOKUP(A51,Samples!$D$2:$G$12,4,FALSE) -> 200 | M51: l | N51: 1 | O51: 100 | P51: 5000 | Q51: SW | S51: 15 | T51: =S51*1000/L51 -> 75 | U51: items | X51: 1023 | Y51: µm | AA51: H01 | AB51: fiber | AC51: H0100004 | AD51: transparent | AE51: COLOURLESS | AF51: 1-5mm(LMP) | AH51: Positive | AI51: acceptable | AN51: =Project!$B$2 -> Marine_Plastics_EMFF
A52: 2021-03_MOW1_inlet1 | B52: =VLOOKUP(A52,Samples!$D$2:$E$12,2,FALSE) -> BE2021/03_MOW1_GPUMP_Inlet1 | C52: 100µm | E52: ind | F52: litter11 | G52: =_xlfn.CONCAT(A52,"_",C52,"_",F52,) -> 2021-03_MOW1_inlet1_100µm_litter11 | J52: =CONCATENATE(B52,"_",F52) -> BE2021/03_MOW1_GPUMP_Inlet1_litter11 | K52: W | L52: =VLOOKUP(A52,Samples!$D$2:$G$12,4,FALSE) -> 200 | M52: l | N52: 1 | O52: 100 | P52: 5000 | Q52: SW | S52: 15 | T52: =S52*1000/L52 -> 75 | U52: items | X52: 362 | Y52: µm | AA52: H01 | AB52: fiber | AC52: H0100004 | AD52: other (grey) | AE52: GREY | AF52: 350-1000µm | AH52: Positive | AI52: acceptable | AN52: =Project!$B$2 -> Marine_Plastics_EMFF
A53: 2021-03_MOW1_inlet1 | B53: =VLOOKUP(A53,Samples!$D$2:$E$12,2,FALSE) -> BE2021/03_MOW1_GPUMP_Inlet1 | C53: 100µm | E53: ind | F53: litter13 | G53: =_xlfn.CONCAT(A53,"_",C53,"_",F53,) -> 2021-03_MOW1_inlet1_100µm_litter13 | J53: =CONCATENATE(B53,"_",F53) -> BE2021/03_MOW1_GPUMP_Inlet1_litter13 | K53: W | L53: =VLOOKUP(A53,Samples!$D$2:$G$12,4,FALSE) -> 200 | M53: l | N53: 1 | O53: 100 | P53: 5000 | Q53: SW | S53: 15 | T53: =S53*1000/L53 -> 75 | U53: items | X53: 4367 | Y53: µm | AA53: H01 | AB53: fiber | AC53: H0100004 | AD53: transparent | AE53: COLOURLESS | AF53: 1-5mm(LMP) | AH53: Positive | AI53: acceptable | AN53: =Project!$B$2 -> Marine_Plastics_EMFF
A54: 2021-03_MOW1_inlet1 | B54: =VLOOKUP(A54,Samples!$D$2:$E$12,2,FALSE) -> BE2021/03_MOW1_GPUMP_Inlet1 | C54: 100µm | E54: ind | F54: litter14 | G54: =_xlfn.CONCAT(A54,"_",C54,"_",F54,) -> 2021-03_MOW1_inlet1_100µm_litter14 | J54: =CONCATENATE(B54,"_",F54) -> BE2021/03_MOW1_GPUMP_Inlet1_litter14 | K54: W | L54: =VLOOKUP(A54,Samples!$D$2:$G$12,4,FALSE) -> 200 | M54: l | N54: 1 | O54: 100 | P54: 5000 | Q54: SW | S54: 15 | T54: =S54*1000/L54 -> 75 | U54: items | X54: 782 | Y54: µm | AA54: H01 | AB54: fiber | AC54: H0100004 | AD54: transparent | AE54: COLOURLESS | AF54: 350-1000µm | AH54: Positive | AI54: acceptable | AN54: =Project!$B$2 -> Marine_Plastics_EMFF
... A56: 2021-03_MOW1_inlet1 | B56: =VLOOKUP(A56,Samples!$D$2:$E$12,2,FALSE) -> BE2021/03_MOW1_GPUMP_Inlet1 | C56: 100µm | E56: ind | F56: litter16 | G56: =_xlfn.CONCAT(A56,"_",C56,"_",F56,) -> 2021-03_MOW1_inlet1_100µm_litter16 | J56: =CONCATENATE(B56,"_",F56) -> BE2021/03_MOW1_GPUMP_Inlet1_litter16 | K56: W | L56: =VLOOKUP(A56,Samples!$D$2:$G$12,4,FALSE) -> 200 | M56: l | N56: 1 | O56: 100 | P56: 5000 | Q56: SW | S56: 15 | T56: =S56*1000/L56 -> 75 | U56: items | X56: 333 | Y56: µm | AA56: H01 | AB56: fiber | AC56: H0100004 | AD56: black | AE56: BLACK | AF56: 100-350µm | AH56: Positive | AI56: acceptable | AN56: =Project!$B$2 -> Marine_Plastics_EMFF
A57: 2021-03_MOW1_inlet3 | B57: =VLOOKUP(A57,Samples!$D$2:$E$12,2,FALSE) -> BE2021/03_MOW1_GPUMP_Inlet3 | C57: 100µm | E57: ind | F57: litter1 | G57: =_xlfn.CONCAT(A57,"_",C57,"_",F57,) -> 2021-03_MOW1_inlet3_100µm_litter1 | J57: =CONCATENATE(B57,"_",F57) -> BE2021/03_MOW1_GPUMP_Inlet3_litter1 | K57: W | L57: =VLOOKUP(A57,Samples!$D$2:$G$12,4,FALSE) -> 100 | M57: l | N57: 1 | O57: 100 | P57: 5000 | Q57: SW | R57: 41 | S57: 38 | T57: =S57*1000/L57 -> 380 | U57: items | X57: 3468 | Y57: µm | AA57: H01 | AB57: fiber | AC57: H0100004 | AD57: transparent | AE57: COLOURLESS | AF57: 1-5mm(LMP) | AH57: Positive | AI57: acceptable | AN57: =Project!$B$2 -> Marine_Plastics_EMFF
A58: 2021-03_MOW1_inlet3 | B58: =VLOOKUP(A58,Samples!$D$2:$E$12,2,FALSE) -> BE2021/03_MOW1_GPUMP_Inlet3 | C58: 100µm | E58: ind | F58: litter2 | G58: =_xlfn.CONCAT(A58,"_",C58,"_",F58,) -> 2021-03_MOW1_inlet3_100µm_litter2 | J58: =CONCATENATE(B58,"_",F58) -> BE2021/03_MOW1_GPUMP_Inlet3_litter2 | K58: W | L58: =VLOOKUP(A58,Samples!$D$2:$G$12,4,FALSE) -> 100 | M58: l | N58: 1 | O58: 100 | P58: 5000 | Q58: SW | S58: 38 | T58: =S58*1000/L58 -> 380 | U58: items | X58: 889 | Y58: µm | AA58: H01 | AB58: fiber | AC58: H0100004 | AD58: transparent | AE58: COLOURLESS | AF58: 350-1000µm | AH58: Positive | AI58: acceptable | AN58: =Project!$B$2 -> Marine_Plastics_EMFF
...

Sheet Analytical method
A1: Parameter name | B1: Matrix | C1: Unit | D1: Unit converted | E1: Analytical laboratory code | F1: LSIZLIM (µm) | G1: USIZLIM (µm) | H1: Sample preservation | I1: Sample separation | J1: ICES::METPS | K1: Sample pretreatment | L1: ICES::METPT | M1: Description of sample handling | N1: Extraction method | O1: ICES::METCX | P1: Analysis method description | Q1: ICES::METOA
A2: TotalCount (WW) | B2: SW | C2: items/1000l | E2: RBINS-OST | F2: 100 | G2: 5000 | H2: F2 | K2: Filtered with fiber filter - glass fiber with particle retention diameter 1.2 µm | L2: FF-GF-1.2 | M2: On vessel: Continuous seawater inlet pump sampling: with pipes equiped with flowmeter, open the inlet and let it flow trough a cascade of sieves (100µm; 63µm) until 100l (or 200l) are filtered, recuperation of the samples in the sieves (washed with MilliQ) in glass bottles stored at -20°C until processed. At the lab: defrost, addition of digestive reagents (KOH) placed for ~72h at 40°C , filtration on glass fiber filter, visual observation with stereomicroscope, hot needle test, µFTIR identification for subsample of suspect particles. | N2: Potassium Hydroxide | O2: HPX | P2: Visual observation/identification | Q2: VISO
A3: MaxLenght | B3: SW | C3: µm | E3: RBINS-OST | F3: 100 | G3: 5000 | H3: F2 | K3: Filtered with fiber filter - glass fiber with particle retention diameter 1.2 µm | L3: FF-GF-1.2 | M3: On vessel: Continuous seawater inlet pump sampling: with pipes equiped with flowmeter, open the inlet and let it flow trough a cascade of sieves (100µm; 63µm) until 100l (or 200l) are filtered, recuperation of the samples in the sieves (washed with MilliQ) in glass bottles stored at -20°C until processed. At the lab: defrost, addition of digestive reagents (KOH) placed for ~72h at 40°C , filtration on glass fiber filter, visual observation with stereomicroscope, hot needle test, µFTIR identification for subsample of suspect particles. | N3: Potassium Hydroxide | O3: HPX | P3: Visual observation/identification | Q3: VISO
A4: LitterType | B4: SW | E4: RBINS-OST | F4: 100 | G4: 5000 | H4: F2 | K4: Filtered with fiber filter - glass fiber with particle retention diameter 1.2 µm | L4: FF-GF-1.2 | M4: On vessel: Continuous seawater inlet pump sampling: with pipes equiped with flowmeter, open the inlet and let it flow trough a cascade of sieves (100µm; 63µm) until 100l (or 200l) are filtered, recuperation of the samples in the sieves (washed with MilliQ) in glass bottles stored at -20°C until processed. At the lab: defrost, addition of digestive reagents (KOH) placed for ~72h at 40°C , filtration on glass fiber filter, visual observation with stereomicroscope, hot needle test, µFTIR identification for subsample of suspect particles. | N4: Potassium Hydroxide | O4: HPX | P4: Visual observation/identification | Q4: VISO
A5: LitterColour | B5: SW | E5: RBINS-OST | F5: 100 | G5: 5000 | H5: F2 | K5: Filtered with fiber filter - glass fiber with particle retention diameter 1.2 µm | L5: FF-GF-1.2 | M5: On vessel: Continuous seawater inlet pump sampling: with pipes equiped with flowmeter, open the inlet and let it flow trough a cascade of sieves (100µm; 63µm) until 100l (or 200l) are filtered, recuperation of the samples in the sieves (washed with MilliQ) in glass bottles stored at -20°C until processed. At the lab: defrost, addition of digestive reagents (KOH) placed for ~72h at 40°C , filtration on glass fiber filter, visual observation with stereomicroscope, hot needle test, µFTIR identification for subsample of suspect particles. | N5: Potassium Hydroxide | O5: HPX | P5: Visual observation/identification | Q5: VISO
A6: LitterSizeClass | B6: SW | E6: RBINS-OST | F6: 100 | G6: 5000 | H6: F2 | K6: Filtered with fiber filter - glass fiber with particle retention diameter 1.2 µm | L6: FF-GF-1.2 | M6: On vessel: Continuous seawater inlet pump sampling: with pipes equiped with flowmeter, open the inlet and let it flow trough a cascade of sieves (100µm; 63µm) until 100l (or 200l) are filtered, recuperation of the samples in the sieves (washed with MilliQ) in glass bottles stored at -20°C until processed. At the lab: defrost, addition of digestive reagents (KOH) placed for ~72h at 40°C , filtration on glass fiber filter, visual observation with stereomicroscope, hot needle test, µFTIR identification for subsample of suspect particles. | N6: Potassium Hydroxide | O6: HPX | P6: Visual observation/identification | Q6: VISO
A7: HotNeedleTest | B7: SW | E7: RBINS-OST | F7: 100 | G7: 5000 | H7: F2 | K7: Filtered with fiber filter - glass fiber with particle retention diameter 1.2 µm | L7: FF-GF-1.2 | M7: On vessel: Continuous seawater inlet pump sampling: with pipes equiped with flowmeter, open the inlet and let it flow trough a cascade of sieves (100µm; 63µm) until 100l (or 200l) are filtered, recuperation of the samples in the sieves (washed with MilliQ) in glass bottles stored at -20°C until processed. At the lab: defrost, addition of digestive reagents (KOH) placed for ~72h at 40°C , filtration on glass fiber filter, visual observation with stereomicroscope, hot needle test, µFTIR identification for subsample of suspect particles. | N7: Potassium Hydroxide | O7: HPX | P7: Hot needle test | Q7: HNT
A8: µFTIR_val | B8: SW | E8: RBINS-OST | F8: 100 | G8: 5000 | H8: F2 | K8: FF-GF-1.2 + FM-PTFE-0.45 | L8: FF-GF-1.2 + FM-PTFE-0.45 | M8: On vessel: Continuous seawater inlet pump sampling: with pipes equiped with flowmeter, open the inlet and let it flow trough a cascade of sieves (100µm; 63µm) until 100l (or 200l) are filtered, recuperation of the samples in the sieves (washed with MilliQ) in glass bottles stored at -20°C until processed. At the lab: defrost, addition of digestive reagents (KOH) placed for ~72h at 40°C , filtration on glass fiber filter, visual observation with stereomicroscope, hot needle test, subset/some particles transfered to PTFE for µFTIR identification for subsample of suspect particles. | N8: Potassium Hydroxide | O8: HPX | P8: (Micro) Fourier transform infrared spectroscopy (µFTIR) | Q8: FTIR

Sheet Detection limits
A1: Parameter code | B1: Sample ID | C1: Limit of Detection (LOD) | D1: Start date (dd/mm/yyyy) | E1: End date (dd/mm/yyyy) | F1: UNIT | G1: Basis of determination
A2: ='[1]Analytical method'!$B$2 -> TotalCount (WW) | B2: =Samples!E2 -> BE2021/03_W05_GPUMP_Inlet1 | C2: 2.8 | F2: items/100l | G2: WW
A3: ='[1]Analytical method'!$B$2 -> TotalCount (WW) | B3: =Samples!E3 -> BE2021/03_W05_GPUMP_Inlet2 | C3: 2.8 | F3: items/100l | G3: WW
A4: ='[1]Analytical method'!$B$2 -> TotalCount (WW) | B4: =Samples!E4 -> BE2021/03_W05_GPUMP_Inlet3 | C4: 2.8 | F4: items/100l | G4: WW
A5: ='[1]Analytical method'!$B$2 -> TotalCount (WW) | B5: =Samples!E5 -> BE2021/03_W08_GPUMP_Inlet1 | C5: 1.8666667 | F5: items/100l | G5: WW
A6: ='[1]Analytical method'!$B$2 -> TotalCount (WW) | B6: =Samples!E6 -> BE2021/03_W08_GPUMP_Inlet2 | C6: 1.8666667 | F6: items/100l | G6: WW
A7: ='[1]Analytical method'!$B$2 -> TotalCount (WW) | B7: =Samples!E7 -> BE2021/03_W08_GPUMP_Inlet3 | C7: 1.8666667 | F7: items/100l | G7: WW
A8: ='[1]Analytical method'!$B$2 -> TotalCount (WW) | B8: =Samples!E8 -> BE2021/03_MOW1_GPUMP_Inlet1 | C8: 2.8 | F8: items/100l | G8: WW
A9: ='[1]Analytical method'!$B$2 -> TotalCount (WW) | B9: =Samples!E9 -> BE2021/03_MOW1_GPUMP_Inlet2 | C9: 2.8 | F9: items/100l | G9: WW
A10: ='[1]Analytical method'!$B$2 -> TotalCount (WW) | B10: =Samples!E10 -> BE2021/03_MOW1_GPUMP_Inlet3 | C10: 5.6 | F10: items/100l | G10: WW
A11: ='[1]Analytical method'!$B$2 -> TotalCount (WW) | B11: =Samples!E11 -> BE2021/03_MOW1_NI5_niskin | C11: 7.4666667 | F11: items/100l | G11: WW
A12: ='[1]Analytical method'!$B$2 -> TotalCount (WW) | B12: =Samples!E12 -> BE2021/03_MOW1_GPUMP_Inlet4 | C12: 2.8 | F12: items/100l | G12: WW

Sheet Project
A1: Title | B1: Acronym | C1: Start Date | D1: End Date | E1: Ongoing | F1: Geographic coverage | G1: Keywords | H1: Abstract | I1: Service | J1: Other partners | K1: Public
A2: Marine plastics (EMFF) - Micro and macro plastic litter at Belgian fisheries areas: sources, distribution and consequences, 18/UP6/02/Div | B2: Marine_Plastics_EMFF | C2: 2019 | D2: 2021 | E2: N | F2: Belgian Part of the North Sea (BPNS) | G2: MSFD

Sheet Controls Results
A1: Sample ID | B1: Subsample ID | C1: Replicate number | D1: SampleType | E1: Sediment-upper-depth (cm) | F1: Sediment-lower-depth (cm) | G1: Parameter code | H1: Value | I1: Unit | J1: Type | K1: Colour | L1: ICES Type code | M1: ICES colour code | N1: Size class | O1: Hot Needle Test | P1: Quality flag | Q1: Detlim flag | R1: Analysis date (dd/mon/yyyy) | S1: Project Acronym
A2: 2021-03 Control - (09_10-06-2021) | D2: Control - | G2: LitterDiameter-SPM | H2: 1793 | I2: µm | J2: fiber | K2: transparent | N2: 1-5mm(LMP) | O2: Positive
A3: 2021-03 Control - (09_10-06-2021) | D3: Control - | G3: LitterDiameter-SPM | H3: 81 | I3: µm | J3: fragment | K3: transparent | N3: 63-100µm | O3: Positive
A4: 2021-03 Control - (09_10-06-2021) | D4: Control - | G4: LitterDiameter-SPM | H4: 148 | I4: µm | J4: fragment | K4: other (pink) | N4: 100-350µm | O4: Positive
A5: 2021-03 Control - (09_10-06-2021) | D5: Control - | G5: LitterDiameter-SPM | H5: 438 | I5: µm | J5: fragment | K5: transparent | O5: Negative
A6: 2021-03 Control - (09_10-06-2021) | D6: Control - | G6: LitterDiameter-SPM | H6: 3149 | I6: µm | J6: fiber | K6: other (grey) | N6: 1-5mm(LMP) | O6: Positive
A7: 2021-03 Control - (15_17-06-2021) | D7: Control - | G7: LitterDiameter-SPM | H7: 394 | I7: µm | J7: fiber | K7: transparent | N7: 350-1000µm | O7: Positive
A8: 2021-03 Control - (15_17-06-2021) | D8: Control - | G8: LitterDiameter-SPM | H8: 4627 | I8: µm | J8: fiber | K8: transparent | N8: 1-5mm(LMP) | O8: Positive
A9: 2021-03 Control - (15_17-06-2021) | D9: Control - | G9: LitterDiameter-SPM | H9: 120 | I9: µm | J9: fragment | K9: blue | N9: 100-350µm | O9: Positive
A10: 2021-03 Control - (15_17-06-2021) | D10: Control - | G10: LitterDiameter-SPM | H10: 1194 | I10: µm | J10: fiber | K10: transparent | N10: 1-5mm(LMP) | O10: Positive
A11: 2021-03 W05 Control + | D11: Control + | G11: LitterNumber | H11: 1 | I11: items | J11: microbead (<50 µm) | K11: red
A12: 2021-03 W05 Control + | D12: Control + | G12: LitterNumber | H12: 1 | I12: items | J12: fragment | K12: brown
A13: 2021-03 W05 Control + | D13: Control + | G13: LitterNumber | H13: 4 | I13: items | J13: fragment | K13: blue
A14: 2021-03 W05 Control + | D14: Control + | G14: LitterNumber | H14: 15 | I14: items | J14: microbead (<50 µm) | K14: red
