Workbook
Name Campaign_code: #REF!
Name Position_flag: #REF!
Name Preservation_name: #N/A
Name Reference_sampling_depth: #REF!
Name Sampling_depth_flag: #REF!
Name Sampling_flag: #REF!
Name Sampling_gear_sediment: #REF!
Name Time_flag: #REF!
Name Unit: #N/A

Sheet Campaigns
A1: Campaign name | B1: Platform | C1: Type of cruise | D1: Start date (dd/mon/yyyy) | E1: End date (dd/mon/yyyy) | F1: Area Description | G1: Port Of Departure | H1: Port of Arrival
A2: BE2021/03 | B2: R/V Belgica | C2: Monitoring | D2: 44249 | E2: 44253 | G2: Zeebrugge | H2: Zeebrugge

Sheet Stations
A1: Station code | B1: Station Name | C1: start latitude (dd.dd) | D1: start longitude (dd.dd) | E1: end latitude (dd.dd) | F1: end longitude (dd.dd) | G1: Position reference
A2: Port | B2: Port zeebrugge | C2: 51.356617 | D2: 3.2038167
A3: ZVL | B3: Dredge disposal site - Zeebrugge Oost | C3: 51.377833 | D3: 3.22245
A4: MOW1 | B4: MOW1 | C4: 51.35575 | D4: 3.1263667
A5: WO5 | B5: WO5 | C5: 51.410167 | D5: 2.8245167
A6: WO8 | B6: WO8 | C6: 51.456133 | D6: 2.3507

Sheet Samples
A1: Sampling Event number | B1: Campaign Code | C1: Campaign Code | D1: Sample ID corrected | E1: Sample ID | F1: Sample label | G1: Volume (l) | H1: Station Code | I1: Reference sampling depth | J1: sample depth upper | K1: sample depth lower | L1: sample depth flag | M1: Sampling device | N1: Start date/time (dd/mon/yyyy hh:mm) | O1: End date/time (dd/mon/yyyy hh:mm) | P1: Time flag | Q1: Number of aggregated samples | R1: Exact sampling depth (m) | S1: Remarks | T1: Sampling laboratory
A2: 2 | B2: =Campaigns!$A$2 -> BE2021/03 | C2: BE2021-03 | D2: 2021-03_W05_Inlet1 | E2: =CONCATENATE(B2,"_",H2,"_",M2,"_",F2) -> BE2021/03_W05_GPUMP_Inlet1 | F2: Inlet1 | G2: 200 | H2: W05 | I2: subsurface | M2: GPUMP | N2: 44250.74 | O2: 44250.764 | P2: acceptable | Q2: 1 | R2: 3 | S2: 1 subsample > 100 µm | T2: OD Nature
A3: 3 | B3: =Campaigns!$A$2 -> BE2021/03 | C3: BE2021-03 | D3: 2021-03_W05_Inlet2 | E3: =CONCATENATE(B3,"_",H3,"_",M3,"_",F3) -> BE2021/03_W05_GPUMP_Inlet2 | F3: Inlet2 | G3: 200 | H3: W05 | I3: subsurface | M3: GPUMP | N3: 44250.819 | O3: 44250.842 | P3: acceptable | Q3: 1 | R3: 3 | S3: 2 subsamples: >100µm en 63 µm-100µm | T3: OD Nature
A4: 7 | B4: =Campaigns!$A$2 -> BE2021/03 | C4: BE2021-03 | D4: 2021-03_W05_Inlet3 | E4: =CONCATENATE(B4,"_",H4,"_",M4,"_",F4) -> BE2021/03_W05_GPUMP_Inlet3 | F4: Inlet3 | G4: 200 | H4: W05 | I4: subsurface | M4: GPUMP | N4: 44250.947 | O4: 44250.969 | P4: acceptable | Q4: 1 | R4: 3 | S4: 2 subsamples: >100µm en 63 µm-100µm (aircntrl, lid also exposed) | T4: OD Nature
A5: 8 | B5: =Campaigns!$A$2 -> BE2021/03 | C5: BE2021-03 | D5: 2021-03_W08_Inlet1 | E5: =CONCATENATE(B5,"_",H5,"_",M5,"_",F5) -> BE2021/03_W08_GPUMP_Inlet1 | F5: Inlet1 | G5: 300 | H5: W08 | I5: subsurface | M5: GPUMP | N5: 44251.74 | O5: 44251.773 | P5: acceptable | Q5: 1 | R5: 3 | S5: > 63µm - replaced by next sample | T5: OD Nature
A6: 9 | B6: =Campaigns!$A$2 -> BE2021/03 | C6: BE2021-03 | D6: 2021-03_W08_Inlet2 | E6: =CONCATENATE(B6,"_",H6,"_",M6,"_",F6) -> BE2021/03_W08_GPUMP_Inlet2 | F6: Inlet2 | G6: 300 | H6: W08 | I6: subsurface | M6: GPUMP | N6: 44251.79 | O6: 44251.825 | P6: acceptable | Q6: 1 | R6: 3 | S6: 2 subsamples: >100µm en 63 µm-100µm | T6: OD Nature
A7: 10 | B7: =Campaigns!$A$2 -> BE2021/03 | C7: BE2021-03 | D7: 2021-03_W08_Inlet3 | E7: =CONCATENATE(B7,"_",H7,"_",M7,"_",F7) -> BE2021/03_W08_GPUMP_Inlet3 | F7: Inlet3 | G7: 300 | H7: W08 | I7: subsurface | M7: GPUMP | N7: 44251.858 | O7: 44251.89 | P7: acceptable | Q7: 1 | R7: 3 | S7: 1 subsample > 100 µm | T7: OD Nature
A8: 14 | B8: =Campaigns!$A$2 -> BE2021/03 | C8: BE2021-03 | D8: 2021-03_MOW1_Inlet1 | E8: =CONCATENATE(B8,"_",H8,"_",M8,"_",F8) -> BE2021/03_MOW1_GPUMP_Inlet1 | F8: Inlet1 | G8: 200 | H8: MOW1 | I8: subsurface | M8: GPUMP | N8: 44252.453 | O8: 44252.472 | P8: acceptable | R8: 3 | T8: OD Nature
A9: 15 | B9: =Campaigns!$A$2 -> BE2021/03 | C9: BE2021-03 | D9: 2021-03_MOW1_Inlet2 | E9: =CONCATENATE(B9,"_",H9,"_",M9,"_",F9) -> BE2021/03_MOW1_GPUMP_Inlet2 | F9: Inlet2 | G9: 200 | H9: MOW1 | I9: subsurface | M9: GPUMP | N9: 44252.572 | O9: 44252.591 | P9: acceptable | R9: 3 | T9: OD Nature
A10: 19 | B10: =Campaigns!$A$2 -> BE2021/03 | C10: BE2021-03 | D10: 2021-03_MOW1_Inlet3 | E10: =CONCATENATE(B10,"_",H10,"_",M10,"_",F10) -> BE2021/03_MOW1_GPUMP_Inlet3 | F10: Inlet3 | G10: 100 | H10: MOW1 | I10: subsurface | M10: GPUMP | N10: 44252.702 | O10: 44252.713 | P10: acceptable | R10: 3 | S10: 1 subsample > 100 µm | T10: OD Nature
A11: 20 | B11: =Campaigns!$A$2 -> BE2021/03 | C11: BE2021-03 | D11: 2021-03_MOW1_Niskin | E11: =CONCATENATE(B11,"_",H11,"_",M11,"_",F11) -> BE2021/03_MOW1_NI5_niskin | F11: niskin | G11: 75 | H11: MOW1 | I11: subsurface | M11: NI5 | N11: 44252.722 | O11: 44252.731 | P11: acceptable | R11: 0.5 | S11: different Niskin bottles at two sampling times | T11: OD Nature
A12: 21 | B12: =Campaigns!$A$2 -> BE2021/03 | C12: BE2021-03 | D12: 2021-03_MOW1_Inlet4 | E12: =CONCATENATE(B12,"_",H12,"_",M12,"_",F12) -> BE2021/03_MOW1_GPUMP_Inlet4 | F12: Inlet4 | G12: 200 | H12: MOW1 | I12: subsurface | M12: GPUMP | N12: 44252.881 | O12: 44252.901 | P12: acceptable | R12: 3 | S12: 2 subsamples: >100µm en 63 µm-100µm (or 1?) | T12: OD Nature

Sheet Meta Info
A1: Sampling Event number | B1: Campaign code | C1: Station code | D1: Start time | E1: Sea state (Beaufort) | F1: Turbidity (NTU) | G1: Waterdepth (m) | H1: Water temperature (°C) | I1: Air temperature (°C) | J1: Tide state | K1: Current - speed of bottom current | L1: tidal state | N1: hss high surface speed; lss low suface speed, rt rising tide, dt descending tide,lbs low bottom speed | O1: start time local | P1: end time local | Q1: flowmeter start | R1: flowmeter end | S1: Volume(l)
A2: 2 | B2: =Campaigns!$A$2 -> BE2021/03 | C2: W05 | N2: rt (HW 23:00 CET) hss | O2: 44250.781 | P2: 44250.806 | Q2: 1790 | R2: 1990 | S2: =R2-Q2 -> 200
A3: 3 | B3: =Campaigns!$A$2 -> BE2021/03 | C3: W05 | N3: rt (HW 23:00 CET) lss | O3: 44250.86 | P3: 44250.884 | Q3: 2040 | R3: 2240 | S3: =R3-Q3 -> 200
A4: 7 | B4: =Campaigns!$A$2 -> BE2021/03 | C4: W05 | N4: dt (LW 5:30 CET) hss | O4: 44250.988 | P4: 44251.011 | Q4: 2295 | R4: 2495 | S4: =R4-Q4 -> 200
A5: 8 | B5: =Campaigns!$A$2 -> BE2021/03 | C5: W08 | N5: rt (hss) | O5: 44251.782 | P5: 44251.815 | Q5: 2560 | R5: 2860 | S5: =R5-Q5 -> 300
A6: 9 | B6: =Campaigns!$A$2 -> BE2021/03 | C6: W08 | N6: rt | O6: 44251.832 | P6: 44251.867 | Q6: 2882 | R6: 3182 | S6: =R6-Q6 -> 300
A7: 10 | B7: =Campaigns!$A$2 -> BE2021/03 | C7: W08 | N7: rt lss (HW 23:40 CET) (slack 22:30 CET) | O7: 44251.9 | P7: 44251.932 | Q7: 3212 | R7: 3512 | S7: =R7-Q7 -> 300
A8: 14 | B8: =Campaigns!$A$2 -> BE2021/03 | C8: MOW1 | N8: rt (HW 12:50 CET) hss | O8: 44252.494 | P8: 44252.514 | Q8: 3650 | R8: 3850 | S8: =R8-Q8 -> 200
A9: 15 | B9: =Campaigns!$A$2 -> BE2021/03 | C9: MOW1 | N9: dt lss | O9: 44252.614 | P9: 44252.633 | Q9: 3900 | R9: 4100 | S9: =R9-Q9 -> 200
A10: 19 | B10: =Campaigns!$A$2 -> BE2021/03 | C10: MOW1 | N10: dt hss | O10: 44252.744 | P10: 44252.754 | Q10: 4325 | R10: 4425 | S10: =R10-Q10 -> 100
A11: 20 | B11: =Campaigns!$A$2 -> BE2021/03 | C11: MOW1 | N11: dt hss | O11: 44252.764 | P11: 44252.772
A12: 21 | B12: =Campaigns!$A$2 -> BE2021/03 | C12: MOW1 | N12: rt lss (slack 22:40 CET) | O12: 44252.923 | P12: 44252.943 | Q12: 5280 | R12: 5480 | S12: =R12-Q12 -> 200

Sheet litter_values
A1: Sample_ID original | B1: Sample_ID | C1: Subsample ID | D1: to excude (out of size range, no plastic) | E1: microlitter type | F1: Litter name | G1: Litter_ref_code | H1: Subsample depth upper | I1: Subsample depth lower | J1: Litter_ref_code corr | K1: BASIS | L1: subsample_volume | M1: subsample_volume_unit | N1: Replicate number | O1: Lower sieved fraction (µm) | P1: Upper sieved fraction (µm) | Q1: SUBMATRIX | R1: LitterNumber-SPM | S1: TotalCount (per collected volume) | T1: TotalCount (per 1000l) | U1: LitterNumber-SPM_unit | V1: LOD (nb items) | W1: DETLIM flag | X1: MaxLenght | Y1: LitterDiameter_Unit | Z1: Detlim flag | AA1: LTREF | AB1: LitterType | AC1: H01 | AD1: LitterColour | AE1: H04 | AF1: LitterSizeClass | AG1: Quality flag | AH1: Hot Needle Test | AI1: VFLAG_Hot Needle_Test | AJ1: µFTIR_val | AK1: VFLAG_µFTIR_val | AL1: Measurement uncertainty | AM1: Analysis date (dd/mon/yyyy) | AN1: Project Acronym
A2: 2021-03_MOW1_inlet4 | B2: =VLOOKUP(A2,Samples!$D$2:$E$12,2,FALSE) -> BE2021/03_MOW1_GPUMP_Inlet4 | C2: 100µm | E2: ind | F2: litter1 | G2: =_xlfn.CONCAT(A2,"_",C2,"_",F2,) -> 2021-03_MOW1_inlet4_100µm_litter1 | J2: =CONCATENATE(B2,"_",F2) -> BE2021/03_MOW1_GPUMP_Inlet4_litter1 | K2: W | L2: =VLOOKUP(A2,Samples!$D$2:$G$12,4,FALSE) -> 200 | M2: l | N2: 1 | O2: 100 | P2: 5000 | Q2: SW | R2: 9_10 | S2: 9 | T2: =S2*1000/L2 -> 45 | U2: items | X2: 932 | Y2: µm | AA2: H01 | AB2: fiber | AC2: H0100004 | AD2: transparent | AE2: COLOURLESS | AF2: 350-1000µm | AH2: Positive | AI2: acceptable | AN2: =Project!$B$2 -> Marine_Plastics_EMFF
A3: 2021-03_MOW1_inlet4 | B3: =VLOOKUP(A3,Samples!$D$2:$E$12,2,FALSE) -> BE2021/03_MOW1_GPUMP_Inlet4 | C3: 100µm | E3: ind | F3: litter2 | G3: =_xlfn.CONCAT(A3,"_",C3,"_",F3,) -> 2021-03_MOW1_inlet4_100µm_litter2 | J3: =CONCATENATE(B3,"_",F3) -> BE2021/03_MOW1_GPUMP_Inlet4_litter2 | K3: W | L3: =VLOOKUP(A3,Samples!$D$2:$G$12,4,FALSE) -> 200 | M3: l | N3: 1 | O3: 100 | P3: 5000 | Q3: SW | S3: 9 | T3: =S3*1000/L3 -> 45 | U3: items | X3: 416 | Y3: µm | AA3: H01 | AB3: fiber | AC3: H0100004 | AD3: other (grey) | AE3: GREY | AF3: 350-1000µm | AH3: Positive | AI3: acceptable | AN3: =Project!$B$2 -> Marine_Plastics_EMFF
A4: 2021-03_MOW1_inlet4 | B4: =VLOOKUP(A4,Samples!$D$2:$E$12,2,FALSE) -> BE2021/03_MOW1_GPUMP_Inlet4 | C4: 100µm | E4: ind | F4: litter3 | G4: =_xlfn.CONCAT(A4,"_",C4,"_",F4,) -> 2021-03_MOW1_inlet4_100µm_litter3 | J4: =CONCATENATE(B4,"_",F4) -> BE2021/03_MOW1_GPUMP_Inlet4_litter3 | K4: W | L4: =VLOOKUP(A4,Samples!$D$2:$G$12,4,FALSE) -> 200 | M4: l | N4: 1 | O4: 100 | P4: 5000 | Q4: SW | S4: 9 | T4: =S4*1000/L4 -> 45 | U4: items | X4: 629 | Y4: µm | AA4: H01 | AB4: fiber | AC4: H0100004 | AD4: transparent | AE4: COLOURLESS | AF4: 350-1000µm | AH4: Positive | AI4: acceptable | AN4: =Project!$B$2 -> Marine_Plastics_EMFF
A5: 2021-03_MOW1_inlet4 | B5: =VLOOKUP(A5,Samples!$D$2:$E$12,2,FALSE) -> BE2021/03_MOW1_GPUMP_Inlet4 | C5: 100µm | E5: ind | F5: litter4 | G5: =_xlfn.CONCAT(A5,"_",C5,"_",F5,) -> 2021-03_MOW1_inlet4_100µm_litter4 | J5: =CONCATENATE(B5,"_",F5) -> BE2021/03_MOW1_GPUMP_Inlet4_litter4 | K5: W | L5: =VLOOKUP(A5,Samples!$D$2:$G$12,4,FALSE) -> 200 | M5: l | N5: 1 | O5: 100 | P5: 5000 | Q5: SW | S5: 9 | T5: =S5*1000/L5 -> 45 | U5: items | X5: 1235 | Y5: µm | AA5: H01 | AB5: fiber | AC5: H0100004 | AD5: blue | AE5: BLUE | AF5: 1-5mm(LMP) | AH5: Positive | AI5: acceptable | AN5: =Project!$B$2 -> Marine_Plastics_EMFF
A6: 2021-03_MOW1_inlet4 | B6: =VLOOKUP(A6,Samples!$D$2:$E$12,2,FALSE) -> BE2021/03_MOW1_GPUMP_Inlet4 | C6: 100µm | E6: ind | F6: litter5 | G6: =_xlfn.CONCAT(A6,"_",C6,"_",F6,) -> 2021-03_MOW1_inlet4_100µm_litter5 | J6: =CONCATENATE(B6,"_",F6) -> BE2021/03_MOW1_GPUMP_Inlet4_litter5 | K6: W | L6: =VLOOKUP(A6,Samples!$D$2:$G$12,4,FALSE) -> 200 | M6: l | N6: 1 | O6: 100 | P6: 5000 | Q6: SW | S6: 9 | T6: =S6*1000/L6 -> 45 | U6: items | X6: 112 | Y6: µm | AA6: H01 | AB6: microbead | AC6: H0100009 | AD6: black | AE6: BLACK | AF6: 100-350µm | AH6: Positive | AI6: acceptable | AN6: =Project!$B$2 -> Marine_Plastics_EMFF
A7: 2021-03_MOW1_inlet4 | B7: =VLOOKUP(A7,Samples!$D$2:$E$12,2,FALSE) -> BE2021/03_MOW1_GPUMP_Inlet4 | C7: 100µm | E7: ind | F7: litter6 | G7: =_xlfn.CONCAT(A7,"_",C7,"_",F7,) -> 2021-03_MOW1_inlet4_100µm_litter6 | J7: =CONCATENATE(B7,"_",F7) -> BE2021/03_MOW1_GPUMP_Inlet4_litter6 | K7: W | L7: =VLOOKUP(A7,Samples!$D$2:$G$12,4,FALSE) -> 200 | M7: l | N7: 1 | O7: 100 | P7: 5000 | Q7: SW | S7: 9 | T7: =S7*1000/L7 -> 45 | U7: items | X7: 147 | Y7: µm | AA7: H01 | AB7: fragment | AC7: H0100002 | AD7: black | AE7: BLACK | AF7: 100-350µm | AH7: Positive | AI7: acceptable | AN7: =Project!$B$2 -> Marine_Plastics_EMFF
A8: 2021-03_MOW1_inlet4 | B8: =VLOOKUP(A8,Samples!$D$2:$E$12,2,FALSE) -> BE2021/03_MOW1_GPUMP_Inlet4 | C8: 100µm | E8: ind | F8: litter7 | G8: =_xlfn.CONCAT(A8,"_",C8,"_",F8,) -> 2021-03_MOW1_inlet4_100µm_litter7 | J8: =CONCATENATE(B8,"_",F8) -> BE2021/03_MOW1_GPUMP_Inlet4_litter7 | K8: W | L8: =VLOOKUP(A8,Samples!$D$2:$G$12,4,FALSE) -> 200 | M8: l | N8: 1 | O8: 100 | P8: 5000 | Q8: SW | S8: 9 | T8: =S8*1000/L8 -> 45 | U8: items | X8: 896 | Y8: µm | AA8: H01 | AB8: fiber | AC8: H0100004 | AD8: transparent | AE8: COLOURLESS | AF8: 350-1000µm | AH8: Positive | AI8: acceptable | AN8: =Project!$B$2 -> Marine_Plastics_EMFF
A9: 2021-03_MOW1_inlet4 | B9: =VLOOKUP(A9,Samples!$D$2:$E$12,2,FALSE) -> BE2021/03_MOW1_GPUMP_Inlet4 | C9: 100µm | E9: ind | F9: litter8 | G9: =_xlfn.CONCAT(A9,"_",C9,"_",F9,) -> 2021-03_MOW1_inlet4_100µm_litter8 | J9: =CONCATENATE(B9,"_",F9) -> BE2021/03_MOW1_GPUMP_Inlet4_litter8 | K9: W | L9: =VLOOKUP(A9,Samples!$D$2:$G$12,4,FALSE) -> 200 | M9: l | N9: 1 | O9: 100 | P9: 5000 | Q9: SW | S9: 9 | T9: =S9*1000/L9 -> 45 | U9: items | X9: 683 | Y9: µm | AA9: H01 | AB9: fiber | AC9: H0100004 | AD9: transparent | AE9: COLOURLESS | AF9: 350-1000µm | AH9: Positive | AI9: acceptable | AN9: =Project!$B$2 -> Marine_Plastics_EMFF
A10: 2021-03_MOW1_inlet4 | B10: =VLOOKUP(A10,Samples!$D$2:$E$12,2,FALSE) -> BE2021/03_MOW1_GPUMP_Inlet4 | C10: 100µm | E10: ind | F10: litter9 | G10: =_xlfn.CONCAT(A10,"_",C10,"_",F10,) -> 2021-03_MOW1_inlet4_100µm_litter9 | J10: =CONCATENATE(B10,"_",F10) -> BE2021/03_MOW1_GPUMP_Inlet4_litter9 | K10: W | L10: =VLOOKUP(A10,Samples!$D$2:$G$12,4,FALSE) -> 200 | M10: l | N10: 1 | O10: 100 | P10: 5000 | Q10: SW | S10: 9 | T10: =S10*1000/L10 -> 45 | U10: items | X10: 452 | Y10: µm | AA10: H01 | AB10: fiber | AC10: H0100004 | AD10: other (grey) | AE10: GREY | AF10: 350-1000µm | AH10: Positive | AI10: acceptable | AN10: =Project!$B$2 -> Marine_Plastics_EMFF
A11: 2021-03_MOW1_inlet2 | B11: =VLOOKUP(A11,Samples!$D$2:$E$12,2,FALSE) -> BE2021/03_MOW1_GPUMP_Inlet2 | C11: 100µm | E11: ind | F11: litter1 | G11: =_xlfn.CONCAT(A11,"_",C11,"_",F11,) -> 2021-03_MOW1_inlet2_100µm_litter1 | J11: =CONCATENATE(B11,"_",F11) -> BE2021/03_MOW1_GPUMP_Inlet2_litter1 | K11: W | L11: =VLOOKUP(A11,Samples!$D$2:$G$12,4,FALSE) -> 200 | M11: l | N11: 1 | O11: 100 | P11: 5000 | Q11: SW | R11: 33 | S11: 31 | T11: =S11*1000/L11 -> 155 | U11: items | X11: 298 | Y11: µm | AA11: H01 | AB11: fiber | AC11: H0100004 | AD11: transparent | AE11: COLOURLESS | AF11: 100-350µm | AH11: Positive | AI11: acceptable | AN11: =Project!$B$2 -> Marine_Plastics_EMFF
A12: 2021-03_MOW1_inlet2 | B12: =VLOOKUP(A12,Samples!$D$2:$E$12,2,FALSE) -> BE2021/03_MOW1_GPUMP_Inlet2 | C12: 100µm | E12: ind | F12: litter3 | G12: =_xlfn.CONCAT(A12,"_",C12,"_",F12,) -> 2021-03_MOW1_inlet2_100µm_litter3 | J12: =CONCATENATE(B12,"_",F12) -> BE2021/03_MOW1_GPUMP_Inlet2_litter3 | K12: W | L12: =VLOOKUP(A12,Samples!$D$2:$G$12,4,FALSE) -> 200 | M12: l | N12: 1 | O12: 100 | P12: 5000 | Q12: SW | S12: 31 | T12: =S12*1000/L12 -> 155 | U12: items | X12: 123 | Y12: µm | AA12: H01 | AB12: fragment | AC12: H0100002 | AD12: transparent | AE12: COLOURLESS | AF12: 100-350µm | AH12: Positive | AI12: acceptable | AN12: =Project!$B$2 -> Marine_Plastics_EMFF
A13: 2021-03_MOW1_inlet2 | B13: =VLOOKUP(A13,Samples!$D$2:$E$12,2,FALSE) -> BE2021/03_MOW1_GPUMP_Inlet2 | C13: 100µm | E13: ind | F13: litter4 | G13: =_xlfn.CONCAT(A13,"_",C13,"_",F13,) -> 2021-03_MOW1_inlet2_100µm_litter4 | J13: =CONCATENATE(B13,"_",F13) -> BE2021/03_MOW1_GPUMP_Inlet2_litter4 | K13: W | L13: =VLOOKUP(A13,Samples!$D$2:$G$12,4,FALSE) -> 200 | M13: l | N13: 1 | O13: 100 | P13: 5000 | Q13: SW | S13: 31 | T13: =S13*1000/L13 -> 155 | U13: items | X13: 137 | Y13: µm | AA13: H01 | AB13: fragment | AC13: H0100002 | AD13: transparent | AE13: COLOURLESS | AF13: 100-350µm | AH13: Positive | AI13: acceptable | AN13: =Project!$B$2 -> Marine_Plastics_EMFF
A14: 2021-03_MOW1_inlet2 | B14: =VLOOKUP(A14,Samples!$D$2:$E$12,2,FALSE) -> BE2021/03_MOW1_GPUMP_Inlet2 | C14: 100µm | E14: ind | F14: litter5 | G14: =_xlfn.CONCAT(A14,"_",C14,"_",F14,) -> 2021-03_MOW1_inlet2_100µm_litter5 | J14: =CONCATENATE(B14,"_",F14) -> BE2021/03_MOW1_GPUMP_Inlet2_litter5 | K14: W | L14: =VLOOKUP(A14,Samples!$D$2:$G$12,4,FALSE) -> 200 | M14: l | N14: 1 | O14: 100 | P14: 5000 | Q14: SW | S14: 31 | T14: =S14*1000/L14 -> 155 | U14: items | X14: 242 | Y14: µm | AA14: H01 | AB14: fragment | AC14: H0100002 | AD14: transparent | AE14: COLOURLESS | AF14: 100-350µm | AH14: Positive | AI14: acceptable | AN14: =Project!$B$2 -> Marine_Plastics_EMFF
A15: 2021-03_MOW1_inlet2 | B15: =VLOOKUP(A15,Samples!$D$2:$E$12,2,FALSE) -> BE2021/03_MOW1_GPUMP_Inlet2 | C15: 100µm | E15: ind | F15: litter6 | G15: =_xlfn.CONCAT(A15,"_",C15,"_",F15,) -> 2021-03_MOW1_inlet2_100µm_litter6 | J15: =CONCATENATE(B15,"_",F15) -> BE2021/03_MOW1_GPUMP_Inlet2_litter6 | K15: W | L15: =VLOOKUP(A15,Samples!$D$2:$G$12,4,FALSE) -> 200 | M15: l | N15: 1 | O15: 100 | P15: 5000 | Q15: SW | S15: 31 | T15: =S15*1000/L15 -> 155 | U15: items | X15: 351 | Y15: µm | AA15: H01 | AB15: fiber | AC15: H0100004 | AD15: transparent | AE15: COLOURLESS | AF15: 350-1000µm | AH15: Positive | AI15: acceptable | AN15: =Project!$B$2 -> Marine_Plastics_EMFF
A16: 2021-03_MOW1_inlet2 | B16: =VLOOKUP(A16,Samples!$D$2:$E$12,2,FALSE) -> BE2021/03_MOW1_GPUMP_Inlet2 | C16: 100µm | E16: ind | F16: litter7 | G16: =_xlfn.CONCAT(A16,"_",C16,"_",F16,) -> 2021-03_MOW1_inlet2_100µm_litter7 | J16: =CONCATENATE(B16,"_",F16) -> BE2021/03_MOW1_GPUMP_Inlet2_litter7 | K16: W | L16: =VLOOKUP(A16,Samples!$D$2:$G$12,4,FALSE) -> 200 | M16: l | N16: 1 | O16: 100 | P16: 5000 | Q16: SW | S16: 31 | T16: =S16*1000/L16 -> 155 | U16: items | X16: 798 | Y16: µm | AA16: H01 | AB16: fiber | AC16: H0100004 | AD16: transparent | AE16: COLOURLESS | AF16: 350-1000µm | AH16: Positive | AI16: acceptable | AN16: =Project!$B$2 -> Marine_Plastics_EMFF
A17: 2021-03_MOW1_inlet2 | B17: =VLOOKUP(A17,Samples!$D$2:$E$12,2,FALSE) -> BE2021/03_MOW1_GPUMP_Inlet2 | C17: 100µm | E17: ind | F17: litter8 | G17: =_xlfn.CONCAT(A17,"_",C17,"_",F17,) -> 2021-03_MOW1_inlet2_100µm_litter8 | J17: =CONCATENATE(B17,"_",F17) -> BE2021/03_MOW1_GPUMP_Inlet2_litter8 | K17: W | L17: =VLOOKUP(A17,Samples!$D$2:$G$12,4,FALSE) -> 200 | M17: l | N17: 1 | O17: 100 | P17: 5000 | Q17: SW | S17: 31 | T17: =S17*1000/L17 -> 155 | U17: items | X17: 110 | Y17: µm | AA17: H01 | AB17: microbead | AC17: H0100009 | AD17: transparent | AE17: COLOURLESS | AF17: 100-350µm | AH17: Positive | AI17: acceptable | AN17: =Project!$B$2 -> Marine_Plastics_EMFF
A18: 2021-03_MOW1_inlet2 | B18: =VLOOKUP(A18,Samples!$D$2:$E$12,2,FALSE) -> BE2021/03_MOW1_GPUMP_Inlet2 | C18: 100µm | E18: ind | F18: litter9 | G18: =_xlfn.CONCAT(A18,"_",C18,"_",F18,) -> 2021-03_MOW1_inlet2_100µm_litter9 | J18: =CONCATENATE(B18,"_",F18) -> BE2021/03_MOW1_GPUMP_Inlet2_litter9 | K18: W | L18: =VLOOKUP(A18,Samples!$D$2:$G$12,4,FALSE) -> 200 | M18: l | N18: 1 | O18: 100 | P18: 5000 | Q18: SW | S18: 31 | T18: =S18*1000/L18 -> 155 | U18: items | X18: 201 | Y18: µm | AA18: H01 | AB18: fragment | AC18: H0100002 | AD18: transparent | AE18: COLOURLESS | AF18: 100-350µm | AH18: Positive | AI18: acceptable | AN18: =Project!$B$2 -> Marine_Plastics_EMFF
A19: 2021-03_MOW1_inlet2 | B19: =VLOOKUP(A19,Samples!$D$2:$E$12,2,FALSE) -> BE2021/03_MOW1_GPUMP_Inlet2 | C19: 100µm | E19: ind | F19: litter10 | G19: =_xlfn.CONCAT(A19,"_",C19,"_",F19,) -> 2021-03_MOW1_inlet2_100µm_litter10 | J19: =CONCATENATE(B19,"_",F19) -> BE2021/03_MOW1_GPUMP_Inlet2_litter10 | K19: W | L19: =VLOOKUP(A19,Samples!$D$2:$G$12,4,FALSE) -> 200 | M19: l | N19: 1 | O19: 100 | P19: 5000 | Q19: SW | S19: 31 | T19: =S19*1000/L19 -> 155 | U19: items | X19: 148 | Y19: µm | AA19: H01 | AB19: fragment | AC19: H0100002 | AD19: transparent | AE19: COLOURLESS | AF19: 100-350µm | AH19: Positive | AI19: acceptable | AN19: =Project!$B$2 -> Marine_Plastics_EMFF
A20: 2021-03_MOW1_inlet2 | B20: =VLOOKUP(A20,Samples!$D$2:$E$12,2,FALSE) -> BE2021/03_MOW1_GPUMP_Inlet2 | C20: 100µm | E20: ind | F20: litter11 | G20: =_xlfn.CONCAT(A20,"_",C20,"_",F20,) -> 2021-03_MOW1_inlet2_100µm_litter11 | J20: =CONCATENATE(B20,"_",F20) -> BE2021/03_MOW1_GPUMP_Inlet2_litter11 | K20: W | L20: =VLOOKUP(A20,Samples!$D$2:$G$12,4,FALSE) -> 200 | M20: l | N20: 1 | O20: 100 | P20: 5000 | Q20: SW | S20: 31 | T20: =S20*1000/L20 -> 155 | U20: items | X20: 997 | Y20: µm | AA20: H01 | AB20: fragment | AC20: H0100002 | AD20: transparent | AE20: COLOURLESS | AF20: 350-1000µm | AH20: Positive | AI20: acceptable | AN20: =Project!$B$2 -> Marine_Plastics_EMFF
A21: 2021-03_MOW1_inlet2 | B21: =VLOOKUP(A21,Samples!$D$2:$E$12,2,FALSE) -> BE2021/03_MOW1_GPUMP_Inlet2 | C21: 100µm | E21: ind | F21: litter12 | G21: =_xlfn.CONCAT(A21,"_",C21,"_",F21,) -> 2021-03_MOW1_inlet2_100µm_litter12 | J21: =CONCATENATE(B21,"_",F21) -> BE2021/03_MOW1_GPUMP_Inlet2_litter12 | K21: W | L21: =VLOOKUP(A21,Samples!$D$2:$G$12,4,FALSE) -> 200 | M21: l | N21: 1 | O21: 100 | P21: 5000 | Q21: SW | S21: 31 | T21: =S21*1000/L21 -> 155 | U21: items | X21: 1134 | Y21: µm | AA21: H01 | AB21: fiber | AC21: H0100004 | AD21: transparent | AE21: COLOURLESS | AF21: 1-5mm(LMP) | AH21: Positive | AI21: acceptable | AN21: =Project!$B$2 -> Marine_Plastics_EMFF
A22: 2021-03_MOW1_inlet2 | B22: =VLOOKUP(A22,Samples!$D$2:$E$12,2,FALSE) -> BE2021/03_MOW1_GPUMP_Inlet2 | C22: 100µm | E22: ind | F22: litter13 | G22: =_xlfn.CONCAT(A22,"_",C22,"_",F22,) -> 2021-03_MOW1_inlet2_100µm_litter13 | J22: =CONCATENATE(B22,"_",F22) -> BE2021/03_MOW1_GPUMP_Inlet2_litter13 | K22: W | L22: =VLOOKUP(A22,Samples!$D$2:$G$12,4,FALSE) -> 200 | M22: l | N22: 1 | O22: 100 | P22: 5000 | Q22: SW | S22: 31 | T22: =S22*1000/L22 -> 155 | U22: items | X22: 737 | Y22: µm | AA22: H01 | AB22: fiber | AC22: H0100004 | AD22: transparent | AE22: COLOURLESS | AF22: 350-1000µm | AH22: Positive | AI22: acceptable | AN22: =Project!$B$2 -> Marine_Plastics_EMFF
A23: 2021-03_MOW1_inlet2 | B23: =VLOOKUP(A23,Samples!$D$2:$E$12,2,FALSE) -> BE2021/03_MOW1_GPUMP_Inlet2 | C23: 100µm | E23: ind | F23: litter14 | G23: =_xlfn.CONCAT(A23,"_",C23,"_",F23,) -> 2021-03_MOW1_inlet2_100µm_litter14 | J23: =CONCATENATE(B23,"_",F23) -> BE2021/03_MOW1_GPUMP_Inlet2_litter14 | K23: W | L23: =VLOOKUP(A23,Samples!$D$2:$G$12,4,FALSE) -> 200 | M23: l | N23: 1 | O23: 100 | P23: 5000 | Q23: SW | S23: 31 | T23: =S23*1000/L23 -> 155 | U23: items | X23: 119 | Y23: µm | AA23: H01 | AB23: microbead | AC23: H0100009 | AD23: transparent | AE23: COLOURLESS | AF23: 100-350µm | AH23: Positive | AI23: acceptable | AN23: =Project!$B$2 -> Marine_Plastics_EMFF
... A41: 2021-03_MOW1_inlet2 | B41: =VLOOKUP(A41,Samples!$D$2:$E$12,2,FALSE) -> BE2021/03_MOW1_GPUMP_Inlet2 | C41: 100µm | E41: ind | F41: litter33 | G41: =_xlfn.CONCAT(A41,"_",C41,"_",F41,) -> 2021-03_MOW1_inlet2_100µm_litter33 | J41: =CONCATENATE(B41,"_",F41) -> BE2021/03_MOW1_GPUMP_Inlet2_litter33 | K41: W | L41: =VLOOKUP(A41,Samples!$D$2:$G$12,4,FALSE) -> 200 | M41: l | N41: 1 | O41: 100 | P41: 5000 | Q41: SW | S41: 31 | T41: =S41*1000/L41 -> 155 | U41: items | X41: 1786 | Y41: µm | AA41: H01 | AB41: fiber | AC41: H0100004 | AD41: transparent | AE41: COLOURLESS | AF41: 1-5mm(LMP) | AH41: Positive | AI41: acceptable | AN41: =Project!$B$2 -> Marine_Plastics_EMFF
A42: 2021-03_MOW1_inlet1 | B42: =VLOOKUP(A42,Samples!$D$2:$E$12,2,FALSE) -> BE2021/03_MOW1_GPUMP_Inlet1 | C42: 100µm | E42: ind | F42: litter1 | G42: =_xlfn.CONCAT(A42,"_",C42,"_",F42,) -> 2021-03_MOW1_inlet1_100µm_litter1 | J42: =CONCATENATE(B42,"_",F42) -> BE2021/03_MOW1_GPUMP_Inlet1_litter1 | K42: W | L42: =VLOOKUP(A42,Samples!$D$2:$G$12,4,FALSE) -> 200 | M42: l | N42: 1 | O42: 100 | P42: 5000 | Q42: SW | R42: 15_18 | S42: 15 | T42: =S42*1000/L42 -> 75 | U42: items | X42: 201 | Y42: µm | AA42: H01 | AB42: fragment | AC42: H0100002 | AD42: transparent | AE42: COLOURLESS | AF42: 100-350µm | AH42: Positive | AI42: acceptable | AN42: =Project!$B$2 -> Marine_Plastics_EMFF
A43: 2021-03_MOW1_inlet1 | B43: =VLOOKUP(A43,Samples!$D$2:$E$12,2,FALSE) -> BE2021/03_MOW1_GPUMP_Inlet1 | C43: 100µm | E43: ind | F43: litter2 | G43: =_xlfn.CONCAT(A43,"_",C43,"_",F43,) -> 2021-03_MOW1_inlet1_100µm_litter2 | J43: =CONCATENATE(B43,"_",F43) -> BE2021/03_MOW1_GPUMP_Inlet1_litter2 | K43: W | L43: =VLOOKUP(A43,Samples!$D$2:$G$12,4,FALSE) -> 200 | M43: l | N43: 1 | O43: 100 | P43: 5000 | Q43: SW | S43: 15 | T43: =S43*1000/L43 -> 75 | U43: items | X43: 1575 | Y43: µm | AA43: H01 | AB43: fiber | AC43: H0100004 | AD43: transparent | AE43: COLOURLESS | AF43: 1-5mm(LMP) | AH43: Positive | AI43: acceptable | AN43: =Project!$B$2 -> Marine_Plastics_EMFF
A44: 2021-03_MOW1_inlet1 | B44: =VLOOKUP(A44,Samples!$D$2:$E$12,2,FALSE) -> BE2021/03_MOW1_GPUMP_Inlet1 | C44: 100µm | E44: ind | F44: litter3 | G44: =_xlfn.CONCAT(A44,"_",C44,"_",F44,) -> 2021-03_MOW1_inlet1_100µm_litter3 | J44: =CONCATENATE(B44,"_",F44) -> BE2021/03_MOW1_GPUMP_Inlet1_litter3 | K44: W | L44: =VLOOKUP(A44,Samples!$D$2:$G$12,4,FALSE) -> 200 | M44: l | N44: 1 | O44: 100 | P44: 5000 | Q44: SW | S44: 15 | T44: =S44*1000/L44 -> 75 | U44: items | X44: 225 | Y44: µm | AA44: H01 | AB44: fragment | AC44: H0100002 | AD44: other (grey) | AE44: GREY | AF44: 100-350µm | AH44: Positive | AI44: acceptable | AN44: =Project!$B$2 -> Marine_Plastics_EMFF
A45: 2021-03_MOW1_inlet1 | B45: =VLOOKUP(A45,Samples!$D$2:$E$12,2,FALSE) -> BE2021/03_MOW1_GPUMP_Inlet1 | C45: 100µm | E45: ind | F45: litter4 | G45: =_xlfn.CONCAT(A45,"_",C45,"_",F45,) -> 2021-03_MOW1_inlet1_100µm_litter4 | J45: =CONCATENATE(B45,"_",F45) -> BE2021/03_MOW1_GPUMP_Inlet1_litter4 | K45: W | L45: =VLOOKUP(A45,Samples!$D$2:$G$12,4,FALSE) -> 200 | M45: l | N45: 1 | O45: 100 | P45: 5000 | Q45: SW | S45: 15 | T45: =S45*1000/L45 -> 75 | U45: items | X45: 922 | Y45: µm | AA45: H01 | AB45: fiber | AC45: H0100004 | AD45: transparent | AE45: COLOURLESS | AF45: 350-1000µm | AH45: Positive | AI45: acceptable | AN45: =Project!$B$2 -> Marine_Plastics_EMFF
A46: 2021-03_MOW1_inlet1 | B46: =VLOOKUP(A46,Samples!$D$2:$E$12,2,FALSE) -> BE2021/03_MOW1_GPUMP_Inlet1 | C46: 100µm | E46: ind | F46: litter5 | G46: =_xlfn.CONCAT(A46,"_",C46,"_",F46,) -> 2021-03_MOW1_inlet1_100µm_litter5 | J46: =CONCATENATE(B46,"_",F46) -> BE2021/03_MOW1_GPUMP_Inlet1_litter5 | K46: W | L46: =VLOOKUP(A46,Samples!$D$2:$G$12,4,FALSE) -> 200 | M46: l | N46: 1 | O46: 100 | P46: 5000 | Q46: SW | S46: 15 | T46: =S46*1000/L46 -> 75 | U46: items | X46: 284 | Y46: µm | AA46: H01 | AB46: fragment | AC46: H0100002 | AD46: other (orange/pink) | AE46: ORANGE/PINK/RED | AF46: 100-350µm | AH46: Positive | AI46: acceptable | AN46: =Project!$B$2 -> Marine_Plastics_EMFF
A47: 2021-03_MOW1_inlet1 | B47: =VLOOKUP(A47,Samples!$D$2:$E$12,2,FALSE) -> BE2021/03_MOW1_GPUMP_Inlet1 | C47: 100µm | E47: ind | F47: litter6 | G47: =_xlfn.CONCAT(A47,"_",C47,"_",F47,) -> 2021-03_MOW1_inlet1_100µm_litter6 | J47: =CONCATENATE(B47,"_",F47) -> BE2021/03_MOW1_GPUMP_Inlet1_litter6 | K47: W | L47: =VLOOKUP(A47,Samples!$D$2:$G$12,4,FALSE) -> 200 | M47: l | N47: 1 | O47: 100 | P47: 5000 | Q47: SW | S47: 15 | T47: =S47*1000/L47 -> 75 | U47: items | X47: 2465 | Y47: µm | AA47: H01 | AB47: fiber | AC47: H0100004 | AD47: transparent | AE47: COLOURLESS | AF47: 1-5mm(LMP) | AH47: Positive | AI47: acceptable | AN47: =Project!$B$2 -> Marine_Plastics_EMFF
A48: 2021-03_MOW1_inlet1 | B48: =VLOOKUP(A48,Samples!$D$2:$E$12,2,FALSE) -> BE2021/03_MOW1_GPUMP_Inlet1 | C48: 100µm | E48: ind | F48: litter7 | G48: =_xlfn.CONCAT(A48,"_",C48,"_",F48,) -> 2021-03_MOW1_inlet1_100µm_litter7 | J48: =CONCATENATE(B48,"_",F48) -> BE2021/03_MOW1_GPUMP_Inlet1_litter7 | K48: W | L48: =VLOOKUP(A48,Samples!$D$2:$G$12,4,FALSE) -> 200 | M48: l | N48: 1 | O48: 100 | P48: 5000 | Q48: SW | S48: 15 | T48: =S48*1000/L48 -> 75 | U48: items | X48: 2562 | Y48: µm | AA48: H01 | AB48: fiber | AC48: H0100004 | AD48: transparent | AE48: COLOURLESS | AF48: 1-5mm(LMP) | AH48: Positive | AI48: acceptable | AN48: =Project!$B$2 -> Marine_Plastics_EMFF
A49: 2021-03_MOW1_inlet1 | B49: =VLOOKUP(A49,Samples!$D$2:$E$12,2,FALSE) -> BE2021/03_MOW1_GPUMP_Inlet1 | C49: 100µm | E49: ind | F49: litter8 | G49: =_xlfn.CONCAT(A49,"_",C49,"_",F49,) -> 2021-03_MOW1_inlet1_100µm_litter8 | J49: =CONCATENATE(B49,"_",F49) -> BE2021/03_MOW1_GPUMP_Inlet1_litter8 | K49: W | L49: =VLOOKUP(A49,Samples!$D$2:$G$12,4,FALSE) -> 200 | M49: l | N49: 1 | O49: 100 | P49: 5000 | Q49: SW | S49: 15 | T49: =S49*1000/L49 -> 75 | U49: items | X49: 1924 | Y49: µm | AA49: H01 | AB49: fiber | AC49: H0100004 | AD49: transparent | AE49: COLOURLESS | AF49: 1-5mm(LMP) | AH49: Positive | AI49: acceptable | AN49: =Project!$B$2 -> Marine_Plastics_EMFF
A50: 2021-03_MOW1_inlet1 | B50: =VLOOKUP(A50,Samples!$D$2:$E$12,2,FALSE) -> BE2021/03_MOW1_GPUMP_Inlet1 | C50: 100µm | E50: ind | F50: litter9 | G50: =_xlfn.CONCAT(A50,"_",C50,"_",F50,) -> 2021-03_MOW1_inlet1_100µm_litter9 | J50: =CONCATENATE(B50,"_",F50) -> BE2021/03_MOW1_GPUMP_Inlet1_litter9 | K50: W | L50: =VLOOKUP(A50,Samples!$D$2:$G$12,4,FALSE) -> 200 | M50: l | N50: 1 | O50: 100 | P50: 5000 | Q50: SW | S50: 15 | T50: =S50*1000/L50 -> 75 | U50: items | X50: 1875 | Y50: µm | AA50: H01 | AB50: fiber | AC50: H0100004 | AD50: transparent | AE50: COLOURLESS | AF50: 1-5mm(LMP) | AH50: Positive | AI50: acceptable | AN50: =Project!$B$2 -> Marine_Plastics_EMFF
A51: 2021-03_MOW1_inlet1 | B51: =VLOOKUP(A51,Samples!$D$2:$E$12,2,FALSE) -> BE2021/03_MOW1_GPUMP_Inlet1 | C51: 100µm | E51: ind | F51: litter10 | G51: =_xlfn.CONCAT(A51,"_",C51,"_",F51,) -> 2021-03_MOW1_inlet1_100µm_litter10 | J51: =CONCATENATE(B51,"_",F51) -> BE2021/03_MOW1_GPUMP_Inlet1_litter10 | K51: W | L51: =VLOOKUP(A51,Samples!$D$2:$G$12,4,FALSE) -> 200 | M51: l | N51: 1 | O51: 100 | P51: 5000 | Q51: SW | S51: 15 | T51: =S51*1000/L51 -> 75 | U51: items | X51: 1023 | Y51: µm | AA51: H01 | AB51: fiber | AC51: H0100004 | AD51: transparent | AE51: COLOURLESS | AF51: 1-5mm(LMP) | AH51: Positive | AI51: acceptable | AN51: =Project!$B$2 -> Marine_Plastics_EMFF
A52: 2021-03_MOW1_inlet1 | B52: =VLOOKUP(A52,Samples!$D$2:$E$12,2,FALSE) -> BE2021/03_MOW1_GPUMP_Inlet1 | C52: 100µm | E52: ind | F52: litter11 | G52: =_xlfn.CONCAT(A52,"_",C52,"_",F52,) -> 2021-03_MOW1_inlet1_100µm_litter11 | J52: =CONCATENATE(B52,"_",F52) -> BE2021/03_MOW1_GPUMP_Inlet1_litter11 | K52: W | L52: =VLOOKUP(A52,Samples!$D$2:$G$12,4,FALSE) -> 200 | M52: l | N52: 1 | O52: 100 | P52: 5000 | Q52: SW | S52: 15 | T52: =S52*1000/L52 -> 75 | U52: items | X52: 362 | Y52: µm | AA52: H01 | AB52: fiber | AC52: H0100004 | AD52: other (grey) | AE52: GREY | AF52: 350-1000µm | AH52: Positive | AI52: acceptable | AN52: =Project!$B$2 -> Marine_Plastics_EMFF
A53: 2021-03_MOW1_inlet1 | B53: =VLOOKUP(A53,Samples!$D$2:$E$12,2,FALSE) -> BE2021/03_MOW1_GPUMP_Inlet1 | C53: 100µm | E53: ind | F53: litter13 | G53: =_xlfn.CONCAT(A53,"_",C53,"_",F53,) -> 2021-03_MOW1_inlet1_100µm_litter13 | J53: =CONCATENATE(B53,"_",F53) -> BE2021/03_MOW1_GPUMP_Inlet1_litter13 | K53: W | L53: =VLOOKUP(A53,Samples!$D$2:$G$12,4,FALSE) -> 200 | M53: l | N53: 1 | O53: 100 | P53: 5000 | Q53: SW | S53: 15 | T53: =S53*1000/L53 -> 75 | U53: items | X53: 4367 | Y53: µm | AA53: H01 | AB53: fiber | AC53: H0100004 | AD53: transparent | AE53: COLOURLESS | AF53: 1-5mm(LMP) | AH53: Positive | AI53: acceptable | AN53: =Project!$B$2 -> Marine_Plastics_EMFF
A54: 2021-03_MOW1_inlet1 | B54: =VLOOKUP(A54,Samples!$D$2:$E$12,2,FALSE) -> BE2021/03_MOW1_GPUMP_Inlet1 | C54: 100µm | E54: ind | F54: litter14 | G54: =_xlfn.CONCAT(A54,"_",C54,"_",F54,) -> 2021-03_MOW1_inlet1_100µm_litter14 | J54: =CONCATENATE(B54,"_",F54) -> BE2021/03_MOW1_GPUMP_Inlet1_litter14 | K54: W | L54: =VLOOKUP(A54,Samples!$D$2:$G$12,4,FALSE) -> 200 | M54: l | N54: 1 | O54: 100 | P54: 5000 | Q54: SW | S54: 15 | T54: =S54*1000/L54 -> 75 | U54: items | X54: 782 | Y54: µm | AA54: H01 | AB54: fiber | AC54: H0100004 | AD54: transparent | AE54: COLOURLESS | AF54: 350-1000µm | AH54: Positive | AI54: acceptable | AN54: =Project!$B$2 -> Marine_Plastics_EMFF
... A56: 2021-03_MOW1_inlet1 | B56: =VLOOKUP(A56,Samples!$D$2:$E$12,2,FALSE) -> BE2021/03_MOW1_GPUMP_Inlet1 | C56: 100µm | E56: ind | F56: litter16 | G56: =_xlfn.CONCAT(A56,"_",C56,"_",F56,) -> 2021-03_MOW1_inlet1_100µm_litter16 | J56: =CONCATENATE(B56,"_",F56) -> BE2021/03_MOW1_GPUMP_Inlet1_litter16 | K56: W | L56: =VLOOKUP(A56,Samples!$D$2:$G$12,4,FALSE) -> 200 | M56: l | N56: 1 | O56: 100 | P56: 5000 | Q56: SW | S56: 15 | T56: =S56*1000/L56 -> 75 | U56: items | X56: 333 | Y56: µm | AA56: H01 | AB56: fiber | AC56: H0100004 | AD56: black | AE56: BLACK | AF56: 100-350µm | AH56: Positive | AI56: acceptable | AN56: =Project!$B$2 -> Marine_Plastics_EMFF
A57: 2021-03_MOW1_inlet3 | B57: =VLOOKUP(A57,Samples!$D$2:$E$12,2,FALSE) -> BE2021/03_MOW1_GPUMP_Inlet3 | C57: 100µm | E57: ind | F57: litter1 | G57: =_xlfn.CONCAT(A57,"_",C57,"_",F57,) -> 2021-03_MOW1_inlet3_100µm_litter1 | J57: =CONCATENATE(B57,"_",F57) -> BE2021/03_MOW1_GPUMP_Inlet3_litter1 | K57: W | L57: =VLOOKUP(A57,Samples!$D$2:$G$12,4,FALSE) -> 100 | M57: l | N57: 1 | O57: 100 | P57: 5000 | Q57: SW | R57: 41 | S57: 38 | T57: =S57*1000/L57 -> 380 | U57: items | X57: 3468 | Y57: µm | AA57: H01 | AB57: fiber | AC57: H0100004 | AD57: transparent | AE57: COLOURLESS | AF57: 1-5mm(LMP) | AH57: Positive | AI57: acceptable | AN57: =Project!$B$2 -> Marine_Plastics_EMFF
A58: 2021-03_MOW1_inlet3 | B58: =VLOOKUP(A58,Samples!$D$2:$E$12,2,FALSE) -> BE2021/03_MOW1_GPUMP_Inlet3 | C58: 100µm | E58: ind | F58: litter2 | G58: =_xlfn.CONCAT(A58,"_",C58,"_",F58,) -> 2021-03_MOW1_inlet3_100µm_litter2 | J58: =CONCATENATE(B58,"_",F58) -> BE2021/03_MOW1_GPUMP_Inlet3_litter2 | K58: W | L58: =VLOOKUP(A58,Samples!$D$2:$G$12,4,FALSE) -> 100 | M58: l | N58: 1 | O58: 100 | P58: 5000 | Q58: SW | S58: 38 | T58: =S58*1000/L58 -> 380 | U58: items | X58: 889 | Y58: µm | AA58: H01 | AB58: fiber | AC58: H0100004 | AD58: transparent | AE58: COLOURLESS | AF58: 350-1000µm | AH58: Positive | AI58: acceptable | AN58: =Project!$B$2 -> Marine_Plastics_EMFF
A59: 2021-03_MOW1_inlet3 | B59: =VLOOKUP(A59,Samples!$D$2:$E$12,2,FALSE) -> BE2021/03_MOW1_GPUMP_Inlet3 | C59: 100µm | E59: ind | F59: litter3 | G59: =_xlfn.CONCAT(A59,"_",C59,"_",F59,) -> 2021-03_MOW1_inlet3_100µm_litter3 | J59: =CONCATENATE(B59,"_",F59) -> BE2021/03_MOW1_GPUMP_Inlet3_litter3 | K59: W | L59: =VLOOKUP(A59,Samples!$D$2:$G$12,4,FALSE) -> 100 | M59: l | N59: 1 | O59: 100 | P59: 5000 | Q59: SW | S59: 38 | T59: =S59*1000/L59 -> 380 | U59: items | X59: 534 | Y59: µm | AA59: H01 | AB59: fiber | AC59: H0100004 | AD59: transparent | AE59: COLOURLESS | AF59: 350-1000µm | AH59: Positive | AI59: acceptable | AN59: =Project!$B$2 -> Marine_Plastics_EMFF
A60: 2021-03_MOW1_inlet3 | B60: =VLOOKUP(A60,Samples!$D$2:$E$12,2,FALSE) -> BE2021/03_MOW1_GPUMP_Inlet3 | C60: 100µm | E60: ind | F60: litter4 | G60: =_xlfn.CONCAT(A60,"_",C60,"_",F60,) -> 2021-03_MOW1_inlet3_100µm_litter4 | J60: =CONCATENATE(B60,"_",F60) -> BE2021/03_MOW1_GPUMP_Inlet3_litter4 | K60: W | L60: =VLOOKUP(A60,Samples!$D$2:$G$12,4,FALSE) -> 100 | M60: l | N60: 1 | O60: 100 | P60: 5000 | Q60: SW | S60: 38 | T60: =S60*1000/L60 -> 380 | U60: items | X60: 141 | Y60: µm | AA60: H01 | AB60: fragment | AC60: H0100002 | AD60: other (grey) | AE60: GREY | AF60: 100-350µm | AH60: Positive | AI60: acceptable | AN60: =Project!$B$2 -> Marine_Plastics_EMFF
A61: 2021-03_MOW1_inlet3 | B61: =VLOOKUP(A61,Samples!$D$2:$E$12,2,FALSE) -> BE2021/03_MOW1_GPUMP_Inlet3 | C61: 100µm | E61: ind | F61: litter5 | G61: =_xlfn.CONCAT(A61,"_",C61,"_",F61,) -> 2021-03_MOW1_inlet3_100µm_litter5 | J61: =CONCATENATE(B61,"_",F61) -> BE2021/03_MOW1_GPUMP_Inlet3_litter5 | K61: W | L61: =VLOOKUP(A61,Samples!$D$2:$G$12,4,FALSE) -> 100 | M61: l | N61: 1 | O61: 100 | P61: 5000 | Q61: SW | S61: 38 | T61: =S61*1000/L61 -> 380 | U61: items | X61: 351 | Y61: µm | AA61: H01 | AB61: fiber | AC61: H0100004 | AD61: other (grey) | AE61: GREY | AF61: 350-1000µm | AH61: Positive | AI61: acceptable | AN61: =Project!$B$2 -> Marine_Plastics_EMFF
A62: 2021-03_MOW1_inlet3 | B62: =VLOOKUP(A62,Samples!$D$2:$E$12,2,FALSE) -> BE2021/03_MOW1_GPUMP_Inlet3 | C62: 100µm | E62: ind | F62: litter6 | G62: =_xlfn.CONCAT(A62,"_",C62,"_",F62,) -> 2021-03_MOW1_inlet3_100µm_litter6 | J62: =CONCATENATE(B62,"_",F62) -> BE2021/03_MOW1_GPUMP_Inlet3_litter6 | K62: W | L62: =VLOOKUP(A62,Samples!$D$2:$G$12,4,FALSE) -> 100 | M62: l | N62: 1 | O62: 100 | P62: 5000 | Q62: SW | S62: 38 | T62: =S62*1000/L62 -> 380 | U62: items | X62: 520 | Y62: µm | AA62: H01 | AB62: fiber | AC62: H0100004 | AD62: transparent | AE62: COLOURLESS | AF62: 350-1000µm | AH62: Positive | AI62: acceptable | AN62: =Project!$B$2 -> Marine_Plastics_EMFF
A63: 2021-03_MOW1_inlet3 | B63: =VLOOKUP(A63,Samples!$D$2:$E$12,2,FALSE) -> BE2021/03_MOW1_GPUMP_Inlet3 | C63: 100µm | E63: ind | F63: litter7 | G63: =_xlfn.CONCAT(A63,"_",C63,"_",F63,) -> 2021-03_MOW1_inlet3_100µm_litter7 | J63: =CONCATENATE(B63,"_",F63) -> BE2021/03_MOW1_GPUMP_Inlet3_litter7 | K63: W | L63: =VLOOKUP(A63,Samples!$D$2:$G$12,4,FALSE) -> 100 | M63: l | N63: 1 | O63: 100 | P63: 5000 | Q63: SW | S63: 38 | T63: =S63*1000/L63 -> 380 | U63: items | X63: 559 | Y63: µm | AA63: H01 | AB63: fiber | AC63: H0100004 | AD63: black | AE63: BLACK | AF63: 350-1000µm | AH63: Positive | AI63: acceptable | AN63: =Project!$B$2 -> Marine_Plastics_EMFF
A64: 2021-03_MOW1_inlet3 | B64: =VLOOKUP(A64,Samples!$D$2:$E$12,2,FALSE) -> BE2021/03_MOW1_GPUMP_Inlet3 | C64: 100µm | E64: ind | F64: litter8 | G64: =_xlfn.CONCAT(A64,"_",C64,"_",F64,) -> 2021-03_MOW1_inlet3_100µm_litter8 | J64: =CONCATENATE(B64,"_",F64) -> BE2021/03_MOW1_GPUMP_Inlet3_litter8 | K64: W | L64: =VLOOKUP(A64,Samples!$D$2:$G$12,4,FALSE) -> 100 | M64: l | N64: 1 | O64: 100 | P64: 5000 | Q64: SW | S64: 38 | T64: =S64*1000/L64 -> 380 | U64: items | X64: 1277 | Y64: µm | AA64: H01 | AB64: fiber | AC64: H0100004 | AD64: black | AE64: BLACK | AF64: 1-5mm(LMP) | AH64: Positive | AI64: acceptable | AN64: =Project!$B$2 -> Marine_Plastics_EMFF
A65: 2021-03_MOW1_inlet3 | B65: =VLOOKUP(A65,Samples!$D$2:$E$12,2,FALSE) -> BE2021/03_MOW1_GPUMP_Inlet3 | C65: 100µm | E65: ind | F65: litter9 | G65: =_xlfn.CONCAT(A65,"_",C65,"_",F65,) -> 2021-03_MOW1_inlet3_100µm_litter9 | J65: =CONCATENATE(B65,"_",F65) -> BE2021/03_MOW1_GPUMP_Inlet3_litter9 | K65: W | L65: =VLOOKUP(A65,Samples!$D$2:$G$12,4,FALSE) -> 100 | M65: l | N65: 1 | O65: 100 | P65: 5000 | Q65: SW | S65: 38 | T65: =S65*1000/L65 -> 380 | U65: items | X65: 2172 | Y65: µm | AA65: H01 | AB65: fiber | AC65: H0100004 | AD65: black | AE65: BLACK | AF65: 1-5mm(LMP) | AH65: Positive | AI65: acceptable | AN65: =Project!$B$2 -> Marine_Plastics_EMFF
A66: 2021-03_MOW1_inlet3 | B66: =VLOOKUP(A66,Samples!$D$2:$E$12,2,FALSE) -> BE2021/03_MOW1_GPUMP_Inlet3 | C66: 100µm | E66: ind | F66: litter10 | G66: =_xlfn.CONCAT(A66,"_",C66,"_",F66,) -> 2021-03_MOW1_inlet3_100µm_litter10 | J66: =CONCATENATE(B66,"_",F66) -> BE2021/03_MOW1_GPUMP_Inlet3_litter10 | K66: W | L66: =VLOOKUP(A66,Samples!$D$2:$G$12,4,FALSE) -> 100 | M66: l | N66: 1 | O66: 100 | P66: 5000 | Q66: SW | S66: 38 | T66: =S66*1000/L66 -> 380 | U66: items | X66: 141 | Y66: µm | AA66: H01 | AB66: microbead | AC66: H0100009 | AD66: transparent | AE66: COLOURLESS | AF66: 100-350µm | AH66: Positive | AI66: acceptable | AN66: =Project!$B$2 -> Marine_Plastics_EMFF
A67: 2021-03_MOW1_inlet3 | B67: =VLOOKUP(A67,Samples!$D$2:$E$12,2,FALSE) -> BE2021/03_MOW1_GPUMP_Inlet3 | C67: 100µm | E67: ind | F67: litter11 | G67: =_xlfn.CONCAT(A67,"_",C67,"_",F67,) -> 2021-03_MOW1_inlet3_100µm_litter11 | J67: =CONCATENATE(B67,"_",F67) -> BE2021/03_MOW1_GPUMP_Inlet3_litter11 | K67: W | L67: =VLOOKUP(A67,Samples!$D$2:$G$12,4,FALSE) -> 100 | M67: l | N67: 1 | O67: 100 | P67: 5000 | Q67: SW | S67: 38 | T67: =S67*1000/L67 -> 380 | U67: items | X67: 1513 | Y67: µm | AA67: H01 | AB67: fiber | AC67: H0100004 | AD67: black | AE67: BLACK | AF67: 1-5mm(LMP) | AH67: Positive | AI67: acceptable | AN67: =Project!$B$2 -> Marine_Plastics_EMFF
A68: 2021-03_MOW1_inlet3 | B68: =VLOOKUP(A68,Samples!$D$2:$E$12,2,FALSE) -> BE2021/03_MOW1_GPUMP_Inlet3 | C68: 100µm | E68: ind | F68: litter12 | G68: =_xlfn.CONCAT(A68,"_",C68,"_",F68,) -> 2021-03_MOW1_inlet3_100µm_litter12 | J68: =CONCATENATE(B68,"_",F68) -> BE2021/03_MOW1_GPUMP_Inlet3_litter12 | K68: W | L68: =VLOOKUP(A68,Samples!$D$2:$G$12,4,FALSE) -> 100 | M68: l | N68: 1 | O68: 100 | P68: 5000 | Q68: SW | S68: 38 | T68: =S68*1000/L68 -> 380 | U68: items | X68: 3261 | Y68: µm | AA68: H01 | AB68: fiber | AC68: H0100004 | AD68: other (grey) | AE68: GREY | AF68: 1-5mm(LMP) | AH68: Positive | AI68: acceptable | AN68: =Project!$B$2 -> Marine_Plastics_EMFF
A69: 2021-03_MOW1_inlet3 | B69: =VLOOKUP(A69,Samples!$D$2:$E$12,2,FALSE) -> BE2021/03_MOW1_GPUMP_Inlet3 | C69: 100µm | E69: ind | F69: litter13 | G69: =_xlfn.CONCAT(A69,"_",C69,"_",F69,) -> 2021-03_MOW1_inlet3_100µm_litter13 | J69: =CONCATENATE(B69,"_",F69) -> BE2021/03_MOW1_GPUMP_Inlet3_litter13 | K69: W | L69: =VLOOKUP(A69,Samples!$D$2:$G$12,4,FALSE) -> 100 | M69: l | N69: 1 | O69: 100 | P69: 5000 | Q69: SW | S69: 38 | T69: =S69*1000/L69 -> 380 | U69: items | X69: 2326 | Y69: µm | AA69: H01 | AB69: fiber | AC69: H0100004 | AD69: other (grey) | AE69: GREY | AF69: 1-5mm(LMP) | AH69: Positive | AI69: acceptable | AN69: =Project!$B$2 -> Marine_Plastics_EMFF
... A102: 2021-03_W05_inlet1 | B102: =VLOOKUP(A102,Samples!$D$2:$E$12,2,FALSE) -> BE2021/03_W05_GPUMP_Inlet1 | C102: 100µm | E102: ind | F102: litter9 | G102: =_xlfn.CONCAT(A102,"_",C102,"_",F102,) -> 2021-03_W05_inlet1_100µm_litter9 | J102: =CONCATENATE(B102,"_",F102) -> BE2021/03_W05_GPUMP_Inlet1_litter9 | K102: W | L102: =VLOOKUP(A102,Samples!$D$2:$G$12,4,FALSE) -> 200 | M102: l | N102: 1 | O102: 100 | P102: 5000 | Q102: SW | S102: 8 | T102: =S102*1000/L102 -> 40 | U102: items | X102: 263 | Y102: µm | AA102: H01 | AB102: fiber | AC102: H0100004 | AD102: transparent | AE102: COLOURLESS | AF102: 100-350µm | AH102: Positive | AI102: acceptable | AN102: =Project!$B$2 -> Marine_Plastics_EMFF
A103: 2021-03_W05_inlet2 | B103: =VLOOKUP(A103,Samples!$D$2:$E$12,2,FALSE) -> BE2021/03_W05_GPUMP_Inlet2 | C103: 100µm | E103: ind | F103: litter1 | G103: =_xlfn.CONCAT(A103,"_",C103,"_",F103,) -> 2021-03_W05_inlet2_100µm_litter1 | J103: =CONCATENATE(B103,"_",F103) -> BE2021/03_W05_GPUMP_Inlet2_litter1 | K103: W | L103: =VLOOKUP(A103,Samples!$D$2:$G$12,4,FALSE) -> 200 | M103: l | N103: 1 | O103: 100 | P103: 5000 | Q103: SW | R103: 11 | S103: 8 | T103: =S103*1000/L103 -> 40 | U103: items | X103: 243 | Y103: µm | AA103: H01 | AB103: fragment | AC103: H0100002 | AD103: transparent | AE103: COLOURLESS | AF103: 100-350µm | AH103: Positive | AI103: acceptable | AN103: =Project!$B$2 -> Marine_Plastics_EMFF
A104: 2021-03_W05_inlet2 | B104: =VLOOKUP(A104,Samples!$D$2:$E$12,2,FALSE) -> BE2021/03_W05_GPUMP_Inlet2 | C104: 100µm | E104: ind | F104: litter3 | G104: =_xlfn.CONCAT(A104,"_",C104,"_",F104,) -> 2021-03_W05_inlet2_100µm_litter3 | J104: =CONCATENATE(B104,"_",F104) -> BE2021/03_W05_GPUMP_Inlet2_litter3 | K104: W | L104: =VLOOKUP(A104,Samples!$D$2:$G$12,4,FALSE) -> 200 | M104: l | N104: 1 | O104: 100 | P104: 5000 | Q104: SW | S104: 8 | T104: =S104*1000/L104 -> 40 | U104: items | X104: 509 | Y104: µm | AA104: H01 | AB104: fragment | AC104: H0100002 | AD104: transparent | AE104: COLOURLESS | AF104: 350-1000µm | AH104: Positive | AI104: acceptable | AN104: =Project!$B$2 -> Marine_Plastics_EMFF
A105: 2021-03_W05_inlet2 | B105: =VLOOKUP(A105,Samples!$D$2:$E$12,2,FALSE) -> BE2021/03_W05_GPUMP_Inlet2 | C105: 100µm | E105: ind | F105: litter4 | G105: =_xlfn.CONCAT(A105,"_",C105,"_",F105,) -> 2021-03_W05_inlet2_100µm_litter4 | J105: =CONCATENATE(B105,"_",F105) -> BE2021/03_W05_GPUMP_Inlet2_litter4 | K105: W | L105: =VLOOKUP(A105,Samples!$D$2:$G$12,4,FALSE) -> 200 | M105: l | N105: 1 | O105: 100 | P105: 5000 | Q105: SW | S105: 8 | T105: =S105*1000/L105 -> 40 | U105: items | X105: 155 | Y105: µm | AA105: H01 | AB105: fiber | AC105: H0100004 | AD105: black | AE105: BLACK | AF105: 100-350µm | AH105: Positive | AI105: acceptable | AN105: =Project!$B$2 -> Marine_Plastics_EMFF
A106: 2021-03_W05_inlet2 | B106: =VLOOKUP(A106,Samples!$D$2:$E$12,2,FALSE) -> BE2021/03_W05_GPUMP_Inlet2 | C106: 100µm | E106: ind | F106: litter5 | G106: =_xlfn.CONCAT(A106,"_",C106,"_",F106,) -> 2021-03_W05_inlet2_100µm_litter5 | J106: =CONCATENATE(B106,"_",F106) -> BE2021/03_W05_GPUMP_Inlet2_litter5 | K106: W | L106: =VLOOKUP(A106,Samples!$D$2:$G$12,4,FALSE) -> 200 | M106: l | N106: 1 | O106: 100 | P106: 5000 | Q106: SW | S106: 8 | T106: =S106*1000/L106 -> 40 | U106: items | X106: 300 | Y106: µm | AA106: H01 | AB106: fragment | AC106: H0100002 | AD106: transparent | AE106: COLOURLESS | AF106: 100-350µm | AH106: Positive | AI106: acceptable | AN106: =Project!$B$2 -> Marine_Plastics_EMFF
A107: 2021-03_W05_inlet2 | B107: =VLOOKUP(A107,Samples!$D$2:$E$12,2,FALSE) -> BE2021/03_W05_GPUMP_Inlet2 | C107: 100µm | E107: ind | F107: litter6 | G107: =_xlfn.CONCAT(A107,"_",C107,"_",F107,) -> 2021-03_W05_inlet2_100µm_litter6 | J107: =CONCATENATE(B107,"_",F107) -> BE2021/03_W05_GPUMP_Inlet2_litter6 | K107: W | L107: =VLOOKUP(A107,Samples!$D$2:$G$12,4,FALSE) -> 200 | M107: l | N107: 1 | O107: 100 | P107: 5000 | Q107: SW | S107: 8 | T107: =S107*1000/L107 -> 40 | U107: items | X107: 2287 | Y107: µm | AA107: H01 | AB107: fiber | AC107: H0100004 | AD107: transparent | AE107: COLOURLESS | AF107: 1-5mm(LMP) | AH107: Positive | AI107: acceptable | AN107: =Project!$B$2 -> Marine_Plastics_EMFF
A108: 2021-03_W05_inlet2 | B108: =VLOOKUP(A108,Samples!$D$2:$E$12,2,FALSE) -> BE2021/03_W05_GPUMP_Inlet2 | C108: 100µm | E108: ind | F108: litter8 | G108: =_xlfn.CONCAT(A108,"_",C108,"_",F108,) -> 2021-03_W05_inlet2_100µm_litter8 | J108: =CONCATENATE(B108,"_",F108) -> BE2021/03_W05_GPUMP_Inlet2_litter8 | K108: W | L108: =VLOOKUP(A108,Samples!$D$2:$G$12,4,FALSE) -> 200 | M108: l | N108: 1 | O108: 100 | P108: 5000 | Q108: SW | S108: 8 | T108: =S108*1000/L108 -> 40 | U108: items | X108: 1417 | Y108: µm | AA108: H01 | AB108: fiber | AC108: H0100004 | AD108: transparent | AE108: COLOURLESS | AF108: 1-5mm(LMP) | AH108: Positive | AI108: acceptable | AN108: =Project!$B$2 -> Marine_Plastics_EMFF
A109: 2021-03_W05_inlet2 | B109: =VLOOKUP(A109,Samples!$D$2:$E$12,2,FALSE) -> BE2021/03_W05_GPUMP_Inlet2 | C109: 100µm | E109: ind | F109: litter9 | G109: =_xlfn.CONCAT(A109,"_",C109,"_",F109,) -> 2021-03_W05_inlet2_100µm_litter9 | J109: =CONCATENATE(B109,"_",F109) -> BE2021/03_W05_GPUMP_Inlet2_litter9 | K109: W | L109: =VLOOKUP(A109,Samples!$D$2:$G$12,4,FALSE) -> 200 | M109: l | N109: 1 | O109: 100 | P109: 5000 | Q109: SW | S109: 8 | T109: =S109*1000/L109 -> 40 | U109: items | X109: 256 | Y109: µm | AA109: H01 | AB109: fiber | AC109: H0100004 | AD109: black | AE109: BLACK | AF109: 100-350µm | AH109: Positive | AI109: acceptable | AN109: =Project!$B$2 -> Marine_Plastics_EMFF
A110: 2021-03_W05_inlet2 | B110: =VLOOKUP(A110,Samples!$D$2:$E$12,2,FALSE) -> BE2021/03_W05_GPUMP_Inlet2 | C110: 100µm | E110: ind | F110: litter10 | G110: =_xlfn.CONCAT(A110,"_",C110,"_",F110,) -> 2021-03_W05_inlet2_100µm_litter10 | J110: =CONCATENATE(B110,"_",F110) -> BE2021/03_W05_GPUMP_Inlet2_litter10 | K110: W | L110: =VLOOKUP(A110,Samples!$D$2:$G$12,4,FALSE) -> 200 | M110: l | N110: 1 | O110: 100 | P110: 5000 | Q110: SW | S110: 8 | T110: =S110*1000/L110 -> 40 | U110: items | X110: 104 | Y110: µm | AA110: H01 | AB110: fragment | AC110: H0100002 | AD110: transparent | AE110: COLOURLESS | AF110: 100-350µm | AH110: Positive | AI110: acceptable | AN110: =Project!$B$2 -> Marine_Plastics_EMFF
A111: 2021-03_W05_inlet3 | B111: =VLOOKUP(A111,Samples!$D$2:$E$12,2,FALSE) -> BE2021/03_W05_GPUMP_Inlet3 | C111: 100µm | E111: ind | F111: litter4 | G111: =_xlfn.CONCAT(A111,"_",C111,"_",F111,) -> 2021-03_W05_inlet3_100µm_litter4 | J111: =CONCATENATE(B111,"_",F111) -> BE2021/03_W05_GPUMP_Inlet3_litter4 | K111: W | L111: =VLOOKUP(A111,Samples!$D$2:$G$12,4,FALSE) -> 200 | M111: l | N111: 1 | O111: 100 | P111: 5000 | Q111: SW | S111: 6 | T111: =S111*1000/L111 -> 30 | U111: items | X111: 3067 | Y111: µm | AA111: H01 | AB111: fiber | AC111: H0100004 | AD111: black | AE111: BLACK | AF111: 1-5mm(LMP) | AH111: Positive | AI111: acceptable | AN111: =Project!$B$2 -> Marine_Plastics_EMFF
A112: 2021-03_W05_inlet3 | B112: =VLOOKUP(A112,Samples!$D$2:$E$12,2,FALSE) -> BE2021/03_W05_GPUMP_Inlet3 | C112: 100µm | E112: ind | F112: litter6 | G112: =_xlfn.CONCAT(A112,"_",C112,"_",F112,) -> 2021-03_W05_inlet3_100µm_litter6 | J112: =CONCATENATE(B112,"_",F112) -> BE2021/03_W05_GPUMP_Inlet3_litter6 | K112: W | L112: =VLOOKUP(A112,Samples!$D$2:$G$12,4,FALSE) -> 200 | M112: l | N112: 1 | O112: 100 | P112: 5000 | Q112: SW | S112: 6 | T112: =S112*1000/L112 -> 30 | U112: items | X112: 185 | Y112: µm | AA112: H01 | AB112: fragment | AC112: H0100002 | AD112: other (brown) | AE112: BROWN | AF112: 100-350µm | AH112: Positive | AI112: acceptable | AN112: =Project!$B$2 -> Marine_Plastics_EMFF
A113: 2021-03_W05_inlet3 | B113: =VLOOKUP(A113,Samples!$D$2:$E$12,2,FALSE) -> BE2021/03_W05_GPUMP_Inlet3 | C113: 100µm | E113: ind | F113: litter7 | G113: =_xlfn.CONCAT(A113,"_",C113,"_",F113,) -> 2021-03_W05_inlet3_100µm_litter7 | J113: =CONCATENATE(B113,"_",F113) -> BE2021/03_W05_GPUMP_Inlet3_litter7 | K113: W | L113: =VLOOKUP(A113,Samples!$D$2:$G$12,4,FALSE) -> 200 | M113: l | N113: 1 | O113: 100 | P113: 5000 | Q113: SW | S113: 6 | T113: =S113*1000/L113 -> 30 | U113: items | X113: 3483 | Y113: µm | AA113: H01 | AB113: fiber | AC113: H0100004 | AD113: black | AE113: BLACK | AF113: 1-5mm(LMP) | AH113: Positive | AI113: acceptable | AN113: =Project!$B$2 -> Marine_Plastics_EMFF
A114: 2021-03_W05_inlet3 | B114: =VLOOKUP(A114,Samples!$D$2:$E$12,2,FALSE) -> BE2021/03_W05_GPUMP_Inlet3 | C114: 100µm | E114: ind | F114: litter9 | G114: =_xlfn.CONCAT(A114,"_",C114,"_",F114,) -> 2021-03_W05_inlet3_100µm_litter9 | J114: =CONCATENATE(B114,"_",F114) -> BE2021/03_W05_GPUMP_Inlet3_litter9 | K114: W | L114: =VLOOKUP(A114,Samples!$D$2:$G$12,4,FALSE) -> 200 | M114: l | N114: 1 | O114: 100 | P114: 5000 | Q114: SW | S114: 6 | T114: =S114*1000/L114 -> 30 | U114: items | X114: 319 | Y114: µm | AA114: H01 | AB114: fragment | AC114: H0100002 | AD114: transparent | AE114: COLOURLESS | AF114: 100-350µm | AH114: Positive | AI114: acceptable | AN114: =Project!$B$2 -> Marine_Plastics_EMFF
A115: 2021-03_W05_inlet3 | B115: =VLOOKUP(A115,Samples!$D$2:$E$12,2,FALSE) -> BE2021/03_W05_GPUMP_Inlet3 | C115: 100µm | E115: ind | F115: litter10 | G115: =_xlfn.CONCAT(A115,"_",C115,"_",F115,) -> 2021-03_W05_inlet3_100µm_litter10 | J115: =CONCATENATE(B115,"_",F115) -> BE2021/03_W05_GPUMP_Inlet3_litter10 | K115: W | L115: =VLOOKUP(A115,Samples!$D$2:$G$12,4,FALSE) -> 200 | M115: l | N115: 1 | O115: 100 | P115: 5000 | Q115: SW | S115: 6 | T115: =S115*1000/L115 -> 30 | U115: items | X115: 211 | Y115: µm | AA115: H01 | AB115: fragment | AC115: H0100002 | AD115: blue | AE115: BLUE | AF115: 100-350µm | AH115: Positive | AI115: acceptable | AN115: =Project!$B$2 -> Marine_Plastics_EMFF
A116: 2021-03_W05_inlet3 | B116: =VLOOKUP(A116,Samples!$D$2:$E$12,2,FALSE) -> BE2021/03_W05_GPUMP_Inlet3 | C116: 100µm | E116: ind | F116: litter14 | G116: =_xlfn.CONCAT(A116,"_",C116,"_",F116,) -> 2021-03_W05_inlet3_100µm_litter14 | J116: =CONCATENATE(B116,"_",F116) -> BE2021/03_W05_GPUMP_Inlet3_litter14 | K116: W | L116: =VLOOKUP(A116,Samples!$D$2:$G$12,4,FALSE) -> 200 | M116: l | N116: 1 | O116: 100 | P116: 5000 | Q116: SW | S116: 6 | T116: =S116*1000/L116 -> 30 | U116: items | X116: 181 | Y116: µm | AA116: H01 | AB116: fragment | AC116: H0100002 | AD116: black | AE116: BLACK | AF116: 100-350µm | AH116: Positive | AI116: acceptable | AN116: =Project!$B$2 -> Marine_Plastics_EMFF
A117: 2021-03_W08_inlet2 | B117: =VLOOKUP(A117,Samples!$D$2:$E$12,2,FALSE) -> BE2021/03_W08_GPUMP_Inlet2 | C117: 100µm | E117: ind | F117: litter1 | G117: =_xlfn.CONCAT(A117,"_",C117,"_",F117,) -> 2021-03_W08_inlet2_100µm_litter1 | J117: =CONCATENATE(B117,"_",F117) -> BE2021/03_W08_GPUMP_Inlet2_litter1 | K117: W | L117: =VLOOKUP(A117,Samples!$D$2:$G$12,4,FALSE) -> 300 | M117: l | N117: 1 | O117: 100 | P117: 5000 | Q117: SW | R117: 3 | S117: 3 | T117: =S117*1000/L117 -> 10 | U117: items | X117: 147 | Y117: µm | AA117: H01 | AB117: fragment | AC117: H0100002 | AD117: transparent | AE117: COLOURLESS | AF117: 100-350µm | AH117: Positive | AI117: acceptable | AN117: =Project!$B$2 -> Marine_Plastics_EMFF
A118: 2021-03_W08_inlet2 | B118: =VLOOKUP(A118,Samples!$D$2:$E$12,2,FALSE) -> BE2021/03_W08_GPUMP_Inlet2 | C118: 100µm | E118: ind | F118: litter2 | G118: =_xlfn.CONCAT(A118,"_",C118,"_",F118,) -> 2021-03_W08_inlet2_100µm_litter2 | J118: =CONCATENATE(B118,"_",F118) -> BE2021/03_W08_GPUMP_Inlet2_litter2 | K118: W | L118: =VLOOKUP(A118,Samples!$D$2:$G$12,4,FALSE) -> 300 | M118: l | N118: 1 | O118: 100 | P118: 5000 | Q118: SW | S118: 3 | T118: =S118*1000/L118 -> 10 | U118: items | X118: 392 | Y118: µm | AA118: H01 | AB118: fiber | AC118: H0100004 | AD118: transparent | AE118: COLOURLESS | AF118: 350-1000µm | AH118: Positive | AI118: acceptable | AN118: =Project!$B$2 -> Marine_Plastics_EMFF
A119: 2021-03_W08_inlet2 | B119: =VLOOKUP(A119,Samples!$D$2:$E$12,2,FALSE) -> BE2021/03_W08_GPUMP_Inlet2 | C119: 100µm | E119: ind | F119: litter3 | G119: =_xlfn.CONCAT(A119,"_",C119,"_",F119,) -> 2021-03_W08_inlet2_100µm_litter3 | J119: =CONCATENATE(B119,"_",F119) -> BE2021/03_W08_GPUMP_Inlet2_litter3 | K119: W | L119: =VLOOKUP(A119,Samples!$D$2:$G$12,4,FALSE) -> 300 | M119: l | N119: 1 | O119: 100 | P119: 5000 | Q119: SW | S119: 3 | T119: =S119*1000/L119 -> 10 | U119: items | X119: 445 | Y119: µm | AA119: H01 | AB119: fiber | AC119: H0100004 | AD119: transparent | AE119: COLOURLESS | AF119: 350-1000µm | AH119: Positive | AI119: acceptable | AN119: =Project!$B$2 -> Marine_Plastics_EMFF
A120: 2021-03_W08_inlet3 | B120: =VLOOKUP(A120,Samples!$D$2:$E$12,2,FALSE) -> BE2021/03_W08_GPUMP_Inlet3 | C120: 100µm | E120: ind | F120: litter1 | G120: =_xlfn.CONCAT(A120,"_",C120,"_",F120,) -> 2021-03_W08_inlet3_100µm_litter1 | J120: =CONCATENATE(B120,"_",F120) -> BE2021/03_W08_GPUMP_Inlet3_litter1 | K120: W | L120: =VLOOKUP(A120,Samples!$D$2:$G$12,4,FALSE) -> 300 | M120: l | N120: 1 | O120: 100 | P120: 5000 | Q120: SW | R120: 13 | S120: 13 | T120: =S120*1000/L120 -> 43.333333 | U120: items | X120: 115 | Y120: µm | AA120: H01 | AB120: fragment | AC120: H0100002 | AD120: blue | AE120: BLUE | AF120: 100-350µm | AH120: Positive | AI120: acceptable | AN120: =Project!$B$2 -> Marine_Plastics_EMFF
A121: 2021-03_W08_inlet3 | B121: =VLOOKUP(A121,Samples!$D$2:$E$12,2,FALSE) -> BE2021/03_W08_GPUMP_Inlet3 | C121: 100µm | E121: ind | F121: litter2 | G121: =_xlfn.CONCAT(A121,"_",C121,"_",F121,) -> 2021-03_W08_inlet3_100µm_litter2 | J121: =CONCATENATE(B121,"_",F121) -> BE2021/03_W08_GPUMP_Inlet3_litter2 | K121: W | L121: =VLOOKUP(A121,Samples!$D$2:$G$12,4,FALSE) -> 300 | M121: l | N121: 1 | O121: 100 | P121: 5000 | Q121: SW | S121: 13 | T121: =S121*1000/L121 -> 43.333333 | U121: items | X121: 291 | Y121: µm | AA121: H01 | AB121: fiber | AC121: H0100004 | AD121: black | AE121: BLACK | AF121: 100-350µm | AH121: Positive | AI121: acceptable | AN121: =Project!$B$2 -> Marine_Plastics_EMFF
A122: 2021-03_W08_inlet3 | B122: =VLOOKUP(A122,Samples!$D$2:$E$12,2,FALSE) -> BE2021/03_W08_GPUMP_Inlet3 | C122: 100µm | E122: ind | F122: litter3 | G122: =_xlfn.CONCAT(A122,"_",C122,"_",F122,) -> 2021-03_W08_inlet3_100µm_litter3 | J122: =CONCATENATE(B122,"_",F122) -> BE2021/03_W08_GPUMP_Inlet3_litter3 | K122: W | L122: =VLOOKUP(A122,Samples!$D$2:$G$12,4,FALSE) -> 300 | M122: l | N122: 1 | O122: 100 | P122: 5000 | Q122: SW | S122: 13 | T122: =S122*1000/L122 -> 43.333333 | U122: items | X122: 108 | Y122: µm | AA122: H01 | AB122: fragment | AC122: H0100002 | AD122: other(pink) | AE122: PINK | AF122: 100-350µm | AH122: Positive | AI122: acceptable | AN122: =Project!$B$2 -> Marine_Plastics_EMFF
A123: 2021-03_W08_inlet3 | B123: =VLOOKUP(A123,Samples!$D$2:$E$12,2,FALSE) -> BE2021/03_W08_GPUMP_Inlet3 | C123: 100µm | E123: ind | F123: litter4 | G123: =_xlfn.CONCAT(A123,"_",C123,"_",F123,) -> 2021-03_W08_inlet3_100µm_litter4 | J123: =CONCATENATE(B123,"_",F123) -> BE2021/03_W08_GPUMP_Inlet3_litter4 | K123: W | L123: =VLOOKUP(A123,Samples!$D$2:$G$12,4,FALSE) -> 300 | M123: l | N123: 1 | O123: 100 | P123: 5000 | Q123: SW | S123: 13 | T123: =S123*1000/L123 -> 43.333333 | U123: items | X123: 510 | Y123: µm | AA123: H01 | AB123: fiber | AC123: H0100004 | AD123: black | AE123: BLACK | AF123: 350-1000µm | AH123: Positive | AI123: acceptable | AN123: =Project!$B$2 -> Marine_Plastics_EMFF
A124: 2021-03_W08_inlet3 | B124: =VLOOKUP(A124,Samples!$D$2:$E$12,2,FALSE) -> BE2021/03_W08_GPUMP_Inlet3 | C124: 100µm | E124: ind | F124: litter5 | G124: =_xlfn.CONCAT(A124,"_",C124,"_",F124,) -> 2021-03_W08_inlet3_100µm_litter5 | J124: =CONCATENATE(B124,"_",F124) -> BE2021/03_W08_GPUMP_Inlet3_litter5 | K124: W | L124: =VLOOKUP(A124,Samples!$D$2:$G$12,4,FALSE) -> 300 | M124: l | N124: 1 | O124: 100 | P124: 5000 | Q124: SW | S124: 13 | T124: =S124*1000/L124 -> 43.333333 | U124: items | X124: 240 | Y124: µm | AA124: H01 | AB124: fiber | AC124: H0100004 | AD124: other (yellow) | AE124: YELLOW | AF124: 100-350µm | AH124: Positive | AI124: acceptable | AN124: =Project!$B$2 -> Marine_Plastics_EMFF
A125: 2021-03_W08_inlet3 | B125: =VLOOKUP(A125,Samples!$D$2:$E$12,2,FALSE) -> BE2021/03_W08_GPUMP_Inlet3 | C125: 100µm | E125: ind | F125: litter6 | G125: =_xlfn.CONCAT(A125,"_",C125,"_",F125,) -> 2021-03_W08_inlet3_100µm_litter6 | J125: =CONCATENATE(B125,"_",F125) -> BE2021/03_W08_GPUMP_Inlet3_litter6 | K125: W | L125: =VLOOKUP(A125,Samples!$D$2:$G$12,4,FALSE) -> 300 | M125: l | N125: 1 | O125: 100 | P125: 5000 | Q125: SW | S125: 13 | T125: =S125*1000/L125 -> 43.333333 | U125: items | X125: 606 | Y125: µm | AA125: H01 | AB125: fiber | AC125: H0100004 | AD125: transparent | AE125: COLOURLESS | AF125: 350-1000µm | AH125: Positive | AI125: acceptable | AN125: =Project!$B$2 -> Marine_Plastics_EMFF
A126: 2021-03_W08_inlet3 | B126: =VLOOKUP(A126,Samples!$D$2:$E$12,2,FALSE) -> BE2021/03_W08_GPUMP_Inlet3 | C126: 100µm | E126: ind | F126: litter7 | G126: =_xlfn.CONCAT(A126,"_",C126,"_",F126,) -> 2021-03_W08_inlet3_100µm_litter7 | J126: =CONCATENATE(B126,"_",F126) -> BE2021/03_W08_GPUMP_Inlet3_litter7 | K126: W | L126: =VLOOKUP(A126,Samples!$D$2:$G$12,4,FALSE) -> 300 | M126: l | N126: 1 | O126: 100 | P126: 5000 | Q126: SW | S126: 13 | T126: =S126*1000/L126 -> 43.333333 | U126: items | X126: 1703 | Y126: µm | AA126: H01 | AB126: fiber | AC126: H0100004 | AD126: transparent | AE126: COLOURLESS | AF126: 1-5mm(LMP) | AH126: Positive | AI126: acceptable | AN126: =Project!$B$2 -> Marine_Plastics_EMFF
A127: 2021-03_W08_inlet3 | B127: =VLOOKUP(A127,Samples!$D$2:$E$12,2,FALSE) -> BE2021/03_W08_GPUMP_Inlet3 | C127: 100µm | E127: ind | F127: litter8 | G127: =_xlfn.CONCAT(A127,"_",C127,"_",F127,) -> 2021-03_W08_inlet3_100µm_litter8 | J127: =CONCATENATE(B127,"_",F127) -> BE2021/03_W08_GPUMP_Inlet3_litter8 | K127: W | L127: =VLOOKUP(A127,Samples!$D$2:$G$12,4,FALSE) -> 300 | M127: l | N127: 1 | O127: 100 | P127: 5000 | Q127: SW | S127: 13 | T127: =S127*1000/L127 -> 43.333333 | U127: items | X127: 1375 | Y127: µm | AA127: H01 | AB127: fiber | AC127: H0100004 | AD127: transparent | AE127: COLOURLESS | AF127: 1-5mm(LMP) | AH127: Positive | AI127: acceptable | AN127: =Project!$B$2 -> Marine_Plastics_EMFF
A128: 2021-03_W08_inlet3 | B128: =VLOOKUP(A128,Samples!$D$2:$E$12,2,FALSE) -> BE2021/03_W08_GPUMP_Inlet3 | C128: 100µm | E128: ind | F128: litter9 | G128: =_xlfn.CONCAT(A128,"_",C128,"_",F128,) -> 2021-03_W08_inlet3_100µm_litter9 | J128: =CONCATENATE(B128,"_",F128) -> BE2021/03_W08_GPUMP_Inlet3_litter9 | K128: W | L128: =VLOOKUP(A128,Samples!$D$2:$G$12,4,FALSE) -> 300 | M128: l | N128: 1 | O128: 100 | P128: 5000 | Q128: SW | S128: 13 | T128: =S128*1000/L128 -> 43.333333 | U128: items | X128: 376 | Y128: µm | AA128: H01 | AB128: fiber | AC128: H0100004 | AD128: transparent | AE128: COLOURLESS | AF128: 350-1000µm | AH128: Positive | AI128: acceptable | AN128: =Project!$B$2 -> Marine_Plastics_EMFF
A129: 2021-03_W08_inlet3 | B129: =VLOOKUP(A129,Samples!$D$2:$E$12,2,FALSE) -> BE2021/03_W08_GPUMP_Inlet3 | C129: 100µm | E129: ind | F129: litter10 | G129: =_xlfn.CONCAT(A129,"_",C129,"_",F129,) -> 2021-03_W08_inlet3_100µm_litter10 | J129: =CONCATENATE(B129,"_",F129) -> BE2021/03_W08_GPUMP_Inlet3_litter10 | K129: W | L129: =VLOOKUP(A129,Samples!$D$2:$G$12,4,FALSE) -> 300 | M129: l | N129: 1 | O129: 100 | P129: 5000 | Q129: SW | S129: 13 | T129: =S129*1000/L129 -> 43.333333 | U129: items | X129: 805 | Y129: µm | AA129: H01 | AB129: fiber | AC129: H0100004 | AD129: transparent | AE129: COLOURLESS | AF129: 350-1000µm | AH129: Positive | AI129: acceptable | AN129: =Project!$B$2 -> Marine_Plastics_EMFF
A130: 2021-03_W08_inlet3 | B130: =VLOOKUP(A130,Samples!$D$2:$E$12,2,FALSE) -> BE2021/03_W08_GPUMP_Inlet3 | C130: 100µm | E130: ind | F130: litter11 | G130: =_xlfn.CONCAT(A130,"_",C130,"_",F130,) -> 2021-03_W08_inlet3_100µm_litter11 | J130: =CONCATENATE(B130,"_",F130) -> BE2021/03_W08_GPUMP_Inlet3_litter11 | K130: W | L130: =VLOOKUP(A130,Samples!$D$2:$G$12,4,FALSE) -> 300 | M130: l | N130: 1 | O130: 100 | P130: 5000 | Q130: SW | S130: 13 | T130: =S130*1000/L130 -> 43.333333 | U130: items | X130: 1179 | Y130: µm | AA130: H01 | AB130: fiber | AC130: H0100004 | AD130: transparent | AE130: COLOURLESS | AF130: 1-5mm(LMP) | AH130: Positive | AI130: acceptable | AN130: =Project!$B$2 -> Marine_Plastics_EMFF
A131: 2021-03_W08_inlet3 | B131: =VLOOKUP(A131,Samples!$D$2:$E$12,2,FALSE) -> BE2021/03_W08_GPUMP_Inlet3 | C131: 100µm | E131: ind | F131: litter12 | G131: =_xlfn.CONCAT(A131,"_",C131,"_",F131,) -> 2021-03_W08_inlet3_100µm_litter12 | J131: =CONCATENATE(B131,"_",F131) -> BE2021/03_W08_GPUMP_Inlet3_litter12 | K131: W | L131: =VLOOKUP(A131,Samples!$D$2:$G$12,4,FALSE) -> 300 | M131: l | N131: 1 | O131: 100 | P131: 5000 | Q131: SW | S131: 13 | T131: =S131*1000/L131 -> 43.333333 | U131: items | X131: 214 | Y131: µm | AA131: H01 | AB131: fragment | AC131: H0100002 | AD131: transparent | AE131: COLOURLESS | AF131: 100-350µm | AH131: Positive | AI131: acceptable | AN131: =Project!$B$2 -> Marine_Plastics_EMFF
A132: 2021-03_MOW1_Niskin | B132: =VLOOKUP(A132,Samples!$D$2:$E$12,2,FALSE) -> BE2021/03_MOW1_NI5_niskin | C132: 100µm | E132: ind | F132: litter1 | G132: =_xlfn.CONCAT(A132,"_",C132,"_",F132,) -> 2021-03_MOW1_Niskin_100µm_litter1 | J132: =CONCATENATE(B132,"_",F132) -> BE2021/03_MOW1_NI5_niskin_litter1 | K132: W | L132: =VLOOKUP(A132,Samples!$D$2:$G$12,4,FALSE) -> 75 | M132: l | N132: 1 | O132: 100 | P132: 5000 | Q132: SW | R132: 130_138 | S132: 127 | T132: =S132*1000/L132 -> 1693.3333 | U132: items | X132: 2770 | Y132: µm | AA132: H01 | AB132: fiber | AC132: H0100004 | AD132: blue | AE132: BLUE | AF132: 1-5mm(LMP) | AH132: Positive | AI132: acceptable | AN132: =Project!$B$2 -> Marine_Plastics_EMFF
A133: 2021-03_MOW1_Niskin | B133: =VLOOKUP(A133,Samples!$D$2:$E$12,2,FALSE) -> BE2021/03_MOW1_NI5_niskin | C133: 100µm | E133: ind | F133: litter4 | G133: =_xlfn.CONCAT(A133,"_",C133,"_",F133,) -> 2021-03_MOW1_Niskin_100µm_litter4 | J133: =CONCATENATE(B133,"_",F133) -> BE2021/03_MOW1_NI5_niskin_litter4 | K133: W | L133: =VLOOKUP(A133,Samples!$D$2:$G$12,4,FALSE) -> 75 | M133: l | N133: 1 | O133: 100 | P133: 5000 | Q133: SW | S133: 127 | T133: =S133*1000/L133 -> 1693.3333 | U133: items | X133: 2183 | Y133: µm | AA133: H01 | AB133: fiber | AC133: H0100004 | AD133: transparent | AE133: COLOURLESS | AF133: 1-5mm(LMP) | AH133: Positive | AI133: acceptable | AN133: =Project!$B$2 -> Marine_Plastics_EMFF
A134: 2021-03_MOW1_Niskin | B134: =VLOOKUP(A134,Samples!$D$2:$E$12,2,FALSE) -> BE2021/03_MOW1_NI5_niskin | C134: 100µm | E134: ind | F134: litter6 | G134: =_xlfn.CONCAT(A134,"_",C134,"_",F134,) -> 2021-03_MOW1_Niskin_100µm_litter6 | J134: =CONCATENATE(B134,"_",F134) -> BE2021/03_MOW1_NI5_niskin_litter6 | K134: W | L134: =VLOOKUP(A134,Samples!$D$2:$G$12,4,FALSE) -> 75 | M134: l | N134: 1 | O134: 100 | P134: 5000 | Q134: SW | S134: 127 | T134: =S134*1000/L134 -> 1693.3333 | U134: items | X134: 523 | Y134: µm | AA134: H01 | AB134: fiber | AC134: H0100004 | AD134: black | AE134: BLACK | AF134: 350-1000µm | AH134: Positive | AI134: acceptable | AN134: =Project!$B$2 -> Marine_Plastics_EMFF
A135: 2021-03_MOW1_Niskin | B135: =VLOOKUP(A135,Samples!$D$2:$E$12,2,FALSE) -> BE2021/03_MOW1_NI5_niskin | C135: 100µm | E135: ind | F135: litter7 | G135: =_xlfn.CONCAT(A135,"_",C135,"_",F135,) -> 2021-03_MOW1_Niskin_100µm_litter7 | J135: =CONCATENATE(B135,"_",F135) -> BE2021/03_MOW1_NI5_niskin_litter7 | K135: W | L135: =VLOOKUP(A135,Samples!$D$2:$G$12,4,FALSE) -> 75 | M135: l | N135: 1 | O135: 100 | P135: 5000 | Q135: SW | S135: 127 | T135: =S135*1000/L135 -> 1693.3333 | U135: items | X135: 909 | Y135: µm | AA135: H01 | AB135: fiber | AC135: H0100004 | AD135: black | AE135: BLACK | AF135: 350-1000µm | AH135: Positive | AI135: acceptable | AN135: =Project!$B$2 -> Marine_Plastics_EMFF
A136: 2021-03_MOW1_Niskin | B136: =VLOOKUP(A136,Samples!$D$2:$E$12,2,FALSE) -> BE2021/03_MOW1_NI5_niskin | C136: 100µm | E136: ind | F136: litter9 | G136: =_xlfn.CONCAT(A136,"_",C136,"_",F136,) -> 2021-03_MOW1_Niskin_100µm_litter9 | J136: =CONCATENATE(B136,"_",F136) -> BE2021/03_MOW1_NI5_niskin_litter9 | K136: W | L136: =VLOOKUP(A136,Samples!$D$2:$G$12,4,FALSE) -> 75 | M136: l | N136: 1 | O136: 100 | P136: 5000 | Q136: SW | S136: 127 | T136: =S136*1000/L136 -> 1693.3333 | U136: items | X136: 1137 | Y136: µm | AA136: H01 | AB136: fiber | AC136: H0100004 | AD136: blue | AE136: BLUE | AF136: 1-5mm(LMP) | AH136: Positive | AI136: acceptable | AN136: =Project!$B$2 -> Marine_Plastics_EMFF
A137: 2021-03_MOW1_Niskin | B137: =VLOOKUP(A137,Samples!$D$2:$E$12,2,FALSE) -> BE2021/03_MOW1_NI5_niskin | C137: 100µm | E137: ind | F137: litter11 | G137: =_xlfn.CONCAT(A137,"_",C137,"_",F137,) -> 2021-03_MOW1_Niskin_100µm_litter11 | J137: =CONCATENATE(B137,"_",F137) -> BE2021/03_MOW1_NI5_niskin_litter11 | K137: W | L137: =VLOOKUP(A137,Samples!$D$2:$G$12,4,FALSE) -> 75 | M137: l | N137: 1 | O137: 100 | P137: 5000 | Q137: SW | S137: 127 | T137: =S137*1000/L137 -> 1693.3333 | U137: items | X137: 688 | Y137: µm | AA137: H01 | AB137: film | AC137: H0100005 | AD137: other (grey) | AE137: GREY | AF137: 350-1000µm | AH137: Positive | AI137: acceptable | AN137: =Project!$B$2 -> Marine_Plastics_EMFF
A138: 2021-03_MOW1_Niskin | B138: =VLOOKUP(A138,Samples!$D$2:$E$12,2,FALSE) -> BE2021/03_MOW1_NI5_niskin | C138: 100µm | E138: ind | F138: litter12 | G138: =_xlfn.CONCAT(A138,"_",C138,"_",F138,) -> 2021-03_MOW1_Niskin_100µm_litter12 | J138: =CONCATENATE(B138,"_",F138) -> BE2021/03_MOW1_NI5_niskin_litter12 | K138: W | L138: =VLOOKUP(A138,Samples!$D$2:$G$12,4,FALSE) -> 75 | M138: l | N138: 1 | O138: 100 | P138: 5000 | Q138: SW | S138: 127 | T138: =S138*1000/L138 -> 1693.3333 | U138: items | X138: 2532 | Y138: µm | AA138: H01 | AB138: fiber | AC138: H0100004 | AD138: transparent | AE138: COLOURLESS | AF138: 1-5mm(LMP) | AH138: Positive | AI138: acceptable | AN138: =Project!$B$2 -> Marine_Plastics_EMFF
A139: 2021-03_MOW1_Niskin | B139: =VLOOKUP(A139,Samples!$D$2:$E$12,2,FALSE) -> BE2021/03_MOW1_NI5_niskin | C139: 100µm | E139: ind | F139: litter14 | G139: =_xlfn.CONCAT(A139,"_",C139,"_",F139,) -> 2021-03_MOW1_Niskin_100µm_litter14 | J139: =CONCATENATE(B139,"_",F139) -> BE2021/03_MOW1_NI5_niskin_litter14 | K139: W | L139: =VLOOKUP(A139,Samples!$D$2:$G$12,4,FALSE) -> 75 | M139: l | N139: 1 | O139: 100 | P139: 5000 | Q139: SW | S139: 127 | T139: =S139*1000/L139 -> 1693.3333 | U139: items | X139: 2062 | Y139: µm | AA139: H01 | AB139: fiber | AC139: H0100004 | AD139: transparent | AE139: COLOURLESS | AF139: 1-5mm(LMP) | AH139: Positive | AI139: acceptable | AN139: =Project!$B$2 -> Marine_Plastics_EMFF
A140: 2021-03_MOW1_Niskin | B140: =VLOOKUP(A140,Samples!$D$2:$E$12,2,FALSE) -> BE2021/03_MOW1_NI5_niskin | C140: 100µm | E140: ind | F140: litter15 | G140: =_xlfn.CONCAT(A140,"_",C140,"_",F140,) -> 2021-03_MOW1_Niskin_100µm_litter15 | J140: =CONCATENATE(B140,"_",F140) -> BE2021/03_MOW1_NI5_niskin_litter15 | K140: W | L140: =VLOOKUP(A140,Samples!$D$2:$G$12,4,FALSE) -> 75 | M140: l | N140: 1 | O140: 100 | P140: 5000 | Q140: SW | S140: 127 | T140: =S140*1000/L140 -> 1693.3333 | U140: items | X140: 2351 | Y140: µm | AA140: H01 | AB140: fiber | AC140: H0100004 | AD140: transparent | AE140: COLOURLESS | AF140: 1-5mm(LMP) | AH140: Positive | AI140: acceptable | AN140: =Project!$B$2 -> Marine_Plastics_EMFF
A141: 2021-03_MOW1_Niskin | B141: =VLOOKUP(A141,Samples!$D$2:$E$12,2,FALSE) -> BE2021/03_MOW1_NI5_niskin | C141: 100µm | E141: ind | F141: litter16 | G141: =_xlfn.CONCAT(A141,"_",C141,"_",F141,) -> 2021-03_MOW1_Niskin_100µm_litter16 | J141: =CONCATENATE(B141,"_",F141) -> BE2021/03_MOW1_NI5_niskin_litter16 | K141: W | L141: =VLOOKUP(A141,Samples!$D$2:$G$12,4,FALSE) -> 75 | M141: l | N141: 1 | O141: 100 | P141: 5000 | Q141: SW | S141: 127 | T141: =S141*1000/L141 -> 1693.3333 | U141: items | X141: 991 | Y141: µm | AA141: H01 | AB141: fiber | AC141: H0100004 | AD141: transparent | AE141: COLOURLESS | AF141: 350-1000µm | AH141: Positive | AI141: acceptable | AN141: =Project!$B$2 -> Marine_Plastics_EMFF
A142: 2021-03_MOW1_Niskin | B142: =VLOOKUP(A142,Samples!$D$2:$E$12,2,FALSE) -> BE2021/03_MOW1_NI5_niskin | C142: 100µm | E142: ind | F142: litter17 | G142: =_xlfn.CONCAT(A142,"_",C142,"_",F142,) -> 2021-03_MOW1_Niskin_100µm_litter17 | J142: =CONCATENATE(B142,"_",F142) -> BE2021/03_MOW1_NI5_niskin_litter17 | K142: W | L142: =VLOOKUP(A142,Samples!$D$2:$G$12,4,FALSE) -> 75 | M142: l | N142: 1 | O142: 100 | P142: 5000 | Q142: SW | S142: 127 | T142: =S142*1000/L142 -> 1693.3333 | U142: items | X142: 152 | Y142: µm | AA142: H01 | AB142: fiber | AC142: H0100004 | AD142: transparent | AE142: COLOURLESS | AF142: 100-350µm | AH142: Positive | AI142: acceptable | AN142: =Project!$B$2 -> Marine_Plastics_EMFF
A143: 2021-03_MOW1_Niskin | B143: =VLOOKUP(A143,Samples!$D$2:$E$12,2,FALSE) -> BE2021/03_MOW1_NI5_niskin | C143: 100µm | E143: ind | F143: litter18 | G143: =_xlfn.CONCAT(A143,"_",C143,"_",F143,) -> 2021-03_MOW1_Niskin_100µm_litter18 | J143: =CONCATENATE(B143,"_",F143) -> BE2021/03_MOW1_NI5_niskin_litter18 | K143: W | L143: =VLOOKUP(A143,Samples!$D$2:$G$12,4,FALSE) -> 75 | M143: l | N143: 1 | O143: 100 | P143: 5000 | Q143: SW | S143: 127 | T143: =S143*1000/L143 -> 1693.3333 | U143: items | X143: 384 | Y143: µm | AA143: H01 | AB143: fragment | AC143: H0100002 | AD143: other (grey) | AE143: GREY | AF143: 350-1000µm | AH143: Positive | AI143: acceptable | AN143: =Project!$B$2 -> Marine_Plastics_EMFF
A144: 2021-03_MOW1_Niskin | B144: =VLOOKUP(A144,Samples!$D$2:$E$12,2,FALSE) -> BE2021/03_MOW1_NI5_niskin | C144: 100µm | E144: ind | F144: litter19 | G144: =_xlfn.CONCAT(A144,"_",C144,"_",F144,) -> 2021-03_MOW1_Niskin_100µm_litter19 | J144: =CONCATENATE(B144,"_",F144) -> BE2021/03_MOW1_NI5_niskin_litter19 | K144: W | L144: =VLOOKUP(A144,Samples!$D$2:$G$12,4,FALSE) -> 75 | M144: l | N144: 1 | O144: 100 | P144: 5000 | Q144: SW | S144: 127 | T144: =S144*1000/L144 -> 1693.3333 | U144: items | X144: 223 | Y144: µm | AA144: H01 | AB144: fiber | AC144: H0100004 | AD144: black | AE144: BLACK | AF144: 100-350µm | AH144: Positive | AI144: acceptable | AN144: =Project!$B$2 -> Marine_Plastics_EMFF
... A258: 2021-03_MOW1_Niskin | B258: =VLOOKUP(A258,Samples!$D$2:$E$12,2,FALSE) -> BE2021/03_MOW1_NI5_niskin | C258: 100µm | E258: ind | F258: litter138 | G258: =_xlfn.CONCAT(A258,"_",C258,"_",F258,) -> 2021-03_MOW1_Niskin_100µm_litter138 | J258: =CONCATENATE(B258,"_",F258) -> BE2021/03_MOW1_NI5_niskin_litter138 | K258: W | L258: =VLOOKUP(A258,Samples!$D$2:$G$12,4,FALSE) -> 75 | M258: l | N258: 1 | O258: 100 | P258: 5000 | Q258: SW | S258: 127 | T258: =S258*1000/L258 -> 1693.3333 | U258: items | X258: 535 | Y258: µm | AA258: H01 | AB258: fiber | AC258: H0100004 | AD258: transparent | AE258: COLOURLESS | AF258: 350-1000µm | AH258: Positive | AI258: acceptable | AN258: =Project!$B$2 -> Marine_Plastics_EMFF

Sheet Analytical method
A1: Parameter name | B1: Matrix | C1: Unit | D1: Unit converted | E1: Analytical laboratory code | F1: LSIZLIM (µm) | G1: USIZLIM (µm) | H1: Sample preservation | I1: Sample separation | J1: ICES::METPS | K1: Sample pretreatment | L1: ICES::METPT | M1: Description of sample handling | N1: Extraction method | O1: ICES::METCX | P1: Analysis method description | Q1: ICES::METOA
A2: TotalCount (WW) | B2: SW | C2: items/1000l | E2: RBINS-OST | F2: 100 | G2: 5000 | H2: F2 | K2: Filtered with fiber filter - glass fiber with particle retention diameter 1.2 µm | L2: FF-GF-1.2 | M2: On vessel: Continuous seawater inlet pump sampling: with pipes equiped with flowmeter, open the inlet and let it flow trough a cascade of sieves (100µm; 63µm) until 100l (or 200l) are filtered, recuperation of the samples in the sieves (washed with MilliQ) in glass bottles stored at -20°C until processed. At the lab: defrost, addition of digestive reagents (KOH) placed for ~72h at 40°C , filtration on glass fiber filter, visual observation with stereomicroscope, hot needle test, µFTIR identification for subsample of suspect particles. | N2: Potassium Hydroxide | O2: HPX | P2: Visual observation/identification | Q2: VISO
A3: MaxLenght | B3: SW | C3: µm | E3: RBINS-OST | F3: 100 | G3: 5000 | H3: F2 | K3: Filtered with fiber filter - glass fiber with particle retention diameter 1.2 µm | L3: FF-GF-1.2 | M3: On vessel: Continuous seawater inlet pump sampling: with pipes equiped with flowmeter, open the inlet and let it flow trough a cascade of sieves (100µm; 63µm) until 100l (or 200l) are filtered, recuperation of the samples in the sieves (washed with MilliQ) in glass bottles stored at -20°C until processed. At the lab: defrost, addition of digestive reagents (KOH) placed for ~72h at 40°C , filtration on glass fiber filter, visual observation with stereomicroscope, hot needle test, µFTIR identification for subsample of suspect particles. | N3: Potassium Hydroxide | O3: HPX | P3: Visual observation/identification | Q3: VISO
A4: LitterType | B4: SW | E4: RBINS-OST | F4: 100 | G4: 5000 | H4: F2 | K4: Filtered with fiber filter - glass fiber with particle retention diameter 1.2 µm | L4: FF-GF-1.2 | M4: On vessel: Continuous seawater inlet pump sampling: with pipes equiped with flowmeter, open the inlet and let it flow trough a cascade of sieves (100µm; 63µm) until 100l (or 200l) are filtered, recuperation of the samples in the sieves (washed with MilliQ) in glass bottles stored at -20°C until processed. At the lab: defrost, addition of digestive reagents (KOH) placed for ~72h at 40°C , filtration on glass fiber filter, visual observation with stereomicroscope, hot needle test, µFTIR identification for subsample of suspect particles. | N4: Potassium Hydroxide | O4: HPX | P4: Visual observation/identification | Q4: VISO
A5: LitterColour | B5: SW | E5: RBINS-OST | F5: 100 | G5: 5000 | H5: F2 | K5: Filtered with fiber filter - glass fiber with particle retention diameter 1.2 µm | L5: FF-GF-1.2 | M5: On vessel: Continuous seawater inlet pump sampling: with pipes equiped with flowmeter, open the inlet and let it flow trough a cascade of sieves (100µm; 63µm) until 100l (or 200l) are filtered, recuperation of the samples in the sieves (washed with MilliQ) in glass bottles stored at -20°C until processed. At the lab: defrost, addition of digestive reagents (KOH) placed for ~72h at 40°C , filtration on glass fiber filter, visual observation with stereomicroscope, hot needle test, µFTIR identification for subsample of suspect particles. | N5: Potassium Hydroxide | O5: HPX | P5: Visual observation/identification | Q5: VISO
A6: LitterSizeClass | B6: SW | E6: RBINS-OST | F6: 100 | G6: 5000 | H6: F2 | K6: Filtered with fiber filter - glass fiber with particle retention diameter 1.2 µm | L6: FF-GF-1.2 | M6: On vessel: Continuous seawater inlet pump sampling: with pipes equiped with flowmeter, open the inlet and let it flow trough a cascade of sieves (100µm; 63µm) until 100l (or 200l) are filtered, recuperation of the samples in the sieves (washed with MilliQ) in glass bottles stored at -20°C until processed. At the lab: defrost, addition of digestive reagents (KOH) placed for ~72h at 40°C , filtration on glass fiber filter, visual observation with stereomicroscope, hot needle test, µFTIR identification for subsample of suspect particles. | N6: Potassium Hydroxide | O6: HPX | P6: Visual observation/identification | Q6: VISO
A7: HotNeedleTest | B7: SW | E7: RBINS-OST | F7: 100 | G7: 5000 | H7: F2 | K7: Filtered with fiber filter - glass fiber with particle retention diameter 1.2 µm | L7: FF-GF-1.2 | M7: On vessel: Continuous seawater inlet pump sampling: with pipes equiped with flowmeter, open the inlet and let it flow trough a cascade of sieves (100µm; 63µm) until 100l (or 200l) are filtered, recuperation of the samples in the sieves (washed with MilliQ) in glass bottles stored at -20°C until processed. At the lab: defrost, addition of digestive reagents (KOH) placed for ~72h at 40°C , filtration on glass fiber filter, visual observation with stereomicroscope, hot needle test, µFTIR identification for subsample of suspect particles. | N7: Potassium Hydroxide | O7: HPX | P7: Hot needle test | Q7: HNT
A8: µFTIR_val | B8: SW | E8: RBINS-OST | F8: 100 | G8: 5000 | H8: F2 | K8: FF-GF-1.2 + FM-PTFE-0.45 | L8: FF-GF-1.2 + FM-PTFE-0.45 | M8: On vessel: Continuous seawater inlet pump sampling: with pipes equiped with flowmeter, open the inlet and let it flow trough a cascade of sieves (100µm; 63µm) until 100l (or 200l) are filtered, recuperation of the samples in the sieves (washed with MilliQ) in glass bottles stored at -20°C until processed. At the lab: defrost, addition of digestive reagents (KOH) placed for ~72h at 40°C , filtration on glass fiber filter, visual observation with stereomicroscope, hot needle test, subset/some particles transfered to PTFE for µFTIR identification for subsample of suspect particles. | N8: Potassium Hydroxide | O8: HPX | P8: (Micro) Fourier transform infrared spectroscopy (µFTIR) | Q8: FTIR

Sheet Detection limits
A1: Parameter code | B1: Sample ID | C1: Limit of Detection (LOD) | D1: Start date (dd/mm/yyyy) | E1: End date (dd/mm/yyyy) | F1: UNIT | G1: Basis of determination
A2: ='[1]Analytical method'!$B$2 -> TotalCount (WW) | B2: =Samples!E2 -> BE2021/03_W05_GPUMP_Inlet1 | C2: 2.8 | F2: items/100l | G2: WW
A3: ='[1]Analytical method'!$B$2 -> TotalCount (WW) | B3: =Samples!E3 -> BE2021/03_W05_GPUMP_Inlet2 | C3: 2.8 | F3: items/100l | G3: WW
A4: ='[1]Analytical method'!$B$2 -> TotalCount (WW) | B4: =Samples!E4 -> BE2021/03_W05_GPUMP_Inlet3 | C4: 2.8 | F4: items/100l | G4: WW
A5: ='[1]Analytical method'!$B$2 -> TotalCount (WW) | B5: =Samples!E5 -> BE2021/03_W08_GPUMP_Inlet1 | C5: 1.8666667 | F5: items/100l | G5: WW
A6: ='[1]Analytical method'!$B$2 -> TotalCount (WW) | B6: =Samples!E6 -> BE2021/03_W08_GPUMP_Inlet2 | C6: 1.8666667 | F6: items/100l | G6: WW
A7: ='[1]Analytical method'!$B$2 -> TotalCount (WW) | B7: =Samples!E7 -> BE2021/03_W08_GPUMP_Inlet3 | C7: 1.8666667 | F7: items/100l | G7: WW
A8: ='[1]Analytical method'!$B$2 -> TotalCount (WW) | B8: =Samples!E8 -> BE2021/03_MOW1_GPUMP_Inlet1 | C8: 2.8 | F8: items/100l | G8: WW
A9: ='[1]Analytical method'!$B$2 -> TotalCount (WW) | B9: =Samples!E9 -> BE2021/03_MOW1_GPUMP_Inlet2 | C9: 2.8 | F9: items/100l | G9: WW
A10: ='[1]Analytical method'!$B$2 -> TotalCount (WW) | B10: =Samples!E10 -> BE2021/03_MOW1_GPUMP_Inlet3 | C10: 5.6 | F10: items/100l | G10: WW
A11: ='[1]Analytical method'!$B$2 -> TotalCount (WW) | B11: =Samples!E11 -> BE2021/03_MOW1_NI5_niskin | C11: 7.4666667 | F11: items/100l | G11: WW
A12: ='[1]Analytical method'!$B$2 -> TotalCount (WW) | B12: =Samples!E12 -> BE2021/03_MOW1_GPUMP_Inlet4 | C12: 2.8 | F12: items/100l | G12: WW

Sheet Project
A1: Title | B1: Acronym | C1: Start Date | D1: End Date | E1: Ongoing | F1: Geographic coverage | G1: Keywords | H1: Abstract | I1: Service | J1: Other partners | K1: Public
A2: Marine plastics (EMFF) - Micro and macro plastic litter at Belgian fisheries areas: sources, distribution and consequences, 18/UP6/02/Div | B2: Marine_Plastics_EMFF | C2: 2019 | D2: 2021 | E2: N | F2: Belgian Part of the North Sea (BPNS) | G2: MSFD

Sheet Controls Results
A1: Sample ID | B1: Subsample ID | C1: Replicate number | D1: SampleType | E1: Sediment-upper-depth (cm) | F1: Sediment-lower-depth (cm) | G1: Parameter code | H1: Value | I1: Unit | J1: Type | K1: Colour | L1: ICES Type code | M1: ICES colour code | N1: Size class | O1: Hot Needle Test | P1: Quality flag | Q1: Detlim flag | R1: Analysis date (dd/mon/yyyy) | S1: Project Acronym
A2: 2021-03 Control - (09_10-06-2021) | D2: Control - | G2: LitterDiameter-SPM | H2: 1793 | I2: µm | J2: fiber | K2: transparent | N2: 1-5mm(LMP) | O2: Positive
A3: 2021-03 Control - (09_10-06-2021) | D3: Control - | G3: LitterDiameter-SPM | H3: 81 | I3: µm | J3: fragment | K3: transparent | N3: 63-100µm | O3: Positive
A4: 2021-03 Control - (09_10-06-2021) | D4: Control - | G4: LitterDiameter-SPM | H4: 148 | I4: µm | J4: fragment | K4: other (pink) | N4: 100-350µm | O4: Positive
A5: 2021-03 Control - (09_10-06-2021) | D5: Control - | G5: LitterDiameter-SPM | H5: 438 | I5: µm | J5: fragment | K5: transparent | O5: Negative
A6: 2021-03 Control - (09_10-06-2021) | D6: Control - | G6: LitterDiameter-SPM | H6: 3149 | I6: µm | J6: fiber | K6: other (grey) | N6: 1-5mm(LMP) | O6: Positive
A7: 2021-03 Control - (15_17-06-2021) | D7: Control - | G7: LitterDiameter-SPM | H7: 394 | I7: µm | J7: fiber | K7: transparent | N7: 350-1000µm | O7: Positive
A8: 2021-03 Control - (15_17-06-2021) | D8: Control - | G8: LitterDiameter-SPM | H8: 4627 | I8: µm | J8: fiber | K8: transparent | N8: 1-5mm(LMP) | O8: Positive
A9: 2021-03 Control - (15_17-06-2021) | D9: Control - | G9: LitterDiameter-SPM | H9: 120 | I9: µm | J9: fragment | K9: blue | N9: 100-350µm | O9: Positive
A10: 2021-03 Control - (15_17-06-2021) | D10: Control - | G10: LitterDiameter-SPM | H10: 1194 | I10: µm | J10: fiber | K10: transparent | N10: 1-5mm(LMP) | O10: Positive
A11: 2021-03 W05 Control + | D11: Control + | G11: LitterNumber | H11: 1 | I11: items | J11: microbead (<50 µm) | K11: red
A12: 2021-03 W05 Control + | D12: Control + | G12: LitterNumber | H12: 1 | I12: items | J12: fragment | K12: brown
A13: 2021-03 W05 Control + | D13: Control + | G13: LitterNumber | H13: 4 | I13: items | J13: fragment | K13: blue
A14: 2021-03 W05 Control + | D14: Control + | G14: LitterNumber | H14: 15 | I14: items | J14: microbead (<50 µm) | K14: red
